{"text_format":"1","workbook":"xlsx","n_sheets":8,"sheets":["Consumer Price Index","Plant Material Fuel","No Longer Applicable - Plant","Table X12 Indices 2012=100","Table A Indices 2012=100","Discontinued - OLDTABLE A","Discontinued - TABLE B","No Longer Applicable - Table C"],"not_rendered":{"charts":0,"images":0,"macros":0,"external_links":0,"defined_names":11,"comments":0,"pivot_tables":0},"unopened":[],"bounds":{"document_bytes":16777216,"sheet_cells":100000,"rows_first":2000,"rows_last":500,"rows_between":2000,"halvings":0,"cell_chars":16384,"cell_head_chars":4096},"cells_cut":0,"cells_raw":0,"read":"whole","date_system":"1900"}

{"sheet":"Consumer Price Index","index":0,"n_rows":287,"n_cols":23,"rows_kept":287,"cut":false,"hidden":false,"merged":[[248,3,248,11],[249,3,249,11],[235,1,235,2],[231,1,232,2],[231,3,231,11],[232,3,232,11],[233,1,234,1],[233,2,234,2],[233,3,234,3],[233,4,234,4],[233,5,234,5],[233,6,234,6],[233,7,234,7],[233,8,234,8],[233,9,234,9],[233,10,234,10],[233,11,234,11],[248,1,249,2],[228,3,228,11],[229,3,229,11],[212,1,213,2],[212,3,212,11],[213,3,213,11],[214,1,215,1],[214,2,215,2],[214,3,215,3],[214,4,215,4],[214,5,215,5],[214,6,215,6],[214,7,215,7],[214,8,215,8],[214,9,215,9],[214,10,215,10],[214,11,215,11],[187,3,187,11],[188,3,188,11],[171,1,172,2],[171,3,171,11],[172,3,172,11],[173,1,174,1],[173,2,174,2],[173,3,174,3],[173,4,174,4],[173,5,174,5],[173,6,174,6],[173,7,174,7],[173,8,174,8],[173,9,174,9],[173,10,174,10],[173,11,174,11],[124,25,125,26],[13,10,14,10],[13,11,14,11],[3,19,4,22],[3,7,4,11],[6,1,6,2],[12,1,12,2],[12,14,12,22],[13,1,14,1],[13,2,14,2],[13,3,14,3],[13,4,14,4],[13,5,14,5],[8,1,10,1],[123,1,124,2],[123,3,123,11],[123,13,123,22],[124,3,124,11],[124,13,124,22],[137,3,137,11],[137,13,137,22],[138,3,138,11],[138,13,138,22],[13,20,14,20],[13,21,13,22],[13,13,14,13],[13,14,14,14],[13,15,14,15],[13,16,14,16],[13,17,14,17],[13,19,14,19],[13,6,14,6],[13,7,14,7],[13,8,14,8],[13,9,14,9],[166,3,166,11],[167,3,167,11],[149,1,150,2],[149,3,149,11],[150,3,150,11],[151,1,152,1],[151,2,152,2],[151,3,152,3],[151,4,152,4],[151,5,152,5],[151,6,152,6],[151,7,152,7],[151,8,152,8],[151,9,152,9],[151,10,152,10],[151,11,152,11],[208,3,208,11],[209,3,209,11],[192,1,193,2],[192,3,192,11],[193,3,193,11],[194,1,195,1],[194,2,195,2],[194,3,195,3],[194,4,195,4],[194,5,195,5],[194,6,195,6],[194,7,195,7],[194,8,195,8],[194,9,195,9],[194,10,195,10],[194,11,195,11],[250,10,251,10],[250,11,251,11],[252,1,252,2],[250,1,251,1],[250,2,251,2],[250,3,251,3],[250,4,251,4],[250,5,251,5],[250,6,251,6],[250,7,251,7],[250,8,251,8],[250,9,251,9],[270,1,270,2],[266,1,267,2],[266,3,266,11],[267,3,267,11],[268,1,269,1],[268,2,269,2],[268,3,269,3],[268,4,269,4],[268,5,269,5],[268,6,269,6],[268,7,269,7],[268,8,269,8],[268,9,269,9],[268,10,269,10],[268,11,269,11]]}
[]
[null,null,null,"Table X16 (Indice base 100 as at Dec 2016)",null,null,null,null,null,null,null,"2016 / 100"]
[]
[null,null,null,"Refer to CPI Index P0141 / Additional Tables",null,null,null,"* The alternative / replacement indices are those published per province found in P0141 Table A / Tables 3 to 11 in the Additional Tables."]
[null,null,null,"Table A or Tables 3 to 11 - CPI for each province"]
[]
[null,"Conversion Factors: ",null,0.79176563740000006,0.78616352199999995,0.77519379840000002,0.77579519009999998,0.8006405124,0.77279752700000004,0.78864353310000002,0.78740157479999995,0.79744816590000001]
[]
[null,"Conversion factor",null,"DEC 2016 = 100"]
[]
[null,null,"2016<--2012",0.79617834389999997,0.7955449483,0.81967213110000003,0.79681274899999999,0.8,0.80906148870000005,0.80192461910000001,0.81103000810000003,0.79051383399999997]
[]
[null,"Table A / Tables *",null,3,4,5,6,7,8,9,10,11]
[null,"Month","Year","Western Cape","Eastern Cape","Northern Cape","Free State","KwaZulu Natal","North West","Gauteng","Mpumalanga","Limpopo"]
[]
[null,1,2008,{"$f":"'Table X12 Indices 2012=100'!D16*$D$11","v":60.111464964450001},{"$f":"'Table X12 Indices 2012=100'!E16*$E$11","v":58.870326174200002},{"$f":"'Table X12 Indices 2012=100'!F16*$F$11","v":61.065573766950003},{"$f":"'Table X12 Indices 2012=100'!G16*$G$11","v":59.362549800499998},{"$f":"'Table X12 Indices 2012=100'!H16*$H$11","v":60.400000000000006},{"$f":"'Table X12 Indices 2012=100'!I16*$I$11","v":60.355987057020002},{"$f":"'Table X12 Indices 2012=100'!J16*$J$11","v":60.625501203959999},{"$f":"'Table X12 Indices 2012=100'!K16*$K$11","v":60.583941605070002},{"$f":"'Table X12 Indices 2012=100'!L16*$L$11","v":59.604743083599999}]
[null,2,2008,{"$f":"'Table X12 Indices 2012=100'!D17*$D$11","v":60.350318467619999},{"$f":"'Table X12 Indices 2012=100'!E17*$E$11","v":59.10898965869},{"$f":"'Table X12 Indices 2012=100'!F17*$F$11","v":61.229508193170005},{"$f":"'Table X12 Indices 2012=100'!G17*$G$11","v":59.601593625199996},{"$f":"'Table X12 Indices 2012=100'!H17*$H$11","v":60.720000000000006},{"$f":"'Table X12 Indices 2012=100'!I17*$I$11","v":60.76051780137},{"$f":"'Table X12 Indices 2012=100'!J17*$J$11","v":61.106655975420004},{"$f":"'Table X12 Indices 2012=100'!K17*$K$11","v":60.827250607500005},{"$f":"'Table X12 Indices 2012=100'!L17*$L$11","v":59.920948617199997}]
[null,3,2008,{"$f":"'Table X12 Indices 2012=100'!D18*$D$11","v":61.305732480300001},{"$f":"'Table X12 Indices 2012=100'!E18*$E$11","v":59.904534606989998},{"$f":"'Table X12 Indices 2012=100'!F18*$F$11","v":61.96721311116},{"$f":"'Table X12 Indices 2012=100'!G18*$G$11","v":60.478087649100004},{"$f":"'Table X12 Indices 2012=100'!H18*$H$11","v":61.2},{"$f":"'Table X12 Indices 2012=100'!I18*$I$11","v":61.650485438940009},{"$f":"'Table X12 Indices 2012=100'!J18*$J$11","v":62.149157980250003},{"$f":"'Table X12 Indices 2012=100'!K18*$K$11","v":61.232765611550001},{"$f":"'Table X12 Indices 2012=100'!L18*$L$11","v":60.553359684399993}]
[null,4,2008,{"$f":"'Table X12 Indices 2012=100'!D19*$D$11","v":61.703821652249999},{"$f":"'Table X12 Indices 2012=100'!E19*$E$11","v":60.381861575970007},{"$f":"'Table X12 Indices 2012=100'!F19*$F$11","v":62.459016389820007},{"$f":"'Table X12 Indices 2012=100'!G19*$G$11","v":60.876494023600003},{"$f":"'Table X12 Indices 2012=100'!H19*$H$11","v":61.760000000000005},{"$f":"'Table X12 Indices 2012=100'!I19*$I$11","v":62.13592233216},{"$f":"'Table X12 Indices 2012=100'!J19*$J$11","v":62.469927827890004},{"$f":"'Table X12 Indices 2012=100'!K19*$K$11","v":61.557177614790007},{"$f":"'Table X12 Indices 2012=100'!L19*$L$11","v":61.106719368199997}]
[null,5,2008,{"$f":"'Table X12 Indices 2012=100'!D20*$D$11","v":62.101910824199997},{"$f":"'Table X12 Indices 2012=100'!E20*$E$11","v":60.938743039779993},{"$f":"'Table X12 Indices 2012=100'!F20*$F$11","v":62.950819668480001},{"$f":"'Table X12 Indices 2012=100'!G20*$G$11","v":61.274900398100002},{"$f":"'Table X12 Indices 2012=100'!H20*$H$11","v":62.160000000000004},{"$f":"'Table X12 Indices 2012=100'!I20*$I$11","v":62.621359225380012},{"$f":"'Table X12 Indices 2012=100'!J20*$J$11","v":62.951082599350002},{"$f":"'Table X12 Indices 2012=100'!K20*$K$11","v":62.124898620459994},{"$f":"'Table X12 Indices 2012=100'!L20*$L$11","v":61.343873518399995}]
[null,6,2008,{"$f":"'Table X12 Indices 2012=100'!D21*$D$11","v":62.738853499319994},{"$f":"'Table X12 Indices 2012=100'!E21*$E$11","v":61.813842482910005},{"$f":"'Table X12 Indices 2012=100'!F21*$F$11","v":63.77049179958},{"$f":"'Table X12 Indices 2012=100'!G21*$G$11","v":61.992031872199995},{"$f":"'Table X12 Indices 2012=100'!H21*$H$11","v":63.360000000000007},{"$f":"'Table X12 Indices 2012=100'!I21*$I$11","v":63.511326862950007},{"$f":"'Table X12 Indices 2012=100'!J21*$J$11","v":63.913392142270006},{"$f":"'Table X12 Indices 2012=100'!K21*$K$11","v":62.935928628559999},{"$f":"'Table X12 Indices 2012=100'!L21*$L$11","v":62.371541502600003}]
[null,7,2008,{"$f":"'Table X12 Indices 2012=100'!D22*$D$11","v":63.614649677610004},{"$f":"'Table X12 Indices 2012=100'!E22*$E$11","v":62.609387431210003},{"$f":"'Table X12 Indices 2012=100'!F22*$F$11","v":64.426229504459997},{"$f":"'Table X12 Indices 2012=100'!G22*$G$11","v":62.709163346300002},{"$f":"'Table X12 Indices 2012=100'!H22*$H$11","v":64.48},{"$f":"'Table X12 Indices 2012=100'!I22*$I$11","v":64.23948220278001},{"$f":"'Table X12 Indices 2012=100'!J22*$J$11","v":64.635124299460003},{"$f":"'Table X12 Indices 2012=100'!K22*$K$11","v":63.828061637470007},{"$f":"'Table X12 Indices 2012=100'!L22*$L$11","v":63.162055336600005}]
[null,8,2008,{"$f":"'Table X12 Indices 2012=100'!D23*$D$11","v":63.933121015169995},{"$f":"'Table X12 Indices 2012=100'!E23*$E$11","v":63.166268895020004},{"$f":"'Table X12 Indices 2012=100'!F23*$F$11","v":65.163934422449998},{"$f":"'Table X12 Indices 2012=100'!G23*$G$11","v":63.187250995699998},{"$f":"'Table X12 Indices 2012=100'!H23*$H$11","v":64.88},{"$f":"'Table X12 Indices 2012=100'!I23*$I$11","v":64.805825244869993},{"$f":"'Table X12 Indices 2012=100'!J23*$J$11","v":64.955894147099997},{"$f":"'Table X12 Indices 2012=100'!K23*$K$11","v":64.233576641520003},{"$f":"'Table X12 Indices 2012=100'!L23*$L$11","v":63.715415020399995}]
[null,9,2008,{"$f":"'Table X12 Indices 2012=100'!D24*$D$11","v":64.41082802151},{"$f":"'Table X12 Indices 2012=100'!E24*$E$11","v":63.802704853660003},{"$f":"'Table X12 Indices 2012=100'!F24*$F$11","v":65.573770488000008},{"$f":"'Table X12 Indices 2012=100'!G24*$G$11","v":63.6653386451},{"$f":"'Table X12 Indices 2012=100'!H24*$H$11","v":65.2},{"$f":"'Table X12 Indices 2012=100'!I24*$I$11","v":65.372168286960004},{"$f":"'Table X12 Indices 2012=100'!J24*$J$11","v":65.196471532830003},{"$f":"'Table X12 Indices 2012=100'!K24*$K$11","v":64.557988644760002},{"$f":"'Table X12 Indices 2012=100'!L24*$L$11","v":64.031620554}]
[null,10,2008,{"$f":"'Table X12 Indices 2012=100'!D25*$D$11","v":64.649681524680005},{"$f":"'Table X12 Indices 2012=100'!E25*$E$11","v":64.041368338149994},{"$f":"'Table X12 Indices 2012=100'!F25*$F$11","v":65.983606553550004},{"$f":"'Table X12 Indices 2012=100'!G25*$G$11","v":63.824701194899994},{"$f":"'Table X12 Indices 2012=100'!H25*$H$11","v":65.52000000000001},{"$f":"'Table X12 Indices 2012=100'!I25*$I$11","v":65.533980584700004},{"$f":"'Table X12 Indices 2012=100'!J25*$J$11","v":65.276663994740005},{"$f":"'Table X12 Indices 2012=100'!K25*$K$11","v":64.963503648810004},{"$f":"'Table X12 Indices 2012=100'!L25*$L$11","v":64.347826087599998}]
[null,11,2008,{"$f":"'Table X12 Indices 2012=100'!D26*$D$11","v":64.729299359069998},{"$f":"'Table X12 Indices 2012=100'!E26*$E$11","v":64.041368338149994},{"$f":"'Table X12 Indices 2012=100'!F26*$F$11","v":65.983606553550004},{"$f":"'Table X12 Indices 2012=100'!G26*$G$11","v":63.904382469799998},{"$f":"'Table X12 Indices 2012=100'!H26*$H$11","v":65.52000000000001},{"$f":"'Table X12 Indices 2012=100'!I26*$I$11","v":65.614886733570003},{"$f":"'Table X12 Indices 2012=100'!J26*$J$11","v":65.356856456650007},{"$f":"'Table X12 Indices 2012=100'!K26*$K$11","v":65.044606649620007},{"$f":"'Table X12 Indices 2012=100'!L26*$L$11","v":64.584980237799996}]
[null,12,2008,{"$f":"'Table X12 Indices 2012=100'!D27*$D$11","v":64.649681524680005},{"$f":"'Table X12 Indices 2012=100'!E27*$E$11","v":63.802704853660003},{"$f":"'Table X12 Indices 2012=100'!F27*$F$11","v":65.655737701109999},{"$f":"'Table X12 Indices 2012=100'!G27*$G$11","v":63.824701194899994},{"$f":"'Table X12 Indices 2012=100'!H27*$H$11","v":65.600000000000009},{"$f":"'Table X12 Indices 2012=100'!I27*$I$11","v":65.533980584700004},{"$f":"'Table X12 Indices 2012=100'!J27*$J$11","v":65.196471532830003},{"$f":"'Table X12 Indices 2012=100'!K27*$K$11","v":65.044606649620007},{"$f":"'Table X12 Indices 2012=100'!L27*$L$11","v":64.505928854399997}]
[null,1,2009,{"$f":"'Table X12 Indices 2012=100'!D28*$D$11","v":64.729299359069998},{"$f":"'Table X12 Indices 2012=100'!E28*$E$11","v":64.359586317470004},{"$f":"'Table X12 Indices 2012=100'!F28*$F$11","v":65.737704914220004},{"$f":"'Table X12 Indices 2012=100'!G28*$G$11","v":64.143426294500003},{"$f":"'Table X12 Indices 2012=100'!H28*$H$11","v":66.239999999999995},{"$f":"'Table X12 Indices 2012=100'!I28*$I$11","v":65.614886733570003},{"$f":"'Table X12 Indices 2012=100'!J28*$J$11","v":65.356856456650007},{"$f":"'Table X12 Indices 2012=100'!K28*$K$11","v":65.693430656100006},{"$f":"'Table X12 Indices 2012=100'!L28*$L$11","v":64.901185771399994}]
[null,2,2009,{"$f":"'Table X12 Indices 2012=100'!D29*$D$11","v":65.366242034189995},{"$f":"'Table X12 Indices 2012=100'!E29*$E$11","v":64.996022276109997},{"$f":"'Table X12 Indices 2012=100'!F29*$F$11","v":66.55737704532001},{"$f":"'Table X12 Indices 2012=100'!G29*$G$11","v":64.860557768600003},{"$f":"'Table X12 Indices 2012=100'!H29*$H$11","v":66.720000000000013},{"$f":"'Table X12 Indices 2012=100'!I29*$I$11","v":66.423948222269999},{"$f":"'Table X12 Indices 2012=100'!J29*$J$11","v":66.158781075749999},{"$f":"'Table X12 Indices 2012=100'!K29*$K$11","v":66.666666665820003},{"$f":"'Table X12 Indices 2012=100'!L29*$L$11","v":65.375494071800006}]
[null,3,2009,{"$f":"'Table X12 Indices 2012=100'!D30*$D$11","v":66.32165604686999},{"$f":"'Table X12 Indices 2012=100'!E30*$E$11","v":65.791567224410002},{"$f":"'Table X12 Indices 2012=100'!F30*$F$11","v":67.295081963309997},{"$f":"'Table X12 Indices 2012=100'!G30*$G$11","v":65.6573705176},{"$f":"'Table X12 Indices 2012=100'!H30*$H$11","v":67.52000000000001},{"$f":"'Table X12 Indices 2012=100'!I30*$I$11","v":67.637540455319993},{"$f":"'Table X12 Indices 2012=100'!J30*$J$11","v":67.12109061867001},{"$f":"'Table X12 Indices 2012=100'!K30*$K$11","v":67.396593673110004},{"$f":"'Table X12 Indices 2012=100'!L30*$L$11","v":66.2450592892}]
[null,4,2009,{"$f":"'Table X12 Indices 2012=100'!D31*$D$11","v":66.640127384430002},{"$f":"'Table X12 Indices 2012=100'!E31*$E$11","v":66.189339698560005},{"$f":"'Table X12 Indices 2012=100'!F31*$F$11","v":67.868852455080003},{"$f":"'Table X12 Indices 2012=100'!G31*$G$11","v":66.055776892099999},{"$f":"'Table X12 Indices 2012=100'!H31*$H$11","v":67.92},{"$f":"'Table X12 Indices 2012=100'!I31*$I$11","v":67.718446604190007},{"$f":"'Table X12 Indices 2012=100'!J31*$J$11","v":67.44186046630999},{"$f":"'Table X12 Indices 2012=100'!K31*$K$11","v":67.802108677159993},{"$f":"'Table X12 Indices 2012=100'!L31*$L$11","v":66.482213439399999}]
[null,5,2009,{"$f":"'Table X12 Indices 2012=100'!D32*$D$11","v":66.878980887599994},{"$f":"'Table X12 Indices 2012=100'!E32*$E$11","v":66.348448688220003},{"$f":"'Table X12 Indices 2012=100'!F32*$F$11","v":67.950819668190007},{"$f":"'Table X12 Indices 2012=100'!G32*$G$11","v":66.215139441899993},{"$f":"'Table X12 Indices 2012=100'!H32*$H$11","v":68},{"$f":"'Table X12 Indices 2012=100'!I32*$I$11","v":67.961165050800005},{"$f":"'Table X12 Indices 2012=100'!J32*$J$11","v":67.68243785204001},{"$f":"'Table X12 Indices 2012=100'!K32*$K$11","v":68.045417679590003},{"$f":"'Table X12 Indices 2012=100'!L32*$L$11","v":66.719367589599997}]
[null,6,2009,{"$f":"'Table X12 Indices 2012=100'!D33*$D$11","v":67.11783439077},{"$f":"'Table X12 Indices 2012=100'!E33*$E$11","v":66.587112172710007},{"$f":"'Table X12 Indices 2012=100'!F33*$F$11","v":68.278688520629998},{"$f":"'Table X12 Indices 2012=100'!G33*$G$11","v":66.454183266599998},{"$f":"'Table X12 Indices 2012=100'!H33*$H$11","v":68.239999999999995},{"$f":"'Table X12 Indices 2012=100'!I33*$I$11","v":68.042071199670005},{"$f":"'Table X12 Indices 2012=100'!J33*$J$11","v":68.003207699680004},{"$f":"'Table X12 Indices 2012=100'!K33*$K$11","v":68.045417679590003},{"$f":"'Table X12 Indices 2012=100'!L33*$L$11","v":66.719367589599997}]
[null,7,2009,{"$f":"'Table X12 Indices 2012=100'!D34*$D$11","v":67.914012734669996},{"$f":"'Table X12 Indices 2012=100'!E34*$E$11","v":67.143993636520008},{"$f":"'Table X12 Indices 2012=100'!F34*$F$11","v":69.01639343862},{"$f":"'Table X12 Indices 2012=100'!G34*$G$11","v":67.171314740699998},{"$f":"'Table X12 Indices 2012=100'!H34*$H$11","v":68.720000000000013},{"$f":"'Table X12 Indices 2012=100'!I34*$I$11","v":68.770226539500001},{"$f":"'Table X12 Indices 2012=100'!J34*$J$11","v":68.805132318779997},{"$f":"'Table X12 Indices 2012=100'!K34*$K$11","v":68.775344686880004},{"$f":"'Table X12 Indices 2012=100'!L34*$L$11","v":67.035573123199995}]
[null,8,2009,{"$f":"'Table X12 Indices 2012=100'!D35*$D$11","v":68.152866237839987},{"$f":"'Table X12 Indices 2012=100'!E35*$E$11","v":67.303102626179992},{"$f":"'Table X12 Indices 2012=100'!F35*$F$11","v":69.18032786484001},{"$f":"'Table X12 Indices 2012=100'!G35*$G$11","v":67.330677290500006},{"$f":"'Table X12 Indices 2012=100'!H35*$H$11","v":68.8},{"$f":"'Table X12 Indices 2012=100'!I35*$I$11","v":69.01294498611},{"$f":"'Table X12 Indices 2012=100'!J35*$J$11","v":69.045709704510003},{"$f":"'Table X12 Indices 2012=100'!K35*$K$11","v":69.01865368931},{"$f":"'Table X12 Indices 2012=100'!L35*$L$11","v":67.351778656799993}]
[null,9,2009,{"$f":"'Table X12 Indices 2012=100'!D36*$D$11","v":68.4713375754},{"$f":"'Table X12 Indices 2012=100'!E36*$E$11","v":67.541766110670011},{"$f":"'Table X12 Indices 2012=100'!F36*$F$11","v":69.42622950417001},{"$f":"'Table X12 Indices 2012=100'!G36*$G$11","v":67.4900398403},{"$f":"'Table X12 Indices 2012=100'!H36*$H$11","v":68.960000000000008},{"$f":"'Table X12 Indices 2012=100'!I36*$I$11","v":69.093851134980014},{"$f":"'Table X12 Indices 2012=100'!J36*$J$11","v":69.206094628329993},{"$f":"'Table X12 Indices 2012=100'!K36*$K$11","v":69.26196269174001},{"$f":"'Table X12 Indices 2012=100'!L36*$L$11","v":67.351778656799993}]
[null,10,2009,{"$f":"'Table X12 Indices 2012=100'!D37*$D$11","v":68.550955409789992},{"$f":"'Table X12 Indices 2012=100'!E37*$E$11","v":67.621320605500003},{"$f":"'Table X12 Indices 2012=100'!F37*$F$11","v":69.42622950417001},{"$f":"'Table X12 Indices 2012=100'!G37*$G$11","v":67.410358565399989},{"$f":"'Table X12 Indices 2012=100'!H37*$H$11","v":69.040000000000006},{"$f":"'Table X12 Indices 2012=100'!I37*$I$11","v":69.01294498611},{"$f":"'Table X12 Indices 2012=100'!J37*$J$11","v":69.206094628329993},{"$f":"'Table X12 Indices 2012=100'!K37*$K$11","v":69.343065692549999},{"$f":"'Table X12 Indices 2012=100'!L37*$L$11","v":67.351778656799993}]
[null,11,2009,{"$f":"'Table X12 Indices 2012=100'!D38*$D$11","v":68.550955409789992},{"$f":"'Table X12 Indices 2012=100'!E38*$E$11","v":67.541766110670011},{"$f":"'Table X12 Indices 2012=100'!F38*$F$11","v":69.42622950417001},{"$f":"'Table X12 Indices 2012=100'!G38*$G$11","v":67.4900398403},{"$f":"'Table X12 Indices 2012=100'!H38*$H$11","v":68.960000000000008},{"$f":"'Table X12 Indices 2012=100'!I38*$I$11","v":68.93203883724},{"$f":"'Table X12 Indices 2012=100'!J38*$J$11","v":69.206094628329993},{"$f":"'Table X12 Indices 2012=100'!K38*$K$11","v":69.343065692549999},{"$f":"'Table X12 Indices 2012=100'!L38*$L$11","v":67.588932806999992}]
[null,12,2009,{"$f":"'Table X12 Indices 2012=100'!D39*$D$11","v":68.949044581739997},{"$f":"'Table X12 Indices 2012=100'!E39*$E$11","v":67.700875100329995},{"$f":"'Table X12 Indices 2012=100'!F39*$F$11","v":69.508196717280001},{"$f":"'Table X12 Indices 2012=100'!G39*$G$11","v":67.649402390100008},{"$f":"'Table X12 Indices 2012=100'!H39*$H$11","v":69.2},{"$f":"'Table X12 Indices 2012=100'!I39*$I$11","v":69.093851134980014},{"$f":"'Table X12 Indices 2012=100'!J39*$J$11","v":69.286287090240009},{"$f":"'Table X12 Indices 2012=100'!K39*$K$11","v":69.343065692549999},{"$f":"'Table X12 Indices 2012=100'!L39*$L$11","v":67.588932806999992}]
[null,1,2010,{"$f":"'Table X12 Indices 2012=100'!D40*$D$11","v":69.108280250519996},{"$f":"'Table X12 Indices 2012=100'!E40*$E$11","v":67.780429595160001},{"$f":"'Table X12 Indices 2012=100'!F40*$F$11","v":69.42622950417001},{"$f":"'Table X12 Indices 2012=100'!G40*$G$11","v":67.808764939900001},{"$f":"'Table X12 Indices 2012=100'!H40*$H$11","v":69.44},{"$f":"'Table X12 Indices 2012=100'!I40*$I$11","v":69.255663432719999},{"$f":"'Table X12 Indices 2012=100'!J40*$J$11","v":69.526864475970001},{"$f":"'Table X12 Indices 2012=100'!K40*$K$11","v":69.586374694979995},{"$f":"'Table X12 Indices 2012=100'!L40*$L$11","v":67.747035573800005}]
[null,2,2010,{"$f":"'Table X12 Indices 2012=100'!D41*$D$11","v":69.347133753689988},{"$f":"'Table X12 Indices 2012=100'!E41*$E$11","v":68.098647574479998},{"$f":"'Table X12 Indices 2012=100'!F41*$F$11","v":69.754098356610001},{"$f":"'Table X12 Indices 2012=100'!G41*$G$11","v":68.286852589299997},{"$f":"'Table X12 Indices 2012=100'!H41*$H$11","v":69.679999999999993},{"$f":"'Table X12 Indices 2012=100'!I41*$I$11","v":69.822006474809996},{"$f":"'Table X12 Indices 2012=100'!J41*$J$11","v":70.008019247429999},{"$f":"'Table X12 Indices 2012=100'!K41*$K$11","v":69.991889699029997},{"$f":"'Table X12 Indices 2012=100'!L41*$L$11","v":68.142292490800003}]
[null,3,2010,{"$f":"'Table X12 Indices 2012=100'!D42*$D$11","v":70.143312097589998},{"$f":"'Table X12 Indices 2012=100'!E42*$E$11","v":68.655529038289998},{"$f":"'Table X12 Indices 2012=100'!F42*$F$11","v":70.245901635270002},{"$f":"'Table X12 Indices 2012=100'!G42*$G$11","v":68.764940238699992},{"$f":"'Table X12 Indices 2012=100'!H42*$H$11","v":70.160000000000011},{"$f":"'Table X12 Indices 2012=100'!I42*$I$11","v":70.307443368030007},{"$f":"'Table X12 Indices 2012=100'!J42*$J$11","v":70.649558942710001},{"$f":"'Table X12 Indices 2012=100'!K42*$K$11","v":70.478507703890003},{"$f":"'Table X12 Indices 2012=100'!L42*$L$11","v":68.853754941399998}]
[null,4,2010,{"$f":"'Table X12 Indices 2012=100'!D43*$D$11","v":70.302547766369997},{"$f":"'Table X12 Indices 2012=100'!E43*$E$11","v":68.814638027949997},{"$f":"'Table X12 Indices 2012=100'!F43*$F$11","v":70.409836061490012},{"$f":"'Table X12 Indices 2012=100'!G43*$G$11","v":69.003984063399997},{"$f":"'Table X12 Indices 2012=100'!H43*$H$11","v":70.239999999999995},{"$f":"'Table X12 Indices 2012=100'!I43*$I$11","v":70.388349516900007},{"$f":"'Table X12 Indices 2012=100'!J43*$J$11","v":70.729751404620004},{"$f":"'Table X12 Indices 2012=100'!K43*$K$11","v":70.559610704700006},{"$f":"'Table X12 Indices 2012=100'!L43*$L$11","v":68.774703557999999}]
[null,5,2010,{"$f":"'Table X12 Indices 2012=100'!D44*$D$11","v":70.382165600760004},{"$f":"'Table X12 Indices 2012=100'!E44*$E$11","v":68.973747017610009},{"$f":"'Table X12 Indices 2012=100'!F44*$F$11","v":70.655737700820012},{"$f":"'Table X12 Indices 2012=100'!G44*$G$11","v":69.083665338299994},{"$f":"'Table X12 Indices 2012=100'!H44*$H$11","v":70.400000000000006},{"$f":"'Table X12 Indices 2012=100'!I44*$I$11","v":70.631067963510006},{"$f":"'Table X12 Indices 2012=100'!J44*$J$11","v":70.809943866530006},{"$f":"'Table X12 Indices 2012=100'!K44*$K$11","v":70.721816706319999},{"$f":"'Table X12 Indices 2012=100'!L44*$L$11","v":68.774703557999999}]
[null,6,2010,{"$f":"'Table X12 Indices 2012=100'!D45*$D$11","v":70.302547766369997},{"$f":"'Table X12 Indices 2012=100'!E45*$E$11","v":69.053301512440001},{"$f":"'Table X12 Indices 2012=100'!F45*$F$11","v":70.655737700820012},{"$f":"'Table X12 Indices 2012=100'!G45*$G$11","v":69.083665338299994},{"$f":"'Table X12 Indices 2012=100'!H45*$H$11","v":70.400000000000006},{"$f":"'Table X12 Indices 2012=100'!I45*$I$11","v":70.550161814640006},{"$f":"'Table X12 Indices 2012=100'!J45*$J$11","v":70.809943866530006},{"$f":"'Table X12 Indices 2012=100'!K45*$K$11","v":70.640713705509995},{"$f":"'Table X12 Indices 2012=100'!L45*$L$11","v":68.774703557999999}]
[null,7,2010,{"$f":"'Table X12 Indices 2012=100'!D46*$D$11","v":70.621019103929996},{"$f":"'Table X12 Indices 2012=100'!E46*$E$11","v":69.371519491759997},{"$f":"'Table X12 Indices 2012=100'!F46*$F$11","v":71.147540979479999},{"$f":"'Table X12 Indices 2012=100'!G46*$G$11","v":69.482071712800007},{"$f":"'Table X12 Indices 2012=100'!H46*$H$11","v":70.720000000000013},{"$f":"'Table X12 Indices 2012=100'!I46*$I$11","v":70.873786410120005},{"$f":"'Table X12 Indices 2012=100'!J46*$J$11","v":71.371291099900006},{"$f":"'Table X12 Indices 2012=100'!K46*$K$11","v":71.046228709559998},{"$f":"'Table X12 Indices 2012=100'!L46*$L$11","v":69.328063241799995}]
[null,8,2010,{"$f":"'Table X12 Indices 2012=100'!D47*$D$11","v":70.700636938320002},{"$f":"'Table X12 Indices 2012=100'!E47*$E$11","v":69.76929196591},{"$f":"'Table X12 Indices 2012=100'!F47*$F$11","v":71.147540979479999},{"$f":"'Table X12 Indices 2012=100'!G47*$G$11","v":69.721115537499998},{"$f":"'Table X12 Indices 2012=100'!H47*$H$11","v":70.720000000000013},{"$f":"'Table X12 Indices 2012=100'!I47*$I$11","v":70.954692558990004},{"$f":"'Table X12 Indices 2012=100'!J47*$J$11","v":71.371291099900006},{"$f":"'Table X12 Indices 2012=100'!K47*$K$11","v":71.208434711180004},{"$f":"'Table X12 Indices 2012=100'!L47*$L$11","v":69.407114625199995}]
[null,9,2010,{"$f":"'Table X12 Indices 2012=100'!D48*$D$11","v":70.780254772710009},{"$f":"'Table X12 Indices 2012=100'!E48*$E$11","v":70.007955450400004},{"$f":"'Table X12 Indices 2012=100'!F48*$F$11","v":71.393442618809999},{"$f":"'Table X12 Indices 2012=100'!G48*$G$11","v":70.039840637099999},{"$f":"'Table X12 Indices 2012=100'!H48*$H$11","v":70.720000000000013},{"$f":"'Table X12 Indices 2012=100'!I48*$I$11","v":71.035598707860004},{"$f":"'Table X12 Indices 2012=100'!J48*$J$11","v":71.371291099900006},{"$f":"'Table X12 Indices 2012=100'!K48*$K$11","v":71.370640712799997},{"$f":"'Table X12 Indices 2012=100'!L48*$L$11","v":69.328063241799995}]
[null,10,2010,{"$f":"'Table X12 Indices 2012=100'!D49*$D$11","v":70.939490441489994},{"$f":"'Table X12 Indices 2012=100'!E49*$E$11","v":70.087509945229996},{"$f":"'Table X12 Indices 2012=100'!F49*$F$11","v":71.475409831920004},{"$f":"'Table X12 Indices 2012=100'!G49*$G$11","v":70.278884461800004},{"$f":"'Table X12 Indices 2012=100'!H49*$H$11","v":70.8},{"$f":"'Table X12 Indices 2012=100'!I49*$I$11","v":71.035598707860004},{"$f":"'Table X12 Indices 2012=100'!J49*$J$11","v":71.53167602372001},{"$f":"'Table X12 Indices 2012=100'!K49*$K$11","v":71.613949715230007},{"$f":"'Table X12 Indices 2012=100'!L49*$L$11","v":69.723320158799993}]
[null,11,2010,{"$f":"'Table X12 Indices 2012=100'!D50*$D$11","v":71.019108275880001},{"$f":"'Table X12 Indices 2012=100'!E50*$E$11","v":70.087509945229996},{"$f":"'Table X12 Indices 2012=100'!F50*$F$11","v":71.475409831920004},{"$f":"'Table X12 Indices 2012=100'!G50*$G$11","v":70.278884461800004},{"$f":"'Table X12 Indices 2012=100'!H50*$H$11","v":70.960000000000008},{"$f":"'Table X12 Indices 2012=100'!I50*$I$11","v":71.278317154470002},{"$f":"'Table X12 Indices 2012=100'!J50*$J$11","v":71.69206094754},{"$f":"'Table X12 Indices 2012=100'!K50*$K$11","v":71.532846714420003},{"$f":"'Table X12 Indices 2012=100'!L50*$L$11","v":69.565217391999994}]
[null,12,2010,{"$f":"'Table X12 Indices 2012=100'!D51*$D$11","v":71.17834394466},{"$f":"'Table X12 Indices 2012=100'!E51*$E$11","v":70.167064440060003},{"$f":"'Table X12 Indices 2012=100'!F51*$F$11","v":71.393442618809999},{"$f":"'Table X12 Indices 2012=100'!G51*$G$11","v":70.358565736700001},{"$f":"'Table X12 Indices 2012=100'!H51*$H$11","v":71.040000000000006},{"$f":"'Table X12 Indices 2012=100'!I51*$I$11","v":71.278317154470002},{"$f":"'Table X12 Indices 2012=100'!J51*$J$11","v":71.85244587135999},{"$f":"'Table X12 Indices 2012=100'!K51*$K$11","v":71.613949715230007},{"$f":"'Table X12 Indices 2012=100'!L51*$L$11","v":69.960474308999991}]
[null,1,2011,{"$f":"'Table X12 Indices 2012=100'!D52*$D$11","v":71.496815282219998},{"$f":"'Table X12 Indices 2012=100'!E52*$E$11","v":70.723945903870003},{"$f":"'Table X12 Indices 2012=100'!F52*$F$11","v":72.04918032369001},{"$f":"'Table X12 Indices 2012=100'!G52*$G$11","v":70.916334660999993},{"$f":"'Table X12 Indices 2012=100'!H52*$H$11","v":71.44},{"$f":"'Table X12 Indices 2012=100'!I52*$I$11","v":71.76375404769},{"$f":"'Table X12 Indices 2012=100'!J52*$J$11","v":72.09302325709001},{"$f":"'Table X12 Indices 2012=100'!K52*$K$11","v":72.019464719279995},{"$f":"'Table X12 Indices 2012=100'!L52*$L$11","v":70.19762845919999}]
[null,2,2011,{"$f":"'Table X12 Indices 2012=100'!D53*$D$11","v":71.974522288559996},{"$f":"'Table X12 Indices 2012=100'!E53*$E$11","v":71.121718378020006},{"$f":"'Table X12 Indices 2012=100'!F53*$F$11","v":72.377049176130001},{"$f":"'Table X12 Indices 2012=100'!G53*$G$11","v":71.314741035499992},{"$f":"'Table X12 Indices 2012=100'!H53*$H$11","v":71.92},{"$f":"'Table X12 Indices 2012=100'!I53*$I$11","v":72.330097089780011},{"$f":"'Table X12 Indices 2012=100'!J53*$J$11","v":72.574178028549994},{"$f":"'Table X12 Indices 2012=100'!K53*$K$11","v":72.587185724950004},{"$f":"'Table X12 Indices 2012=100'!L53*$L$11","v":70.118577075800005}]
[null,3,2011,{"$f":"'Table X12 Indices 2012=100'!D54*$D$11","v":72.929936301239991},{"$f":"'Table X12 Indices 2012=100'!E54*$E$11","v":71.917263326320011},{"$f":"'Table X12 Indices 2012=100'!F54*$F$11","v":73.360655733450002},{"$f":"'Table X12 Indices 2012=100'!G54*$G$11","v":72.1912350594},{"$f":"'Table X12 Indices 2012=100'!H54*$H$11","v":72.56},{"$f":"'Table X12 Indices 2012=100'!I54*$I$11","v":73.139158578480007},{"$f":"'Table X12 Indices 2012=100'!J54*$J$11","v":73.456295109560003},{"$f":"'Table X12 Indices 2012=100'!K54*$K$11","v":73.479318733859998},{"$f":"'Table X12 Indices 2012=100'!L54*$L$11","v":71.462450593599996}]
[null,4,2011,{"$f":"'Table X12 Indices 2012=100'!D55*$D$11","v":73.168789804409997},{"$f":"'Table X12 Indices 2012=100'!E55*$E$11","v":72.155926810810001},{"$f":"'Table X12 Indices 2012=100'!F55*$F$11","v":73.770491798999998},{"$f":"'Table X12 Indices 2012=100'!G55*$G$11","v":72.589641433899999},{"$f":"'Table X12 Indices 2012=100'!H55*$H$11","v":72.8},{"$f":"'Table X12 Indices 2012=100'!I55*$I$11","v":73.381877025090006},{"$f":"'Table X12 Indices 2012=100'!J55*$J$11","v":73.536487571470005},{"$f":"'Table X12 Indices 2012=100'!K55*$K$11","v":73.722627736290008},{"$f":"'Table X12 Indices 2012=100'!L55*$L$11","v":71.778656127199994}]
[null,5,2011,{"$f":"'Table X12 Indices 2012=100'!D56*$D$11","v":73.487261141969995},{"$f":"'Table X12 Indices 2012=100'!E56*$E$11","v":72.553699284960004},{"$f":"'Table X12 Indices 2012=100'!F56*$F$11","v":74.016393438329999},{"$f":"'Table X12 Indices 2012=100'!G56*$G$11","v":72.908366533500001},{"$f":"'Table X12 Indices 2012=100'!H56*$H$11","v":73.12},{"$f":"'Table X12 Indices 2012=100'!I56*$I$11","v":73.705501620570004},{"$f":"'Table X12 Indices 2012=100'!J56*$J$11","v":74.017642342930003},{"$f":"'Table X12 Indices 2012=100'!K56*$K$11","v":74.12814274034001},{"$f":"'Table X12 Indices 2012=100'!L56*$L$11","v":72.252964427600006}]
[null,6,2011,{"$f":"'Table X12 Indices 2012=100'!D57*$D$11","v":73.805732479529993},{"$f":"'Table X12 Indices 2012=100'!E57*$E$11","v":73.269689738429989},{"$f":"'Table X12 Indices 2012=100'!F57*$F$11","v":74.262295077659999},{"$f":"'Table X12 Indices 2012=100'!G57*$G$11","v":73.067729083299994},{"$f":"'Table X12 Indices 2012=100'!H57*$H$11","v":73.52000000000001},{"$f":"'Table X12 Indices 2012=100'!I57*$I$11","v":74.271844662660001},{"$f":"'Table X12 Indices 2012=100'!J57*$J$11","v":74.338412190569997},{"$f":"'Table X12 Indices 2012=100'!K57*$K$11","v":74.290348741960003},{"$f":"'Table X12 Indices 2012=100'!L57*$L$11","v":72.727272728000003}]
[null,7,2011,{"$f":"'Table X12 Indices 2012=100'!D58*$D$11","v":74.283439485869991},{"$f":"'Table X12 Indices 2012=100'!E58*$E$11","v":73.90612569707001},{"$f":"'Table X12 Indices 2012=100'!F58*$F$11","v":75.245901634980001},{"$f":"'Table X12 Indices 2012=100'!G58*$G$11","v":73.944223107200003},{"$f":"'Table X12 Indices 2012=100'!H58*$H$11","v":74.08},{"$f":"'Table X12 Indices 2012=100'!I58*$I$11","v":74.838187704749998},{"$f":"'Table X12 Indices 2012=100'!J58*$J$11","v":74.979951885849999},{"$f":"'Table X12 Indices 2012=100'!K58*$K$11","v":75.020275749250004},{"$f":"'Table X12 Indices 2012=100'!L58*$L$11","v":72.885375494800002}]
[null,8,2011,{"$f":"'Table X12 Indices 2012=100'!D59*$D$11","v":74.442675154650004},{"$f":"'Table X12 Indices 2012=100'!E59*$E$11","v":74.065234686729994},{"$f":"'Table X12 Indices 2012=100'!F59*$F$11","v":75.819672126750007},{"$f":"'Table X12 Indices 2012=100'!G59*$G$11","v":74.0239043821},{"$f":"'Table X12 Indices 2012=100'!H59*$H$11","v":74.320000000000007},{"$f":"'Table X12 Indices 2012=100'!I59*$I$11","v":75.080906151359997},{"$f":"'Table X12 Indices 2012=100'!J59*$J$11","v":75.140336809670004},{"$f":"'Table X12 Indices 2012=100'!K59*$K$11","v":75.020275749250004},{"$f":"'Table X12 Indices 2012=100'!L59*$L$11","v":72.964426878200001}]
[null,9,2011,{"$f":"'Table X12 Indices 2012=100'!D60*$D$11","v":74.840764326599995},{"$f":"'Table X12 Indices 2012=100'!E60*$E$11","v":74.542561655710003},{"$f":"'Table X12 Indices 2012=100'!F60*$F$11","v":76.311475405409993},{"$f":"'Table X12 Indices 2012=100'!G60*$G$11","v":74.422310756599998},{"$f":"'Table X12 Indices 2012=100'!H60*$H$11","v":74.48},{"$f":"'Table X12 Indices 2012=100'!I60*$I$11","v":75.161812300230011},{"$f":"'Table X12 Indices 2012=100'!J60*$J$11","v":75.300721733490008},{"$f":"'Table X12 Indices 2012=100'!K60*$K$11","v":75.26358475168},{"$f":"'Table X12 Indices 2012=100'!L60*$L$11","v":73.359683795199999}]
[null,10,2011,{"$f":"'Table X12 Indices 2012=100'!D61*$D$11","v":75.159235664160008},{"$f":"'Table X12 Indices 2012=100'!E61*$E$11","v":75.019888624689997},{"$f":"'Table X12 Indices 2012=100'!F61*$F$11","v":76.885245897179999},{"$f":"'Table X12 Indices 2012=100'!G61*$G$11","v":74.900398405999994},{"$f":"'Table X12 Indices 2012=100'!H61*$H$11","v":75.040000000000006},{"$f":"'Table X12 Indices 2012=100'!I61*$I$11","v":75.728155342319994},{"$f":"'Table X12 Indices 2012=100'!J61*$J$11","v":75.701684043040004},{"$f":"'Table X12 Indices 2012=100'!K61*$K$11","v":75.912408758159998},{"$f":"'Table X12 Indices 2012=100'!L61*$L$11","v":73.913043478999995}]
[null,11,2011,{"$f":"'Table X12 Indices 2012=100'!D62*$D$11","v":75.318471332939993},{"$f":"'Table X12 Indices 2012=100'!E62*$E$11","v":75.258552109180002},{"$f":"'Table X12 Indices 2012=100'!F62*$F$11","v":77.213114749620004},{"$f":"'Table X12 Indices 2012=100'!G62*$G$11","v":75.139442230699999},{"$f":"'Table X12 Indices 2012=100'!H62*$H$11","v":75.28},{"$f":"'Table X12 Indices 2012=100'!I62*$I$11","v":75.809061491190008},{"$f":"'Table X12 Indices 2012=100'!J62*$J$11","v":75.862068966859994},{"$f":"'Table X12 Indices 2012=100'!K62*$K$11","v":76.074614759780005},{"$f":"'Table X12 Indices 2012=100'!L62*$L$11","v":74.150197629199994}]
[null,12,2011,{"$f":"'Table X12 Indices 2012=100'!D63*$D$11","v":75.398089167329999},{"$f":"'Table X12 Indices 2012=100'!E63*$E$11","v":75.497215593670006},{"$f":"'Table X12 Indices 2012=100'!F63*$F$11","v":76.967213110290004},{"$f":"'Table X12 Indices 2012=100'!G63*$G$11","v":75.378486055399989},{"$f":"'Table X12 Indices 2012=100'!H63*$H$11","v":75.760000000000005},{"$f":"'Table X12 Indices 2012=100'!I63*$I$11","v":76.051779937800006},{"$f":"'Table X12 Indices 2012=100'!J63*$J$11","v":76.022453890679998},{"$f":"'Table X12 Indices 2012=100'!K63*$K$11","v":76.399026763020004},{"$f":"'Table X12 Indices 2012=100'!L63*$L$11","v":74.466403162800006}]
[null,1,2012,{"$f":"'Table X12 Indices 2012=100'!D64*$D$11","v":75.716560504889998},{"$f":"'Table X12 Indices 2012=100'!E64*$E$11","v":75.894988067820009},{"$f":"'Table X12 Indices 2012=100'!F64*$F$11","v":77.78688524139001},{"$f":"'Table X12 Indices 2012=100'!G64*$G$11","v":75.856573704799999},{"$f":"'Table X12 Indices 2012=100'!H64*$H$11","v":76},{"$f":"'Table X12 Indices 2012=100'!I64*$I$11","v":76.537216831020004},{"$f":"'Table X12 Indices 2012=100'!J64*$J$11","v":76.423416200229994},{"$f":"'Table X12 Indices 2012=100'!K64*$K$11","v":76.885644767879995},{"$f":"'Table X12 Indices 2012=100'!L64*$L$11","v":75.019762846600003}]
[null,2,2012,{"$f":"'Table X12 Indices 2012=100'!D65*$D$11","v":76.194267511229995},{"$f":"'Table X12 Indices 2012=100'!E65*$E$11","v":76.133651552309999},{"$f":"'Table X12 Indices 2012=100'!F65*$F$11","v":78.03278688072001},{"$f":"'Table X12 Indices 2012=100'!G65*$G$11","v":76.175298804400001},{"$f":"'Table X12 Indices 2012=100'!H65*$H$11","v":76.400000000000006},{"$f":"'Table X12 Indices 2012=100'!I65*$I$11","v":76.941747575370002},{"$f":"'Table X12 Indices 2012=100'!J65*$J$11","v":76.904570971690006},{"$f":"'Table X12 Indices 2012=100'!K65*$K$11","v":77.453365773550004},{"$f":"'Table X12 Indices 2012=100'!L65*$L$11","v":75.335968380200001}]
[null,3,2012,{"$f":"'Table X12 Indices 2012=100'!D66*$D$11","v":76.990445855130005},{"$f":"'Table X12 Indices 2012=100'!E66*$E$11","v":76.849642005779998},{"$f":"'Table X12 Indices 2012=100'!F66*$F$11","v":78.934426224930007},{"$f":"'Table X12 Indices 2012=100'!G66*$G$11","v":76.733067728699993},{"$f":"'Table X12 Indices 2012=100'!H66*$H$11","v":77.360000000000014},{"$f":"'Table X12 Indices 2012=100'!I66*$I$11","v":77.912621361809997},{"$f":"'Table X12 Indices 2012=100'!J66*$J$11","v":77.706495590790013},{"$f":"'Table X12 Indices 2012=100'!K66*$K$11","v":78.345498782459998},{"$f":"'Table X12 Indices 2012=100'!L66*$L$11","v":76.047430830799996}]
[null,4,2012,{"$f":"'Table X12 Indices 2012=100'!D67*$D$11","v":77.308917192689989},{"$f":"'Table X12 Indices 2012=100'!E67*$E$11","v":77.247414479930001},{"$f":"'Table X12 Indices 2012=100'!F67*$F$11","v":79.344262290480003},{"$f":"'Table X12 Indices 2012=100'!G67*$G$11","v":77.131474103199992},{"$f":"'Table X12 Indices 2012=100'!H67*$H$11","v":77.600000000000009},{"$f":"'Table X12 Indices 2012=100'!I67*$I$11","v":78.155339808419996},{"$f":"'Table X12 Indices 2012=100'!J67*$J$11","v":78.027265438429993},{"$f":"'Table X12 Indices 2012=100'!K67*$K$11","v":78.507704784080005},{"$f":"'Table X12 Indices 2012=100'!L67*$L$11","v":76.047430830799996}]
[null,5,2012,{"$f":"'Table X12 Indices 2012=100'!D68*$D$11","v":77.388535027079996},{"$f":"'Table X12 Indices 2012=100'!E68*$E$11","v":77.486077964420005},{"$f":"'Table X12 Indices 2012=100'!F68*$F$11","v":79.426229503590008},{"$f":"'Table X12 Indices 2012=100'!G68*$G$11","v":77.211155378100003},{"$f":"'Table X12 Indices 2012=100'!H68*$H$11","v":77.680000000000007},{"$f":"'Table X12 Indices 2012=100'!I68*$I$11","v":78.07443365955001},{"$f":"'Table X12 Indices 2012=100'!J68*$J$11","v":78.107457900340009},{"$f":"'Table X12 Indices 2012=100'!K68*$K$11","v":78.588807784890008},{"$f":"'Table X12 Indices 2012=100'!L68*$L$11","v":76.363636364399994}]
[null,6,2012,{"$f":"'Table X12 Indices 2012=100'!D69*$D$11","v":77.707006364639994},{"$f":"'Table X12 Indices 2012=100'!E69*$E$11","v":77.565632459249997},{"$f":"'Table X12 Indices 2012=100'!F69*$F$11","v":79.426229503590008},{"$f":"'Table X12 Indices 2012=100'!G69*$G$11","v":77.290836653},{"$f":"'Table X12 Indices 2012=100'!H69*$H$11","v":77.760000000000005},{"$f":"'Table X12 Indices 2012=100'!I69*$I$11","v":78.640776701640007},{"$f":"'Table X12 Indices 2012=100'!J69*$J$11","v":78.348035286070001},{"$f":"'Table X12 Indices 2012=100'!K69*$K$11","v":78.913219788130007},{"$f":"'Table X12 Indices 2012=100'!L69*$L$11","v":76.758893281399992}]
[null,7,2012,{"$f":"'Table X12 Indices 2012=100'!D70*$D$11","v":77.866242033419994},{"$f":"'Table X12 Indices 2012=100'!E70*$E$11","v":77.645186954079989},{"$f":"'Table X12 Indices 2012=100'!F70*$F$11","v":79.836065569140004},{"$f":"'Table X12 Indices 2012=100'!G70*$G$11","v":77.52988047769999},{"$f":"'Table X12 Indices 2012=100'!H70*$H$11","v":78},{"$f":"'Table X12 Indices 2012=100'!I70*$I$11","v":78.721682850510007},{"$f":"'Table X12 Indices 2012=100'!J70*$J$11","v":78.508420209890005},{"$f":"'Table X12 Indices 2012=100'!K70*$K$11","v":79.07542578975},{"$f":"'Table X12 Indices 2012=100'!L70*$L$11","v":77.075098815000004}]
[null,8,2012,{"$f":"'Table X12 Indices 2012=100'!D71*$D$11","v":78.025477702199993},{"$f":"'Table X12 Indices 2012=100'!E71*$E$11","v":77.804295943740001},{"$f":"'Table X12 Indices 2012=100'!F71*$F$11","v":79.836065569140004},{"$f":"'Table X12 Indices 2012=100'!G71*$G$11","v":77.689243027499998},{"$f":"'Table X12 Indices 2012=100'!H71*$H$11","v":78.160000000000011},{"$f":"'Table X12 Indices 2012=100'!I71*$I$11","v":79.045307445990005},{"$f":"'Table X12 Indices 2012=100'!J71*$J$11","v":78.748997595619997},{"$f":"'Table X12 Indices 2012=100'!K71*$K$11","v":79.318734792179995},{"$f":"'Table X12 Indices 2012=100'!L71*$L$11","v":77.154150198399989}]
[null,9,2012,{"$f":"'Table X12 Indices 2012=100'!D72*$D$11","v":78.662420377319989},{"$f":"'Table X12 Indices 2012=100'!E72*$E$11","v":78.52028639721},{"$f":"'Table X12 Indices 2012=100'!F72*$F$11","v":80.819672126460006},{"$f":"'Table X12 Indices 2012=100'!G72*$G$11","v":78.406374501599998},{"$f":"'Table X12 Indices 2012=100'!H72*$H$11","v":78.960000000000008},{"$f":"'Table X12 Indices 2012=100'!I72*$I$11","v":80.177993530169999},{"$f":"'Table X12 Indices 2012=100'!J72*$J$11","v":79.390537290899999},{"$f":"'Table X12 Indices 2012=100'!K72*$K$11","v":80.048661799470011},{"$f":"'Table X12 Indices 2012=100'!L72*$L$11","v":77.865612648999999}]
[null,10,2012,{"$f":"'Table X12 Indices 2012=100'!D73*$D$11","v":79.140127383660001},{"$f":"'Table X12 Indices 2012=100'!E73*$E$11","v":79.077167861020001},{"$f":"'Table X12 Indices 2012=100'!F73*$F$11","v":81.311475405120007},{"$f":"'Table X12 Indices 2012=100'!G73*$G$11","v":78.964143425899991},{"$f":"'Table X12 Indices 2012=100'!H73*$H$11","v":79.52000000000001},{"$f":"'Table X12 Indices 2012=100'!I73*$I$11","v":80.744336572259996},{"$f":"'Table X12 Indices 2012=100'!J73*$J$11","v":79.95188452427},{"$f":"'Table X12 Indices 2012=100'!K73*$K$11","v":80.697485805950009},{"$f":"'Table X12 Indices 2012=100'!L73*$L$11","v":78.498023716199995}]
[null,11,2012,{"$f":"'Table X12 Indices 2012=100'!D74*$D$11","v":79.378980886829993},{"$f":"'Table X12 Indices 2012=100'!E74*$E$11","v":79.474940335170004},{"$f":"'Table X12 Indices 2012=100'!F74*$F$11","v":81.803278683780007},{"$f":"'Table X12 Indices 2012=100'!G74*$G$11","v":79.282868525499993},{"$f":"'Table X12 Indices 2012=100'!H74*$H$11","v":79.760000000000005},{"$f":"'Table X12 Indices 2012=100'!I74*$I$11","v":80.82524272113001},{"$f":"'Table X12 Indices 2012=100'!J74*$J$11","v":80.032076986180002},{"$f":"'Table X12 Indices 2012=100'!K74*$K$11","v":80.778588806759998},{"$f":"'Table X12 Indices 2012=100'!L74*$L$11","v":78.656126482999994}]
[null,12,2012,{"$f":"'Table X12 Indices 2012=100'!D75*$D$11","v":79.617834389999999},{"$f":"'Table X12 Indices 2012=100'!E75*$E$11","v":79.554494829999996},{"$f":"'Table X12 Indices 2012=100'!F75*$F$11","v":81.967213110000003},{"$f":"'Table X12 Indices 2012=100'!G75*$G$11","v":79.681274900000005},{"$f":"'Table X12 Indices 2012=100'!H75*$H$11","v":80},{"$f":"'Table X12 Indices 2012=100'!I75*$I$11","v":80.90614887000001},{"$f":"'Table X12 Indices 2012=100'!J75*$J$11","v":80.192461910000006},{"$f":"'Table X12 Indices 2012=100'!K75*$K$11","v":81.103000809999998},{"$f":"'Table X12 Indices 2012=100'!L75*$L$11","v":79.051383399999992}]
[null,1,2013,{"$f":"'Table X12 Indices 2012=100'!D76*$D$11","v":79.777070058779998},{"$f":"'Table X12 Indices 2012=100'!E76*$E$11","v":79.713603819660008},{"$f":"'Table X12 Indices 2012=100'!F76*$F$11","v":82.295081962440008},{"$f":"'Table X12 Indices 2012=100'!G76*$G$11","v":79.840637449799999},{"$f":"'Table X12 Indices 2012=100'!H76*$H$11","v":80.08},{"$f":"'Table X12 Indices 2012=100'!I76*$I$11","v":81.229773465480008},{"$f":"'Table X12 Indices 2012=100'!J76*$J$11","v":80.51323175764},{"$f":"'Table X12 Indices 2012=100'!K76*$K$11","v":81.427412813240011},{"$f":"'Table X12 Indices 2012=100'!L76*$L$11","v":79.446640317000004}]
[null,2,2013,{"$f":"'Table X12 Indices 2012=100'!D77*$D$11","v":80.334394899510002},{"$f":"'Table X12 Indices 2012=100'!E77*$E$11","v":80.270485283470009},{"$f":"'Table X12 Indices 2012=100'!F77*$F$11","v":82.622950814879999},{"$f":"'Table X12 Indices 2012=100'!G77*$G$11","v":80.398406374100006},{"$f":"'Table X12 Indices 2012=100'!H77*$H$11","v":80.88},{"$f":"'Table X12 Indices 2012=100'!I77*$I$11","v":81.877022656440005},{"$f":"'Table X12 Indices 2012=100'!J77*$J$11","v":81.475541300559996},{"$f":"'Table X12 Indices 2012=100'!K77*$K$11","v":82.157339820529998},{"$f":"'Table X12 Indices 2012=100'!L77*$L$11","v":79.683794467199988}]
[null,3,2013,{"$f":"'Table X12 Indices 2012=100'!D78*$D$11","v":81.289808912189997},{"$f":"'Table X12 Indices 2012=100'!E78*$E$11","v":81.06603023177},{"$f":"'Table X12 Indices 2012=100'!F78*$F$11","v":83.442622945980006},{"$f":"'Table X12 Indices 2012=100'!G78*$G$11","v":81.274900398},{"$f":"'Table X12 Indices 2012=100'!H78*$H$11","v":81.84},{"$f":"'Table X12 Indices 2012=100'!I78*$I$11","v":82.443365698530016},{"$f":"'Table X12 Indices 2012=100'!J78*$J$11","v":82.518043305390009},{"$f":"'Table X12 Indices 2012=100'!K78*$K$11","v":82.806163827009996},{"$f":"'Table X12 Indices 2012=100'!L78*$L$11","v":80.553359684599997}]
[null,4,2013,{"$f":"'Table X12 Indices 2012=100'!D79*$D$11","v":81.608280249749996},{"$f":"'Table X12 Indices 2012=100'!E79*$E$11","v":81.384248211089997},{"$f":"'Table X12 Indices 2012=100'!F79*$F$11","v":83.852459011530001},{"$f":"'Table X12 Indices 2012=100'!G79*$G$11","v":81.434262947800008},{"$f":"'Table X12 Indices 2012=100'!H79*$H$11","v":82.08},{"$f":"'Table X12 Indices 2012=100'!I79*$I$11","v":82.847896442880014},{"$f":"'Table X12 Indices 2012=100'!J79*$J$11","v":82.758620691120001},{"$f":"'Table X12 Indices 2012=100'!K79*$K$11","v":83.049472829440006},{"$f":"'Table X12 Indices 2012=100'!L79*$L$11","v":80.948616601600008}]
[null,5,2013,{"$f":"'Table X12 Indices 2012=100'!D80*$D$11","v":81.369426746580004},{"$f":"'Table X12 Indices 2012=100'!E80*$E$11","v":81.145584726600006},{"$f":"'Table X12 Indices 2012=100'!F80*$F$11","v":83.688524585310006},{"$f":"'Table X12 Indices 2012=100'!G80*$G$11","v":81.434262947800008},{"$f":"'Table X12 Indices 2012=100'!H80*$H$11","v":81.84},{"$f":"'Table X12 Indices 2012=100'!I80*$I$11","v":82.605177996270001},{"$f":"'Table X12 Indices 2012=100'!J80*$J$11","v":82.518043305390009},{"$f":"'Table X12 Indices 2012=100'!K80*$K$11","v":82.968369828630003},{"$f":"'Table X12 Indices 2012=100'!L80*$L$11","v":80.790513834799995}]
[null,6,2013,{"$f":"'Table X12 Indices 2012=100'!D81*$D$11","v":81.608280249749996},{"$f":"'Table X12 Indices 2012=100'!E81*$E$11","v":81.384248211089997},{"$f":"'Table X12 Indices 2012=100'!F81*$F$11","v":83.934426224640006},{"$f":"'Table X12 Indices 2012=100'!G81*$G$11","v":81.832669322300006},{"$f":"'Table X12 Indices 2012=100'!H81*$H$11","v":82},{"$f":"'Table X12 Indices 2012=100'!I81*$I$11","v":82.76699029401},{"$f":"'Table X12 Indices 2012=100'!J81*$J$11","v":82.838813153030003},{"$f":"'Table X12 Indices 2012=100'!K81*$K$11","v":83.049472829440006},{"$f":"'Table X12 Indices 2012=100'!L81*$L$11","v":80.790513834799995}]
[null,7,2013,{"$f":"'Table X12 Indices 2012=100'!D82*$D$11","v":82.404458593649991},{"$f":"'Table X12 Indices 2012=100'!E82*$E$11","v":82.100238664559996},{"$f":"'Table X12 Indices 2012=100'!F82*$F$11","v":84.836065568850003},{"$f":"'Table X12 Indices 2012=100'!G82*$G$11","v":82.549800796399992},{"$f":"'Table X12 Indices 2012=100'!H82*$H$11","v":82.960000000000008},{"$f":"'Table X12 Indices 2012=100'!I82*$I$11","v":83.414239484969997},{"$f":"'Table X12 Indices 2012=100'!J82*$J$11","v":83.640737772129995},{"$f":"'Table X12 Indices 2012=100'!K82*$K$11","v":83.698296835920004},{"$f":"'Table X12 Indices 2012=100'!L82*$L$11","v":81.818181819000003}]
[null,8,2013,{"$f":"'Table X12 Indices 2012=100'!D83*$D$11","v":82.722929931210004},{"$f":"'Table X12 Indices 2012=100'!E83*$E$11","v":82.33890214905},{"$f":"'Table X12 Indices 2012=100'!F83*$F$11","v":85.245901634399999},{"$f":"'Table X12 Indices 2012=100'!G83*$G$11","v":82.868525895999994},{"$f":"'Table X12 Indices 2012=100'!H83*$H$11","v":83.2},{"$f":"'Table X12 Indices 2012=100'!I83*$I$11","v":83.737864080450009},{"$f":"'Table X12 Indices 2012=100'!J83*$J$11","v":83.881315157860001},{"$f":"'Table X12 Indices 2012=100'!K83*$K$11","v":84.022708839160003},{"$f":"'Table X12 Indices 2012=100'!L83*$L$11","v":82.529644269599999}]
[null,9,2013,{"$f":"'Table X12 Indices 2012=100'!D84*$D$11","v":83.359872606330001},{"$f":"'Table X12 Indices 2012=100'!E84*$E$11","v":82.895783612860001},{"$f":"'Table X12 Indices 2012=100'!F84*$F$11","v":85.573770486840004},{"$f":"'Table X12 Indices 2012=100'!G84*$G$11","v":83.266932270499993},{"$f":"'Table X12 Indices 2012=100'!H84*$H$11","v":83.52000000000001},{"$f":"'Table X12 Indices 2012=100'!I84*$I$11","v":84.142394824800007},{"$f":"'Table X12 Indices 2012=100'!J84*$J$11","v":84.202085005499995},{"$f":"'Table X12 Indices 2012=100'!K84*$K$11","v":84.590429844829998},{"$f":"'Table X12 Indices 2012=100'!L84*$L$11","v":82.766798419799997}]
[null,10,2013,{"$f":"'Table X12 Indices 2012=100'!D85*$D$11","v":83.51910827511},{"$f":"'Table X12 Indices 2012=100'!E85*$E$11","v":83.214001592179997},{"$f":"'Table X12 Indices 2012=100'!F85*$F$11","v":85.655737699950009},{"$f":"'Table X12 Indices 2012=100'!G85*$G$11","v":83.585657370100009},{"$f":"'Table X12 Indices 2012=100'!H85*$H$11","v":83.600000000000009},{"$f":"'Table X12 Indices 2012=100'!I85*$I$11","v":84.385113271410006},{"$f":"'Table X12 Indices 2012=100'!J85*$J$11","v":84.442662391230002},{"$f":"'Table X12 Indices 2012=100'!K85*$K$11","v":84.833738847259994},{"$f":"'Table X12 Indices 2012=100'!L85*$L$11","v":83.003952569999996}]
[null,11,2013,{"$f":"'Table X12 Indices 2012=100'!D86*$D$11","v":83.598726109499992},{"$f":"'Table X12 Indices 2012=100'!E86*$E$11","v":83.293556087010003},{"$f":"'Table X12 Indices 2012=100'!F86*$F$11","v":85.901639339279996},{"$f":"'Table X12 Indices 2012=100'!G86*$G$11","v":83.745019919899988},{"$f":"'Table X12 Indices 2012=100'!H86*$H$11","v":83.68},{"$f":"'Table X12 Indices 2012=100'!I86*$I$11","v":84.546925569150005},{"$f":"'Table X12 Indices 2012=100'!J86*$J$11","v":84.36246992932},{"$f":"'Table X12 Indices 2012=100'!K86*$K$11","v":84.914841848070012},{"$f":"'Table X12 Indices 2012=100'!L86*$L$11","v":83.162055336799995}]
[null,12,2013,{"$f":"'Table X12 Indices 2012=100'!D87*$D$11","v":83.598726109499992},{"$f":"'Table X12 Indices 2012=100'!E87*$E$11","v":83.532219571499994},{"$f":"'Table X12 Indices 2012=100'!F87*$F$11","v":85.983606552390015},{"$f":"'Table X12 Indices 2012=100'!G87*$G$11","v":83.904382469699996},{"$f":"'Table X12 Indices 2012=100'!H87*$H$11","v":84.160000000000011},{"$f":"'Table X12 Indices 2012=100'!I87*$I$11","v":84.708737866890004},{"$f":"'Table X12 Indices 2012=100'!J87*$J$11","v":84.683239776959994},{"$f":"'Table X12 Indices 2012=100'!K87*$K$11","v":85.077047849690004},{"$f":"'Table X12 Indices 2012=100'!L87*$L$11","v":83.241106720199994}]
[null,1,2014,{"$f":"'Table X12 Indices 2012=100'!D88*$D$11","v":84.315286619009996},{"$f":"'Table X12 Indices 2012=100'!E88*$E$11","v":84.089101035310009},{"$f":"'Table X12 Indices 2012=100'!F88*$F$11","v":86.639344257270011},{"$f":"'Table X12 Indices 2012=100'!G88*$G$11","v":84.382470119100006},{"$f":"'Table X12 Indices 2012=100'!H88*$H$11","v":84.800000000000011},{"$f":"'Table X12 Indices 2012=100'!I88*$I$11","v":85.355987057850001},{"$f":"'Table X12 Indices 2012=100'!J88*$J$11","v":85.244587010329994},{"$f":"'Table X12 Indices 2012=100'!K88*$K$11","v":85.644768855359999},{"$f":"'Table X12 Indices 2012=100'!L88*$L$11","v":84.5059288546}]
[null,2,2014,{"$f":"'Table X12 Indices 2012=100'!D89*$D$11","v":84.952229294130007},{"$f":"'Table X12 Indices 2012=100'!E89*$E$11","v":85.123309468100004},{"$f":"'Table X12 Indices 2012=100'!F89*$F$11","v":87.377049175259998},{"$f":"'Table X12 Indices 2012=100'!G89*$G$11","v":85.179282868100003},{"$f":"'Table X12 Indices 2012=100'!H89*$H$11","v":85.600000000000009},{"$f":"'Table X12 Indices 2012=100'!I89*$I$11","v":86.245954695419996},{"$f":"'Table X12 Indices 2012=100'!J89*$J$11","v":86.367281477070009},{"$f":"'Table X12 Indices 2012=100'!K89*$K$11","v":86.536901864270007},{"$f":"'Table X12 Indices 2012=100'!L89*$L$11","v":85.059288538399997}]
[null,3,2014,{"$f":"'Table X12 Indices 2012=100'!D90*$D$11","v":86.146496809979993},{"$f":"'Table X12 Indices 2012=100'!E90*$E$11","v":86.316626890549998},{"$f":"'Table X12 Indices 2012=100'!F90*$F$11","v":88.36065573258},{"$f":"'Table X12 Indices 2012=100'!G90*$G$11","v":86.135458166899994},{"$f":"'Table X12 Indices 2012=100'!H90*$H$11","v":86.960000000000008},{"$f":"'Table X12 Indices 2012=100'!I90*$I$11","v":87.135922332990006},{"$f":"'Table X12 Indices 2012=100'!J90*$J$11","v":87.489975943809995},{"$f":"'Table X12 Indices 2012=100'!K90*$K$11","v":87.510137873990004},{"$f":"'Table X12 Indices 2012=100'!L90*$L$11","v":86.324110672800003}]
[null,4,2014,{"$f":"'Table X12 Indices 2012=100'!D91*$D$11","v":86.385350313149999},{"$f":"'Table X12 Indices 2012=100'!E91*$E$11","v":86.7143993647},{"$f":"'Table X12 Indices 2012=100'!F91*$F$11","v":88.770491798129996},{"$f":"'Table X12 Indices 2012=100'!G91*$G$11","v":86.613545816300004},{"$f":"'Table X12 Indices 2012=100'!H91*$H$11","v":87.600000000000009},{"$f":"'Table X12 Indices 2012=100'!I91*$I$11","v":87.540453077340004},{"$f":"'Table X12 Indices 2012=100'!J91*$J$11","v":87.890938253359991},{"$f":"'Table X12 Indices 2012=100'!K91*$K$11","v":87.915652878040007},{"$f":"'Table X12 Indices 2012=100'!L91*$L$11","v":86.482213439600002}]
[null,5,2014,{"$f":"'Table X12 Indices 2012=100'!D92*$D$11","v":86.703821650709997},{"$f":"'Table X12 Indices 2012=100'!E92*$E$11","v":86.793953859529992},{"$f":"'Table X12 Indices 2012=100'!F92*$F$11","v":89.016393437459996},{"$f":"'Table X12 Indices 2012=100'!G92*$G$11","v":86.772908366099998},{"$f":"'Table X12 Indices 2012=100'!H92*$H$11","v":87.68},{"$f":"'Table X12 Indices 2012=100'!I92*$I$11","v":87.864077672820002},{"$f":"'Table X12 Indices 2012=100'!J92*$J$11","v":87.971130715270007},{"$f":"'Table X12 Indices 2012=100'!K92*$K$11","v":88.321167882090009},{"$f":"'Table X12 Indices 2012=100'!L92*$L$11","v":87.114624506799998}]
[null,6,2014,{"$f":"'Table X12 Indices 2012=100'!D93*$D$11","v":86.942675153880003},{"$f":"'Table X12 Indices 2012=100'!E93*$E$11","v":86.953062849190005},{"$f":"'Table X12 Indices 2012=100'!F93*$F$11","v":89.344262289900001},{"$f":"'Table X12 Indices 2012=100'!G93*$G$11","v":87.171314740599996},{"$f":"'Table X12 Indices 2012=100'!H93*$H$11","v":87.920000000000016},{"$f":"'Table X12 Indices 2012=100'!I93*$I$11","v":88.673139161519998},{"$f":"'Table X12 Indices 2012=100'!J93*$J$11","v":88.291900562910001},{"$f":"'Table X12 Indices 2012=100'!K93*$K$11","v":88.483373883710001},{"$f":"'Table X12 Indices 2012=100'!L93*$L$11","v":87.509881423799996}]
[null,7,2014,{"$f":"'Table X12 Indices 2012=100'!D94*$D$11","v":87.738853497779999},{"$f":"'Table X12 Indices 2012=100'!E94*$E$11","v":87.669053302660004},{"$f":"'Table X12 Indices 2012=100'!F94*$F$11","v":90.491803273440013},{"$f":"'Table X12 Indices 2012=100'!G94*$G$11","v":87.729083664899989},{"$f":"'Table X12 Indices 2012=100'!H94*$H$11","v":88.56},{"$f":"'Table X12 Indices 2012=100'!I94*$I$11","v":89.401294501350009},{"$f":"'Table X12 Indices 2012=100'!J94*$J$11","v":88.933440258190004},{"$f":"'Table X12 Indices 2012=100'!K94*$K$11","v":88.888888887760004},{"$f":"'Table X12 Indices 2012=100'!L94*$L$11","v":87.984189724199993}]
[null,8,2014,{"$f":"'Table X12 Indices 2012=100'!D95*$D$11","v":87.977707000949991},{"$f":"'Table X12 Indices 2012=100'!E95*$E$11","v":87.828162292320002},{"$f":"'Table X12 Indices 2012=100'!F95*$F$11","v":90.573770486550004},{"$f":"'Table X12 Indices 2012=100'!G95*$G$11","v":88.047808764500004},{"$f":"'Table X12 Indices 2012=100'!H95*$H$11","v":88.800000000000011},{"$f":"'Table X12 Indices 2012=100'!I95*$I$11","v":89.482200650220008},{"$f":"'Table X12 Indices 2012=100'!J95*$J$11","v":89.254210105829998},{"$f":"'Table X12 Indices 2012=100'!K95*$K$11","v":89.456609893429999},{"$f":"'Table X12 Indices 2012=100'!L95*$L$11","v":88.221343874399992}]
[null,9,2014,{"$f":"'Table X12 Indices 2012=100'!D96*$D$11","v":88.296178338510003},{"$f":"'Table X12 Indices 2012=100'!E96*$E$11","v":88.066825776810006},{"$f":"'Table X12 Indices 2012=100'!F96*$F$11","v":90.737704912769999},{"$f":"'Table X12 Indices 2012=100'!G96*$G$11","v":88.047808764500004},{"$f":"'Table X12 Indices 2012=100'!H96*$H$11","v":88.720000000000013},{"$f":"'Table X12 Indices 2012=100'!I96*$I$11","v":89.482200650220008},{"$f":"'Table X12 Indices 2012=100'!J96*$J$11","v":89.17401764392001},{"$f":"'Table X12 Indices 2012=100'!K96*$K$11","v":89.456609893429999},{"$f":"'Table X12 Indices 2012=100'!L96*$L$11","v":88.221343874399992}]
[null,10,2014,{"$f":"'Table X12 Indices 2012=100'!D97*$D$11","v":88.535031841679995},{"$f":"'Table X12 Indices 2012=100'!E97*$E$11","v":87.98727128198},{"$f":"'Table X12 Indices 2012=100'!F97*$F$11","v":90.655737699659994},{"$f":"'Table X12 Indices 2012=100'!G97*$G$11","v":88.207171314299998},{"$f":"'Table X12 Indices 2012=100'!H97*$H$11","v":88.800000000000011},{"$f":"'Table X12 Indices 2012=100'!I97*$I$11","v":89.563106799090008},{"$f":"'Table X12 Indices 2012=100'!J97*$J$11","v":89.33440256774},{"$f":"'Table X12 Indices 2012=100'!K97*$K$11","v":89.618815895050005},{"$f":"'Table X12 Indices 2012=100'!L97*$L$11","v":88.221343874399992}]
[null,11,2014,{"$f":"'Table X12 Indices 2012=100'!D98*$D$11","v":88.694267510460008},{"$f":"'Table X12 Indices 2012=100'!E98*$E$11","v":88.066825776810006},{"$f":"'Table X12 Indices 2012=100'!F98*$F$11","v":90.819672125880004},{"$f":"'Table X12 Indices 2012=100'!G98*$G$11","v":88.366533864100006},{"$f":"'Table X12 Indices 2012=100'!H98*$H$11","v":88.720000000000013},{"$f":"'Table X12 Indices 2012=100'!I98*$I$11","v":89.401294501350009},{"$f":"'Table X12 Indices 2012=100'!J98*$J$11","v":89.33440256774},{"$f":"'Table X12 Indices 2012=100'!K98*$K$11","v":89.618815895050005},{"$f":"'Table X12 Indices 2012=100'!L98*$L$11","v":88.379446641199991}]
[null,12,2014,{"$f":"'Table X12 Indices 2012=100'!D99*$D$11","v":88.535031841679995},{"$f":"'Table X12 Indices 2012=100'!E99*$E$11","v":88.066825776810006},{"$f":"'Table X12 Indices 2012=100'!F99*$F$11","v":90.491803273440013},{"$f":"'Table X12 Indices 2012=100'!G99*$G$11","v":88.207171314299998},{"$f":"'Table X12 Indices 2012=100'!H99*$H$11","v":88.64},{"$f":"'Table X12 Indices 2012=100'!I99*$I$11","v":89.15857605474001},{"$f":"'Table X12 Indices 2012=100'!J99*$J$11","v":89.093825182009994},{"$f":"'Table X12 Indices 2012=100'!K99*$K$11","v":89.456609893429999},{"$f":"'Table X12 Indices 2012=100'!L99*$L$11","v":88.142292490999992}]
[null,1,2015,{"$f":"'Table X12 Indices 2012=100'!D100*$D$11","v":88.455414007289988},{"$f":"'Table X12 Indices 2012=100'!E100*$E$11","v":88.146380271639998},{"$f":"'Table X12 Indices 2012=100'!F100*$F$11","v":90.327868847220003},{"$f":"'Table X12 Indices 2012=100'!G100*$G$11","v":88.286852589199995},{"$f":"'Table X12 Indices 2012=100'!H100*$H$11","v":88.4},{"$f":"'Table X12 Indices 2012=100'!I100*$I$11","v":89.15857605474001},{"$f":"'Table X12 Indices 2012=100'!J100*$J$11","v":88.933440258190004},{"$f":"'Table X12 Indices 2012=100'!K100*$K$11","v":89.456609893429999},{"$f":"'Table X12 Indices 2012=100'!L100*$L$11","v":87.905138340799994}]
[null,2,2015,{"$f":"'Table X12 Indices 2012=100'!D101*$D$11","v":88.773885344850001},{"$f":"'Table X12 Indices 2012=100'!E101*$E$11","v":88.544152745790001},{"$f":"'Table X12 Indices 2012=100'!F101*$F$11","v":90.819672125880004},{"$f":"'Table X12 Indices 2012=100'!G101*$G$11","v":88.764940238600005},{"$f":"'Table X12 Indices 2012=100'!H101*$H$11","v":88.800000000000011},{"$f":"'Table X12 Indices 2012=100'!I101*$I$11","v":89.805825245700007},{"$f":"'Table X12 Indices 2012=100'!J101*$J$11","v":89.655172415379994},{"$f":"'Table X12 Indices 2012=100'!K101*$K$11","v":90.024330899100008},{"$f":"'Table X12 Indices 2012=100'!L101*$L$11","v":88.300395257800005}]
[null,3,2015,{"$f":"'Table X12 Indices 2012=100'!D102*$D$11","v":90.047770695089994},{"$f":"'Table X12 Indices 2012=100'!E102*$E$11","v":89.419252188919998},{"$f":"'Table X12 Indices 2012=100'!F102*$F$11","v":92.213114748750002},{"$f":"'Table X12 Indices 2012=100'!G102*$G$11","v":90.039840636999998},{"$f":"'Table X12 Indices 2012=100'!H102*$H$11","v":90},{"$f":"'Table X12 Indices 2012=100'!I102*$I$11","v":90.857605181010001},{"$f":"'Table X12 Indices 2012=100'!J102*$J$11","v":90.938251805940013},{"$f":"'Table X12 Indices 2012=100'!K102*$K$11","v":90.916463908010002},{"$f":"'Table X12 Indices 2012=100'!L102*$L$11","v":89.328063241999999}]
[null,4,2015,{"$f":"'Table X12 Indices 2012=100'!D103*$D$11","v":90.84394903898999},{"$f":"'Table X12 Indices 2012=100'!E103*$E$11","v":90.453460621710008},{"$f":"'Table X12 Indices 2012=100'!F103*$F$11","v":93.114754092959998},{"$f":"'Table X12 Indices 2012=100'!G103*$G$11","v":90.916334660899992},{"$f":"'Table X12 Indices 2012=100'!H103*$H$11","v":90.720000000000013},{"$f":"'Table X12 Indices 2012=100'!I103*$I$11","v":91.747572818580011},{"$f":"'Table X12 Indices 2012=100'!J103*$J$11","v":91.740176425040005},{"$f":"'Table X12 Indices 2012=100'!K103*$K$11","v":91.727493916109992},{"$f":"'Table X12 Indices 2012=100'!L103*$L$11","v":90.197628459399994}]
[null,5,2015,{"$f":"'Table X12 Indices 2012=100'!D104*$D$11","v":91.082802542159996},{"$f":"'Table X12 Indices 2012=100'!E104*$E$11","v":90.612569611370006},{"$f":"'Table X12 Indices 2012=100'!F104*$F$11","v":93.278688519180008},{"$f":"'Table X12 Indices 2012=100'!G104*$G$11","v":91.155378485599996},{"$f":"'Table X12 Indices 2012=100'!H104*$H$11","v":90.960000000000008},{"$f":"'Table X12 Indices 2012=100'!I104*$I$11","v":91.82847896745001},{"$f":"'Table X12 Indices 2012=100'!J104*$J$11","v":92.060946272679999},{"$f":"'Table X12 Indices 2012=100'!K104*$K$11","v":92.051905919350006},{"$f":"'Table X12 Indices 2012=100'!L104*$L$11","v":90.118577075999994}]
[null,6,2015,{"$f":"'Table X12 Indices 2012=100'!D105*$D$11","v":91.401273879719994},{"$f":"'Table X12 Indices 2012=100'!E105*$E$11","v":90.930787590690002},{"$f":"'Table X12 Indices 2012=100'!F105*$F$11","v":93.442622945400004},{"$f":"'Table X12 Indices 2012=100'!G105*$G$11","v":91.474103585199998},{"$f":"'Table X12 Indices 2012=100'!H105*$H$11","v":91.360000000000014},{"$f":"'Table X12 Indices 2012=100'!I105*$I$11","v":92.233009711800008},{"$f":"'Table X12 Indices 2012=100'!J105*$J$11","v":92.381716120320007},{"$f":"'Table X12 Indices 2012=100'!K105*$K$11","v":92.457420923400008},{"$f":"'Table X12 Indices 2012=100'!L105*$L$11","v":90.988142293399989}]
[null,7,2015,{"$f":"'Table X12 Indices 2012=100'!D106*$D$11","v":92.277070058009997},{"$f":"'Table X12 Indices 2012=100'!E106*$E$11","v":91.726332538989993},{"$f":"'Table X12 Indices 2012=100'!F106*$F$11","v":94.672131142050006},{"$f":"'Table X12 Indices 2012=100'!G106*$G$11","v":92.430278884000003},{"$f":"'Table X12 Indices 2012=100'!H106*$H$11","v":92.4},{"$f":"'Table X12 Indices 2012=100'!I106*$I$11","v":93.042071200500004},{"$f":"'Table X12 Indices 2012=100'!J106*$J$11","v":93.263833201330002},{"$f":"'Table X12 Indices 2012=100'!K106*$K$11","v":93.106244929880006},{"$f":"'Table X12 Indices 2012=100'!L106*$L$11","v":91.304347827000001}]
[null,8,2015,{"$f":"'Table X12 Indices 2012=100'!D107*$D$11","v":92.277070058009997},{"$f":"'Table X12 Indices 2012=100'!E107*$E$11","v":92.044550518310004},{"$f":"'Table X12 Indices 2012=100'!F107*$F$11","v":94.672131142050006},{"$f":"'Table X12 Indices 2012=100'!G107*$G$11","v":92.589641433799997},{"$f":"'Table X12 Indices 2012=100'!H107*$H$11","v":92.4},{"$f":"'Table X12 Indices 2012=100'!I107*$I$11","v":93.203883498240003},{"$f":"'Table X12 Indices 2012=100'!J107*$J$11","v":93.344025663240004},{"$f":"'Table X12 Indices 2012=100'!K107*$K$11","v":93.268450931499999},{"$f":"'Table X12 Indices 2012=100'!L107*$L$11","v":91.383399210399986}]
[null,9,2015,{"$f":"'Table X12 Indices 2012=100'!D108*$D$11","v":92.595541395569995},{"$f":"'Table X12 Indices 2012=100'!E108*$E$11","v":91.885441528650006},{"$f":"'Table X12 Indices 2012=100'!F108*$F$11","v":94.26229507650001},{"$f":"'Table X12 Indices 2012=100'!G108*$G$11","v":92.430278884000003},{"$f":"'Table X12 Indices 2012=100'!H108*$H$11","v":92.64},{"$f":"'Table X12 Indices 2012=100'!I108*$I$11","v":93.042071200500004},{"$f":"'Table X12 Indices 2012=100'!J108*$J$11","v":93.263833201330002},{"$f":"'Table X12 Indices 2012=100'!K108*$K$11","v":93.025141929070003},{"$f":"'Table X12 Indices 2012=100'!L108*$L$11","v":91.304347827000001}]
[null,10,2015,{"$f":"'Table X12 Indices 2012=100'!D109*$D$11","v":92.914012733129994},{"$f":"'Table X12 Indices 2012=100'!E109*$E$11","v":92.203659507970002},{"$f":"'Table X12 Indices 2012=100'!F109*$F$11","v":94.26229507650001},{"$f":"'Table X12 Indices 2012=100'!G109*$G$11","v":92.5099601589},{"$f":"'Table X12 Indices 2012=100'!H109*$H$11","v":92.800000000000011},{"$f":"'Table X12 Indices 2012=100'!I109*$I$11","v":93.203883498240003},{"$f":"'Table X12 Indices 2012=100'!J109*$J$11","v":93.504410587059994},{"$f":"'Table X12 Indices 2012=100'!K109*$K$11","v":93.106244929880006},{"$f":"'Table X12 Indices 2012=100'!L109*$L$11","v":91.778656127399998}]
[null,11,2015,{"$f":"'Table X12 Indices 2012=100'!D110*$D$11","v":93.073248401910007},{"$f":"'Table X12 Indices 2012=100'!E110*$E$11","v":92.521877487289998},{"$f":"'Table X12 Indices 2012=100'!F110*$F$11","v":94.590163928940015},{"$f":"'Table X12 Indices 2012=100'!G110*$G$11","v":92.669322708699994},{"$f":"'Table X12 Indices 2012=100'!H110*$H$11","v":92.800000000000011},{"$f":"'Table X12 Indices 2012=100'!I110*$I$11","v":93.284789647110003},{"$f":"'Table X12 Indices 2012=100'!J110*$J$11","v":93.58460304897001},{"$f":"'Table X12 Indices 2012=100'!K110*$K$11","v":93.268450931499999},{"$f":"'Table X12 Indices 2012=100'!L110*$L$11","v":92.411067194600008}]
[null,12,2015,{"$f":"'Table X12 Indices 2012=100'!D111*$D$11","v":93.312101905079999},{"$f":"'Table X12 Indices 2012=100'!E111*$E$11","v":92.760540971779989},{"$f":"'Table X12 Indices 2012=100'!F111*$F$11","v":94.672131142050006},{"$f":"'Table X12 Indices 2012=100'!G111*$G$11","v":93.227091633000001},{"$f":"'Table X12 Indices 2012=100'!H111*$H$11","v":92.960000000000008},{"$f":"'Table X12 Indices 2012=100'!I111*$I$11","v":93.608414242590015},{"$f":"'Table X12 Indices 2012=100'!J111*$J$11","v":93.905372896610004},{"$f":"'Table X12 Indices 2012=100'!K111*$K$11","v":93.511759933930009},{"$f":"'Table X12 Indices 2012=100'!L111*$L$11","v":92.252964427799995}]
[null,1,2016,{"$f":"'Table X12 Indices 2012=100'!D112*$D$11","v":93.949044580199995},{"$f":"'Table X12 Indices 2012=100'!E112*$E$11","v":93.63564041491},{"$f":"'Table X12 Indices 2012=100'!F112*$F$11","v":95.245901633820012},{"$f":"'Table X12 Indices 2012=100'!G112*$G$11","v":94.262948206700003},{"$f":"'Table X12 Indices 2012=100'!H112*$H$11","v":93.84},{"$f":"'Table X12 Indices 2012=100'!I112*$I$11","v":94.498381880160011},{"$f":"'Table X12 Indices 2012=100'!J112*$J$11","v":94.627105053800008},{"$f":"'Table X12 Indices 2012=100'!K112*$K$11","v":94.484995943650006},{"$f":"'Table X12 Indices 2012=100'!L112*$L$11","v":93.12252964519999}]
[null,2,2016,{"$f":"'Table X12 Indices 2012=100'!D113*$D$11","v":94.984076427269997},{"$f":"'Table X12 Indices 2012=100'!E113*$E$11","v":95.226730311509996},{"$f":"'Table X12 Indices 2012=100'!F113*$F$11","v":96.475409830469999},{"$f":"'Table X12 Indices 2012=100'!G113*$G$11","v":95.378486055300002},{"$f":"'Table X12 Indices 2012=100'!H113*$H$11","v":95.04},{"$f":"'Table X12 Indices 2012=100'!I113*$I$11","v":95.631067964340005},{"$f":"'Table X12 Indices 2012=100'!J113*$J$11","v":95.990376906270001},{"$f":"'Table X12 Indices 2012=100'!K113*$K$11","v":96.188158960660004},{"$f":"'Table X12 Indices 2012=100'!L113*$L$11","v":95.019762846799992}]
[null,3,2016,{"$f":"'Table X12 Indices 2012=100'!D114*$D$11","v":95.780254771169993},{"$f":"'Table X12 Indices 2012=100'!E114*$E$11","v":95.783611775320011},{"$f":"'Table X12 Indices 2012=100'!F114*$F$11","v":96.88524589602001},{"$f":"'Table X12 Indices 2012=100'!G114*$G$11","v":96.254980079199996},{"$f":"'Table X12 Indices 2012=100'!H114*$H$11","v":96},{"$f":"'Table X12 Indices 2012=100'!I114*$I$11","v":96.278317155300002},{"$f":"'Table X12 Indices 2012=100'!J114*$J$11","v":96.631916601550003},{"$f":"'Table X12 Indices 2012=100'!K114*$K$11","v":96.755879966329999},{"$f":"'Table X12 Indices 2012=100'!L114*$L$11","v":96.126482214399985}]
[null,4,2016,{"$f":"'Table X12 Indices 2012=100'!D115*$D$11","v":96.41719744628999},{"$f":"'Table X12 Indices 2012=100'!E115*$E$11","v":96.817820208110007},{"$f":"'Table X12 Indices 2012=100'!F115*$F$11","v":97.622950814009997},{"$f":"'Table X12 Indices 2012=100'!G115*$G$11","v":96.972111553299996},{"$f":"'Table X12 Indices 2012=100'!H115*$H$11","v":96.960000000000008},{"$f":"'Table X12 Indices 2012=100'!I115*$I$11","v":97.33009709061001},{"$f":"'Table X12 Indices 2012=100'!J115*$J$11","v":97.433841220649995},{"$f":"'Table X12 Indices 2012=100'!K115*$K$11","v":97.648012975240007},{"$f":"'Table X12 Indices 2012=100'!L115*$L$11","v":97.62845849899999}]
[null,5,2016,{"$f":"'Table X12 Indices 2012=100'!D116*$D$11","v":96.41719744628999},{"$f":"'Table X12 Indices 2012=100'!E116*$E$11","v":97.136038187429989},{"$f":"'Table X12 Indices 2012=100'!F116*$F$11","v":97.786885240230006},{"$f":"'Table X12 Indices 2012=100'!G116*$G$11","v":97.290836652899998},{"$f":"'Table X12 Indices 2012=100'!H116*$H$11","v":97.12},{"$f":"'Table X12 Indices 2012=100'!I116*$I$11","v":97.41100323948001},{"$f":"'Table X12 Indices 2012=100'!J116*$J$11","v":97.674418606380002},{"$f":"'Table X12 Indices 2012=100'!K116*$K$11","v":97.891321977670003},{"$f":"'Table X12 Indices 2012=100'!L116*$L$11","v":97.549407115600005}]
[null,6,2016,{"$f":"'Table X12 Indices 2012=100'!D117*$D$11","v":97.133757955799993},{"$f":"'Table X12 Indices 2012=100'!E117*$E$11","v":97.852028640900002},{"$f":"'Table X12 Indices 2012=100'!F117*$F$11","v":98.524590158220008},{"$f":"'Table X12 Indices 2012=100'!G117*$G$11","v":97.768924302300007},{"$f":"'Table X12 Indices 2012=100'!H117*$H$11","v":97.84},{"$f":"'Table X12 Indices 2012=100'!I117*$I$11","v":97.815533983830008},{"$f":"'Table X12 Indices 2012=100'!J117*$J$11","v":98.15557337784},{"$f":"'Table X12 Indices 2012=100'!K117*$K$11","v":98.134630980099999},{"$f":"'Table X12 Indices 2012=100'!L117*$L$11","v":97.707509882399989}]
[null,7,2016,{"$f":"'Table X12 Indices 2012=100'!D118*$D$11","v":97.850318465309996},{"$f":"'Table X12 Indices 2012=100'!E118*$E$11","v":98.408910104710003},{"$f":"'Table X12 Indices 2012=100'!F118*$F$11","v":99.262295076209995},{"$f":"'Table X12 Indices 2012=100'!G118*$G$11","v":98.486055776399994},{"$f":"'Table X12 Indices 2012=100'!H118*$H$11","v":98.88},{"$f":"'Table X12 Indices 2012=100'!I118*$I$11","v":98.786407770270003},{"$f":"'Table X12 Indices 2012=100'!J118*$J$11","v":98.957497996940006},{"$f":"'Table X12 Indices 2012=100'!K118*$K$11","v":98.783454986579997},{"$f":"'Table X12 Indices 2012=100'!L118*$L$11","v":98.498023716399999}]
[null,8,2016,{"$f":"'Table X12 Indices 2012=100'!D119*$D$11","v":97.691082796529997},{"$f":"'Table X12 Indices 2012=100'!E119*$E$11","v":98.727128084029999},{"$f":"'Table X12 Indices 2012=100'!F119*$F$11","v":99.180327863100004},{"$f":"'Table X12 Indices 2012=100'!G119*$G$11","v":98.645418326200002},{"$f":"'Table X12 Indices 2012=100'!H119*$H$11","v":98.720000000000013},{"$f":"'Table X12 Indices 2012=100'!I119*$I$11","v":98.867313919140003},{"$f":"'Table X12 Indices 2012=100'!J119*$J$11","v":98.797113073120002},{"$f":"'Table X12 Indices 2012=100'!K119*$K$11","v":98.864557987390015},{"$f":"'Table X12 Indices 2012=100'!L119*$L$11","v":98.498023716399999}]
[null,9,2016,{"$f":"'Table X12 Indices 2012=100'!D120*$D$11","v":98.089171968480002},{"$f":"'Table X12 Indices 2012=100'!E120*$E$11","v":98.806682578860006},{"$f":"'Table X12 Indices 2012=100'!F120*$F$11","v":99.098360649990013},{"$f":"'Table X12 Indices 2012=100'!G120*$G$11","v":99.0438247007},{"$f":"'Table X12 Indices 2012=100'!H120*$H$11","v":98.960000000000008},{"$f":"'Table X12 Indices 2012=100'!I120*$I$11","v":98.786407770270003},{"$f":"'Table X12 Indices 2012=100'!J120*$J$11","v":98.957497996940006},{"$f":"'Table X12 Indices 2012=100'!K120*$K$11","v":99.026763989009993},{"$f":"'Table X12 Indices 2012=100'!L120*$L$11","v":98.893280633399996}]
[null,10,2016,{"$f":"'Table X12 Indices 2012=100'!D121*$D$11","v":98.646496809210007},{"$f":"'Table X12 Indices 2012=100'!E121*$E$11","v":99.124900558180002},{"$f":"'Table X12 Indices 2012=100'!F121*$F$11","v":99.672131141760005},{"$f":"'Table X12 Indices 2012=100'!G121*$G$11","v":99.442231075199999},{"$f":"'Table X12 Indices 2012=100'!H121*$H$11","v":99.44},{"$f":"'Table X12 Indices 2012=100'!I121*$I$11","v":99.433656961230014},{"$f":"'Table X12 Indices 2012=100'!J121*$J$11","v":99.438652768400004},{"$f":"'Table X12 Indices 2012=100'!K121*$K$11","v":99.513381993870013},{"$f":"'Table X12 Indices 2012=100'!L121*$L$11","v":99.288537550399994}]
[null,11,2016,{"$f":"'Table X12 Indices 2012=100'!D122*$D$11","v":99.044585981159997},{"$f":"'Table X12 Indices 2012=100'!E122*$E$11","v":99.52267303232999},{"$f":"'Table X12 Indices 2012=100'!F122*$F$11","v":99.99999999420001},{"$f":"'Table X12 Indices 2012=100'!G122*$G$11","v":99.601593624999992},{"$f":"'Table X12 Indices 2012=100'!H122*$H$11","v":99.76},{"$f":"'Table X12 Indices 2012=100'!I122*$I$11","v":99.676375407840013},{"$f":"'Table X12 Indices 2012=100'!J122*$J$11","v":99.759422616040013},{"$f":"'Table X12 Indices 2012=100'!K122*$K$11","v":99.756690996300009},{"$f":"'Table X12 Indices 2012=100'!L122*$L$11","v":99.84189723419999}]
[null,12,2016,{"$f":"'Table X12 Indices 2012=100'!D123*$D$11","v":99.999999993839992},{"$f":"'Table X12 Indices 2012=100'!E123*$E$11","v":100.00000000131},{"$f":"'Table X12 Indices 2012=100'!F123*$F$11","v":99.99999999420001},{"$f":"'Table X12 Indices 2012=100'!G123*$G$11","v":99.999999999500005},{"$f":"'Table X12 Indices 2012=100'!H123*$H$11","v":100},{"$f":"'Table X12 Indices 2012=100'!I123*$I$11","v":100.00000000332},{"$f":"'Table X12 Indices 2012=100'!J123*$J$11","v":100.00000000177},{"$f":"'Table X12 Indices 2012=100'!K123*$K$11","v":99.999999998730004},{"$f":"'Table X12 Indices 2012=100'!L123*$L$11","v":100.00000000099999}]
[null,"2017\n↓",null,"The regional indices found in Table 14 of P0141 are discontinued from January 2017.\nPlease refer to and use the indices per province given in P0141 Table A / Tables 3 to 11 in the Additional Tables. *"]
[null,null,null,"The listed Indices above and below are applicable from January 2017 onwards; be reminded to also update the base month indice\nfor calculations taken from January 2017 (without affecting calculations prior to January 2017). "]
[null,1,2017,100.5,100.7,100.6,100.7,100.6,100.8,100.7,100.6,100.6]
[null,2,2017,101.9,101.5,101.4,101.5,101.6,101.7,101.8,101.4,101.3]
[null,3,2017,102.5,102.1,101.6,102,102,102,102.4,101.7,102]
[null,4,2017,102.5,102.2,101.8,102.3,102.1,101.9,102.5,101.8,102.1]
[null,5,2017,102.7,102.7,102,102.4,102.3,102.3,102.8,102.2,102.1]
[null,6,2017,102.9,102.7,102.1,102.7,102.6,102.2,103.2,102.4,102.4]
[null,7,2017,103.2,103,102.5,102.8,102.7,102.2,103.5,102.5,102.6,null,"SEE 'NO LONGER APPLICABLE- PLANT\""]
[null,8,2017,103.3,102.8,102.7,103.1,102.9,102.4,103.5,102.5,102.4]
[null,9,2017,104.3,103.5,103.1,103.4,103.2,102.7,103.9,102.8,103.1]
[null,10,2017,104.8,103.7,103.2,103.6,103.5,102.9,104.2,103,103.4]
[null,11,2017,104.9,103.8,103.5,103.8,103.7,103,104.3,103.3,103.4]
[null,12,2017,105.3,104.6,103.8,104.1,104.1,103.3,104.8,103.8,104.1]
[null,null,null,"The regional indices found in Table 14 of P0141 are discontinued from January 2017.\nPlease refer to and use the indices per province given in P0141 Table A / Tables 3 to 11 in the Additional Tables. *"]
[null,null,null,"The listed Indices above are applicable from January 2017 onwards; be reminded to also update the base month indice\nfor calculations taken from January 2017 (without affecting calculations prior to January 2017). "]
[]
[]
[null,null,null,0.79176563740000006,0.78616352199999995,0.77519379840000002,0.77579519009999998,0.8006405124,0.77279752700000004,0.78864353310000002,0.78740157479999995,0.79744816590000001,null,2.2719999999999998,2.89,3.22,4.149,1.909,null,2.1960000000000002,1.992,4.24,4.2050000000000001]
[]
[]
[]
[]
[]
[]
[]
[null,"2018\n↓",null,"The indices below are a continuation of the Labour indices as per the previous years."]
[null,null,null,"Table A- Consumer Price Index: Main indices P0141"]
[null,"Month","Year","Western Cape","Eastern Cape","Northern Cape","Free State","KwaZulu Natal","North West","Gauteng","Mpumalanga","Limpopo"]
[]
[null,"December",2017,105.3,104.6,103.8,104.1,104.1,103.3,104.8,103.8,104.3]
[null,"Jan",2018,105.7,104.9,104.3,104.6,104.4,103.7,105.1,104.2,104.3]
[null,"Feb",2018,106.7,105.6,105,105.4,104.9,104.5,105.9,104.7,104.9]
[null,"Mar",2018,107,106,105.1,105.7,105.2,104.8,106.4,105,105]
[null,"Apr",2018,107.9,106.8,105.9,106.4,105.9,105.4,107.2,105.7,105.7]
[null,"May",2018,108,106.8,105.9,106.7,106.2,105.7,107.4,105.8,105.8]
[null,"Jun",2018,108.5,107.1,106.3,107.4,106.4,105.9,107.9,106.2,106.1]
[null,"Jul",2018,109.3,107.6,106.7,107.7,107.3,106.5,108.9,106.7,106.7]
[null,"Aug",2018,109.3,107.6,106.7,107.6,107.2,106.5,108.9,106.6,106.8]
[null,"Sep",2018,110.1,108.2,107.5,108.1,107.6,107,109.2,107.7,107.1]
[null,"Oct",2018,110.5,108.8,107.8,108.5,108.1,107.4,109.7,108.2,107.5]
[null,"Nov",2018,110.9,108.9,108.1,108.7,108.4,107.5,109.9,108.3,107.8]
[null,"Dec",2018,110.8,108.7,108,108.7,108.1,106.9,109.6,108,107.8]
[]
[]
[]
[]
[]
[null,"2019\n↓",null,"The indices below are a continuation of the Labour indices as per the previous years."]
[null,null,null,"Table A- Consumer Price Index: Main indices P0141"]
[null,"Month","Year","Western Cape","Eastern Cape","Northern Cape","Free State","KwaZulu Natal","North West","Gauteng","Mpumalanga","Limpopo"]
[]
[null,"Jan",2019,110.6,108.7,108.2,108.9,108.2,107.1,109.4,108.1,107.9]
[null,"Feb",2019,111.7,109.8,108.9,109.7,108.7,107.9,110.3,108.9,108.8]
[null,"Mar",2019,112.9,110.2,109.7,110.6,109.5,108.8,111,109.6,110]
[null,"Apr",2019,113.5,110.9,110.3,111.2,110,109.5,111.7,110.2,110.4]
[null,"May",2019,113.8,111,110.4,111.4,110.4,109.7,112.1,110.5,111.1]
[null,"Jun",2019,114.3,111.3,110.9,111.6,110.7,110,112.5,110.8,111.1]
[null,"Jul",2019,114.6,111.7,111.5,111.9,111.3,110.3,113,111.1,111.7]
[null,"Aug",2019,114.7,111.9,111.6,112.1,111.6,110.6,113.4,111.3,111.8]
[null,"Sep",2019,115.2,112.2,111.9,112.4,111.9,110.8,113.6,111.7,112.2]
[null,"Oct",2019,115.2,112.2,111.9,112.5,112,110.8,113.6,111.8,112.3]
[null,"Nov",2019,115.4,112.4,111.9,112.6,112.1,111,113.6,112.1,112.2]
[null,"Dec",2019,115.7,112.7,112.3,112.8,112.1,111.1,113.9,112.2,112.9]
[]
[]
[]
[]
[]
[null,"2020\n↓",null,"The indices below are a continuation of the Labour indices as per the previous years."]
[null,null,null,"Table A- Consumer Price Index: Main indices P0141"]
[null,"Month","Year","Western Cape","Eastern Cape","Northern Cape","Free State","KwaZulu Natal","North West","Gauteng","Mpumalanga","Limpopo"]
[]
[null,"Jan",2020,116.2,113,113,113.3,112.5,111.5,114.2,112.6,113]
[null,"Feb",2020,117.6,114.1,114,114.2,113.4,112.4,115.2,113.4,113.8]
[null,"Mar",2020,118.3,114.3,114.2,114.7,113.9,112.9,115.5,113.8,114]
[null,"Apr",2020,117.6,113.6,113.7,114.2,113.3,112.3,114.8,113.2,113.5]
[null,"May",2020,116.8,113.1,113.1,113.7,112.8,111.6,114,112.6,112.9]
[null,"Jun",2020,117.5,113.7,113.7,114.1,113.3,112.1,114.6,113.2,113.4]
[null,"Jul",2020,118.8,115.3,115,115.4,114.6,113.7,116.3,114.4,115.2]
[null,"Aug",2020,119.1,115.5,115.1,115.5,114.8,113.9,116.5,114.5,115.3]
[null,"Sep",2020,119.4,115.7,115.4,115.7,115.1,114.1,116.6,114.6,115.5]
[null,"Oct",2020,119.7,116.1,115.8,116,115.5,114.4,116.9,115,115.9]
[null,"Nov",2020,119.7,116.1,115.9,116.1,115.6,114.5,116.9,115.1,116]
[null,"Dec",2020,120,116.4,116.2,116.4,115.8,114.7,117.1,115.4,116.2]
[]
[]
[]
[]
[null,"2021\n↓",null,"The indices below are a continuation of the Labour indices as per the previous years."]
[null,null,null,"Table A- Consumer Price Index: Main indices P0141"]
[null,"Month","Year","Western Cape","Eastern Cape","Northern Cape","Free State","KwaZulu Natal","North West","Gauteng","Mpumalanga","Limpopo"]
[]
[null,"Jan",2021,120.4,116.8,116.6,116.8,116.2,115.2,117.5,115.7,116.6]
[null,"Feb",2021,121.4,117.6,117.2,117.5,116.9,116.1,118.3,116.5,117.2]
[null,"Mar",2021,122.3,118.3,117.9,118.4,117.7,117.1,119.1,117.3,118.2]
[null,"Apr",2021,122.9,119,118.5,119.1,118.4,117.8,119.9,118,118.9]
[null,"May",2021,"123.1","119.2","118.8","119.4","118.6","118.0",120,"118.2","119.2"]
[null,"Jun",2021,123.4,119.8,119.6,119.8,118.9,118.9,120.1,118.4,119.7]
[null,"Jul",2021,124.7,121,120.7,120.8,120.1,120,121.5,119.5,120.7]
[null,"Aug",2021,125.3,121.4,121.3,121.2,120.6,120.4,122.1,120,121.2]
[null,"Sep",2021,125.5,121.7,121.6,121.4,120.9,120.6,122.3,120.2,121.4]
[null,"Oct",2021,125.9,122.2,122,121.8,121.3,121.1,122.6,120.7,121.8]
[null,"Nov",2021,126.5,122.6,122.4,122.2,121.8,121.6,123.3,121.2,122.4]
[null,"Dec",2021,127.1,123.1,123.2,123,122.4,122.2,124,122,123]
[]
[]
[]
[null,"2022\n↓",null,"The indices below are a continuation of the Labour indices as per the previous years."]
[null,null,null,"Table A- Consumer Price Index: Main indices P0141 December 2021= 100"]
[null,"Month","Year","Western Cape","Eastern Cape","Northern Cape","Free State","KwaZulu Natal","North West","Gauteng","Mpumalanga","Limpopo"]
[]
[null,"Dec21 =100 Conversion Factor",null,1.2709999999999999,1.2309999999999999,1.232,1.23,1.224,1.222,1.24,1.22,1.23]
[null,"Jan",2022,100,100.4,100.3,100.3,100.2,100.2,100.2,100.3,100.4]
[null,"Feb",2022,100.7,100.9,100.9,100.9,100.8,100.8,100.8,100.9,101]
[null,"Mar",2022,101.6,102.1,101.7,101.9,101.9,101.9,101.9,102,102.4]
[null,"Apr",2022,102.2,102.7,102.3,102.5,102.5,102.4,102.4,102.5,103]
[null,"May",2022,102.8,103.4,103,103.2,103.3,103.2,103.1,103.3,103.9]
[null,"Jun",2022,104,104.7,104.5,104,104.5,104.4,104.2,104.7,104.9]
[null,"Jul",2022,105.6,107,106.3,106.4,106,105.5,105.8,105.8,106.8]
[null,"Aug",2022,105.7,107.3,106.7,107,106.4,106,106,106.2,107.2]
[null,"Sep",2022,105.9,107.2,106.8,107.4,106.5,105.9,106,106.7,107.1]
[null,"Oct",2022,106.3,107.7,107.2,107.8,107.2,106.3,106.3,107.1,107.3]
[null,"Nov",2022,106.6,108,107.4,108.1,107.6,106.8,106.6,107.4,107.7]
[null,"Dec",null,106.9,108.5,107.7,108.6,108.1,107.4,106.8,108.3,108.1]
[null,"2023\n↓",null,"The indices below are a continuation of the Labour indices as per the previous years."]
[null,null,null,"Table A- Consumer Price Index: Main indices P0141 December 2021= 100"]
[null,"Month","Year","Western Cape","Eastern Cape","Northern Cape","Free State","KwaZulu Natal","North West","Gauteng","Mpumalanga","Limpopo"]
[]
[null,"Dec21 =100 Conversion Factor",null,1.2709999999999999,1.2309999999999999,1.232,1.23,1.224,1.222,1.24,1.22,1.23]
[null,"Jan",2023,106.9,108.5,108,108.7,108.2,107.5,106.7,108.3,108.4]
[null,"Feb",2023,107.7,109.1,108.6,109.5,108.9,108.2,107.6,109,109.1]
[null,"Mar",2023,108.8,110.2,109.6,110.6,109.9,109.2,108.6,110.1,110]
[null,"Apr",2023,109.4,110.6,110.1,111.1,110.5,109.7,109,110.6,110.4]
[null,"May",2023,109.6,110.9,110.3,111.2,110.7,109.8,109.2,110.8,110.6]
[null,"Jun",2023,109.8,111.2,110.7,111.5,111.3,109.9,109.3,110.9,110.9]
[null,"Jul",2023,110.7,112.1,111.8,112.2,112.3,111,110.3,111.7,111.5]
[null,"Aug",2023,111.3,112.5,112.1,112.4,112.4,111.2,110.6,112.1,111.3]
[null,"Sep",2023,112.1,113.2,112.8,113.2,113.1,111.9,111.4,112.8,112]
[null,"Oct",2023,113.2,114.2,113.5,114,114.1,112.8,112.4,113.8,113.1]
[null,"Nov",2023,113.1,114.2,113.8,114.2,113.9,112.8,112.3,113.9,113.1]
[null,"Dec",2023,112.9,114.1,113.8,114.3,114,112.8,112.3,114.2,113]
[]
[null,"2024\n↓",null,"The indices below are a continuation of the Labour indices as per the previous years."]
[null,null,null,"Table A- Consumer Price Index: Main indices P0141 December 2021= 100"]
[null,"Month","Year","Western Cape","Eastern Cape","Northern Cape","Free State","KwaZulu Natal","North West","Gauteng","Mpumalanga","Limpopo"]
[]
[null,"Dec21 =100 Conversion Factor",null,1.2709999999999999,1.2309999999999999,1.232,1.23,1.224,1.222,1.24,1.22,1.23]
[null,"Jan",2024,113.1,114,113.8,114.6,114.2,112.8,112.2,114.2,113.3]
[null,"Feb",2024,114.5,115.2,114.6,115.5,114.9,113.8,113.4,114.9,113.9]
[null,"Mar",2024,115.2,116.1,115.3,116.4,115.8,114.6,114.3,115.6,114.7]
[null,"Apr",2024,"115.6","116.1","115.8","116.6","116.1","115.3","114.6","116.0","115.2"]
[null,"May",2024,"115.8","116.8","116.0","116.9","116.3","115.5","114.8","116.3","115.3"]
[null,"Jun",2024,"115.7","116.8","116.3","117.0","116.3","115.6","114.9","116.3","115.4"]
[null,"Jul",2024,"116.4","117.2","116.8","117.5","117.2","115.9","115.5","116.7","115.8"]
[null,"Aug",2024,116.4,117.3,116.9,117.6,117.3,116,115.4,116.8,115.9]
[null,"Sep",2024,"116.9","117.4","116.8","117.8","117.4","116.0","115.4","116.7","115.8"]
[null,"Oct",2024,"117.1","117.4","116.5","117.6","117.3","115.9","115.3","116.6","115.9"]
[null,"Nov",2024,"116.9","117.4","116.6","117.8","117.4","116.1","115.3","116.7","115.8"]
[null,"Dec",2024,"117.1","117.6","116.9","118.3","117.6","116.2","115.2","116.9","116.0"]
[null,"Dec24 = 100"]
[null,"Conversion Factor",null,"1.171","1.176","1.169","1.183","1.176","1.162","1.152","1.169","1.160"]
[null,"Jan",2025,"100.3","100.2","100.4","100.0","100.2","100.6","100.3","100.3","100.4"]
[null,"Feb",2025,"101.6","101.1","101.3","101.0","100.9","101.5","101.2","100.9","101.2"]

{"sheet":"Plant Material Fuel","index":1,"n_rows":124,"n_cols":18,"rows_kept":124,"cut":false,"hidden":false,"merged":[[0,2,0,16],[19,2,19,16],[20,3,20,15],[38,2,38,16],[40,0,41,1],[21,0,22,1],[2,0,3,1],[39,3,39,15],[1,3,1,15],[107,3,107,15],[108,0,108,1],[109,0,109,1],[56,3,56,15],[57,0,58,1],[90,3,90,15],[91,0,91,1],[92,0,92,1],[73,3,73,15],[74,0,74,1],[75,0,75,1]]}
[null,null,"THE CORRECT MATERIAL INDEX NEED TO BE AGREED UPON FOR EACH PARTICULAR PROJECT (with consulting eng and client) Please refer to the SAFCEC recommendation document and a worked example for clarity; available on the SAFCEC website)."]
[null,null,"Table 4 P0151.1","Civil engineering material price indices- Table 6 P0151.1",null,null,null,null,null,null,null,null,null,null,null,null,"Table 1 P0142.1"]
["2018\n↓",null,"Mining and construction plant and equipment price index","Civil engineering material- total","Civil engineering material (excluding bitumen)","Civil engineering material (excluding reinforcing metal work)","Civil engineering material (excluding reinforcing metal work and bitumen)","Civil engineering material-structures (excluding bitumen)","Civil engineering material -roads, general","Civil engineering material-roads, general (excluding bitumen)","Civil engineering material-roads, refurbishment","Civil engineering material-roads, refurbishment (excluding bitumen)","Civil engineering material -roads, reseal","Civil engineering material -roads, reseal (excluding bitumen)","Civil engineering material-bulk earthworks","Civil engineering material-bulk earthworks (excluding bitumen)","Fuel Diesel"]
[null,null,111.5,111.5,110.3,112,112,112,112,112,112,112,112,112,112,112,109.6]
[2017,"Dec",101,111.5,110.3,112,109.6,113.6,118,118.2,118.2,119.1,116.8,116.8,113.3,113.8,117.8]
[null,"Jan",101.5,112.8,113,113.8,112.9,117.1,122,124.3,121.4,125.8,115.8,122.6,117.7,119,115.6]
[null,"Feb",102,111.2,110.6,112.1,110.5,114,118.9,120,118.5,121,114.7,118.5,114.8,115.6,114]
[null,"Mar",101.5,111.3,112.1,112.1,112.3,115.3,118.6,121,117.7,122.3,111.8,120.1,115.6,116.8,109.9]
[null,"Apr",101.5,111.4,112.5,111.8,112.7,115.6,118.2,120.8,117.2,122.2,111.4,119.7,115.2,116.4,115.4]
[null,"May",101.6,112.3,112.8,112.9,112.9,116.1,119.8,121.9,119.2,123.5,114.1,120.9,116.1,117.2,121.5]
[null,"Jun",101.7,114,112.8,114.8,112.7,116.2,121,121.4,121.3,122.6,119.3,120.3,116.2,116.7,128.80000000000001]
[null,"Jul",101.8,116.9,114.6,117.6,114.1,118.8,124.6,124.1,125.2,125.1,124.5,122.1,118.7,118.9,130.9]
[null,"Aug",103.2,116.5,115,116.7,114.6,119,123.6,123.8,124,125,122.5,122.4,118.5,119,130.5]
[null,"Sep",103.6,117.8,116.5,117.1,115.5,121,125,125.3,124.9,125.9,123.2,123,120.2,120.6,130.5]
[null,"Oct",103.4,121.1,119,119.7,117.1,124.2,128.4,127.8,128.5,128,128.6,125.1,122.6,122.8,141.9]
[null,"Nov",103.6,122.3,119.4,121.4,117.5,124.7,130,128.80000000000001,130.6,129,131.80000000000001,126.1,123.6,123.5,146.5]
[null,"Dec",103.5,121,119.3,119.9,117.9,124.4,128.80000000000001,128.9,128.80000000000001,129.4,127.7,126.5,123.3,123.7,132]
[]
[]
[null,null,"THE CORRECT MATERIAL INDEX NEED TO BE AGREED UPON FOR EACH PARTICULAR PROJECT (with consulting eng and client) Please refer to the SAFCEC recommendation document and a worked example for clarity; available on the SAFCEC website)."]
[null,null,"Table 4 P0151.1","Civil engineering material price indices- Table 6 P0151.1",null,null,null,null,null,null,null,null,null,null,null,null,"Table 1 P0142.1"]
["2019\n↓",null,"Mining and construction plant and equipment price index","Civil engineering material- total","Civil engineering material (excluding bitumen)","Civil engineering material (excluding reinforcing metal work)","Civil engineering material (excluding reinforcing metal work and bitumen)","Civil engineering material-structures (excluding bitumen)","Civil engineering material -roads, general","Civil engineering material-roads, general (excluding bitumen)","Civil engineering material-roads, refurbishment","Civil engineering material-roads, refurbishment (excluding bitumen)","Civil engineering material -roads, reseal","Civil engineering material -roads, reseal (excluding bitumen)","Civil engineering material-bulk earthworks","Civil engineering material-bulk earthworks (excluding bitumen)","Fuel Diesel"]
[null,null,111.5,111.5,110.3,112,112,112,112,112,112,112,112,112,112,112,109.6]
[null,"Jan",105.9,118.3,118.9,117.2,117.6,123.6,126,128.30000000000001,124.9,129.1,119.7,126.3,122.4,123.5,117.9]
[null,"Feb",105.3,119.2,119.8,118.6,118.8,124.1,126.7,128.80000000000001,125.9,129.6,120.5,126.9,123.4,124.4,118]
[null,"Mar",105.5,121.4,120.6,121.9,119.9,124.3,127.8,128.4,127.9,129.5,125.4,127.2,124,124.4,126.4]
[null,"Apr",105.6,122.6,120.6,123.5,119.8,124.4,129.19999999999999,128.6,129.9,129.6,129.30000000000001,127.3,124.5,124.6,133.69999999999999]
[null,"May",105.5,124.7,122.6,126.2,122.3,126.1,130.30000000000001,129.5,131.4,131,131.4,129.30000000000001,126,125.9,133.80000000000001]
[null,"Jun",105.5,124,121.1,125.2,120.5,124.5,130,128.5,131.1,129.4,132.19999999999999,127.2,124.7,124.4,136.80000000000001]
[null,"Jul",106,123.5,121.7,123.9,120.7,125.3,129.19999999999999,128.5,129.5,128.9,129.5,126.6,124.4,124.2,130.4]
[null,"Aug",106.1,124.3,122,125,121.5,125.4,130,128.9,130.69999999999999,129.6,131.19999999999999,127,124.9,124.7,129.1]
[null,"Sep",106.2,123.8,122.8,124.3,122.2,126,129.30000000000001,129.30000000000001,129.4,130.1,128,127.6,125,125.1,131.5]
[null,"Oct",106.3,125.2,123.1,125.8,122.6,126.2,130.1,129,130.80000000000001,129.6,131.5,127.5,125.3,124.9,133.80000000000001]
[null,"Nov",106.2,122,122.1,122,121.8,125.1,127.1,128,126.5,128.6,123.7,126.5,123.8,124.2,132.4]
[null,"Dec",106.3,119.1,122,118,121.6,124.9,124.3,127.8,122,128.30000000000001,114.8,126.1,122.7,123.9,131]
[]
[]
[]
[null,null,"THE CORRECT MATERIAL INDEX NEED TO BE AGREED UPON FOR EACH PARTICULAR PROJECT (with consulting eng and client) Please refer to the SAFCEC recommendation document and a worked example for clarity; available on the SAFCEC website)."]
[null,null,"Table 4 P0151.1","Civil engineering material price indices- Table 6 P0151.1",null,null,null,null,null,null,null,null,null,null,null,null,"Table 1 P0142.1"]
["2020\n↓",null,"Mining and construction plant and equipment price index","Civil engineering material- total","Civil engineering material (excluding bitumen)","Civil engineering material (excluding reinforcing metal work)","Civil engineering material (excluding reinforcing metal work and bitumen)","Civil engineering material-structures (excluding bitumen)","Civil engineering material -roads, general","Civil engineering material-roads, general (excluding bitumen)","Civil engineering material-roads, refurbishment","Civil engineering material-roads, refurbishment (excluding bitumen)","Civil engineering material -roads, reseal","Civil engineering material -roads, reseal (excluding bitumen)","Civil engineering material-bulk earthworks","Civil engineering material-bulk earthworks (excluding bitumen)","Fuel Diesel"]
[]
[null,"Jan",108.5,120.2,123.2,119.3,123.2,125.7,124.4,128,122.4,128.9,115.1,127.1,123.4,124.6,131.80000000000001]
[null,"Feb",109,121.2,122.2,121,121.9,124.8,125.4,127.1,124.4,127.7,120.4,125.6,123,123.6,131.30000000000001]
[null,"Mar",109.9,120.7,122,120.2,121.7,124.7,125,127,123.8,127.6,119.2,125.5,122.8,123.5,126.4]
[null,"Apr",111,114.9,115.9,117.7,115.4,119.3,121.8,124.2,121.7,126.5,115.6,124.1,119.9,121.1,113.8]
[null,"May",112.7,113.4,115.4,115.7,114.8,118.3,119.2,122.2,118.3,124,111.3,121.6,118.3,119.5,99.3]
[null,"Jun",112.8,114.4,117.3,114.9,115.6,120.7,119.8,123.5,118.1,124.8,110.3,122,118.7,120.2,101.2]
[null,"Jul",112.8,116.4,117.8,117.3,116,121,121.3,123.4,120.6,124.6,115.6,121.9,119.3,120.2,116.9]
[null,"Aug",115.2,118.2,119.3,119,117.9,122.7,122.9,124.8,122.2,125.9,117.8,123.9,121,121.8,121]
[null,"Sep",115.1,120.4,120.6,120.8,118.4,124.5,125.3,126.2,124.8,126.9,122,124.4,122.3,122.7,119.1]
[null,"Oct",116.2,120.6,121.9,120.2,119.3,126.4,125.4,127.4,124.3,127.9,120,125.2,122.9,123.7,110.7]
[null,"Nov",116,120.6,121.9,118.6,117.8,127.7,126.1,128.19999999999999,124.1,127.7,120,124.3,123,123.7,109.7]
[null,"Dec",115.9,122.8,124.9,121.3,121.5,130.80000000000001,128.5,131.4,126.8,131.80000000000001,121.3,128.19999999999999,125.7,126.8,111.5,100]
[]
[]
[null,null,"Table 4 P0151.1","Civil engineering material price indices- Table 6 P0151.1",null,null,null,null,null,null,null,null,null,null,null,null,"Table 1 P0142.1"]
["2021\n↓",null,"Mining and construction plant and equipment price index","Civil engineering material- total","Civil engineering material (excluding bitumen)","Civil engineering material (excluding reinforcing metal work)","Civil engineering material (excluding reinforcing metal work and bitumen)","Civil engineering material-structures (excluding bitumen)","Civil engineering material -roads, general","Civil engineering material-roads, general (excluding bitumen)","Civil engineering material-roads, refurbishment","Civil engineering material-roads, refurbishment (excluding bitumen)","Civil engineering material -roads, reseal","Civil engineering material -roads, reseal (excluding bitumen)","Civil engineering material-bulk earthworks","Civil engineering material-bulk earthworks (excluding bitumen)","Fuel Diesel, Dec 2020= 100","To convert 2016=100 Conversion Factor = 1.115000"]
[]
[null,"Jan",116.6,125.4,126.9,122.1,122.4,131.69999999999999,128.1,129.9,126.9,129.69999999999999,124.3,127,124.9,125.5,104.5]
[null,"Feb",115.3,130.1,131.69999999999999,126.3,126.2,137.30000000000001,131.80000000000001,133.5,130.69999999999999,132.9,129.4,131.6,128.4,128.30000000000001,109.3]
[null,"Mar",115.3,133.19999999999999,133.4,130.6,128.30000000000001,139.5,135.9,136.6,135.6,136.1,135.80000000000001,134.9,131.6,131.69999999999999,113.8]
[null,"Apr",114.7,136.30000000000001,135.4,132.69999999999999,129.4,142.30000000000001,138.6,138.19999999999999,138.4,137.1,140.80000000000001,135.4,133.1,132.80000000000001,119]
[null,"May","114.6","138.3","138.2","133.4","131.7","145.2","140.0","140.1","139.4","139.1","141.3","136.8","134.2","134.1","116.5"]
[null,"Jun",114.8,140.80000000000001,141.6,132.69999999999999,132.1,150.1,141.5,142.30000000000001,139.69999999999999,139.5,142.1,136.6,135,134.9,118.2]
[null,"Jul",114.9,141.9,142.19999999999999,134,132.80000000000001,151.5,142.69999999999999,142.9,140.9,139.69999999999999,144.5,137.69999999999999,135.9,135.6,122]
[null,"Aug",115.1,142.5,141.6,134.1,132,151.4,143.69999999999999,142.80000000000001,142.19999999999999,139.1,147.9,137.4,135.9,135.19999999999999,126.5]
[null,"Sep",115.2,143.69999999999999,142.5,136.19999999999999,133,151.69999999999999,143.6,142.1,142.9,138.9,149.4,137.1,139.4,138.6,125.3]
[null,"Oct",115.3,144.80000000000001,142.19999999999999,137.6,132.4,152,145.30000000000001,142.6,145,139.19999999999999,153.5,137.19999999999999,140,138.80000000000001,127.2]
[null,"Nov",115.5,147.69999999999999,143,140.6,133.30000000000001,152.5,147.5,142.80000000000001,148.69999999999999,139.30000000000001,161.19999999999999,137.9,141,139.1,139.4]
[null,"Dec",115.7,147.5,143.19999999999999,140.1,133.5,153.6,149.19999999999999,144.9,149.5,141,160.4,138.69999999999999,142.5,140.69999999999999,145.5]
[]
[]
[null,null,"Table 4 P0151.1 Dec 2021=100","Civil engineering material price indices- Table 6 P0151.1 Dec 2021 =100",null,null,null,null,null,null,null,null,null,null,null,null,"Table 1 P0142.1"]
["2022\n↓",null,"Mining and construction plant and equipment price index","Civil engineering material- total","Civil engineering material (excluding bitumen)","Civil engineering material (excluding reinforcing metal work)","Civil engineering material (excluding reinforcing metal work and bitumen)","Civil engineering material-structures (excluding bitumen)","Civil engineering material -roads, general","Civil engineering material-roads, general (excluding bitumen)","Civil engineering material-roads, refurbishment","Civil engineering material-roads, refurbishment (excluding bitumen)","Civil engineering material -roads, reseal","Civil engineering material -roads, reseal (excluding bitumen)","Civil engineering material-bulk earthworks","Civil engineering material-bulk earthworks (excluding bitumen)","Fuel Diesel, Dec 2020= 100","To convert 2016=100 Conversion Factor = 1.115000"]
["Dec2021=100 Conversion Factor",null,1.157,1.4750000000000001,1.4319999999999999,1.401,1.335,1.536,1.492,1.4490000000000001,1.4950000000000001,1.41,1.6040000000000001,1.3869999999999998,1.425,1.4069999999999998]
[null,"Jan",104.8,103,103.9,103.5,104.8,103.9,103.4,104.8,103.4,105.9,100.7,106.5,104.2,104.8,139.80000000000001]
[null,"Feb",105,103.7,103.7,104.2,104.5,103.1,103.1,103.3,103.5,104.1,103,104.7,103.4,103.5,146.4]
[null,"Mar",106.7,104.5,103.7,105.3,104.5,102.9,103.2,102.4,104.2,103.1,105.6,104,103.7,103.4,158.4]
[null,"Apr",106.7,107.5,106.4,109.8,105.6,107.1,108.6,104.89,110.9,104.8,118.1,105.2,106.6,105.4,171.7]
[null,"May",107.1,109.8,107.9,112.2,107.4,108.2,110.2,105.9,112.9,105.7,121.3,106.5,108,106.5,179.4]
[null,"Jun",107.5,111.1,109.3,116.8,109.2,109.8,113.8,107.8,117.8,108.1,128.5,108.7,110.5,108.4,188.3]
[null,"Jul",109.1,112.2,110,119,110.1,110,114.7,107.5,119.7,108,133,109.4,110.7,108.2,207.3]
[null,"Aug",109.6,110.4,109.1,117.1,109.4,109.1,113.4,107.4,117.9,108,129.1,109.2,109.9,107.9,199.9]
[null,"Sep",110,110,108.3,115.5,108.4,108,111.7,106.5,115.2,106.6,124.3,109,109.5,107.6,195.7]
[null,"Oct",110.2,109.2,107.2,116.5,108.3,105.3,110.4,104.8,114.9,106.4,123.9,107.8,108.5,106.6,196.7]
[null,"Nov",110.8,108.8,107,115,108.1,105.8,110,105.1,113.9,106,122.2,108.1,108.4,106.7,208.6]
[null,"Dec",110.7,108.8,107,114.5,108.1,105.9,110.4,105.9,113.8,106.8,121.3,108.7,108.6,107.2,195.8]
[]
[]
[null,null,"Table 4 P0151.1 Dec 2021=100","Civil engineering material price indices- Table 6 P0151.1 Dec 2021 =100",null,null,null,null,null,null,null,null,null,null,null,null,"Table 1 P0142.1"]
["2023\n↓",null,"Mining and construction plant and equipment price index","Civil engineering material- total","Civil engineering material (excluding bitumen)","Civil engineering material (excluding reinforcing metal work)","Civil engineering material (excluding reinforcing metal work and bitumen)","Civil engineering material-structures (excluding bitumen)","Civil engineering material -roads, general","Civil engineering material-roads, general (excluding bitumen)","Civil engineering material-roads, refurbishment","Civil engineering material-roads, refurbishment (excluding bitumen)","Civil engineering material -roads, reseal","Civil engineering material -roads, reseal (excluding bitumen)","Civil engineering material-bulk earthworks","Civil engineering material-bulk earthworks (excluding bitumen)","Fuel Diesel, Dec 2020= 100","To convert 2016=100 Conversion Factor = 1.115000"]
["Dec2021=100 Conversion Factor",null,1.157,1.4750000000000001,1.4319999999999999,1.401,1.335,1.536,1.492,1.4490000000000001,1.4950000000000001,1.41,1.6040000000000001,1.3869999999999998,1.425,1.4069999999999998]
[null,"Jan",113.7,111.2,110.9,117.9,112.9,109.1,113.7,110.8,116.8,112.5,121.2,114.4,112.4,111.5,173.2]
[null,"Feb",113.9,113.1,113.3,121.1,115.7,110.8,115.1,112,118.5,114,123,116.1,114.1,113.1,173.5]
[null,"Mar",114.1,112.2,111.8,120.3,113.4,109.6,115.4,111.2,118.9,112.7,125.1,113.7,113,111.7,176]
[null,"Apr",115.4,110.4,111.1,120.6,112.5,109.6,116.1,111.5,119.9,113.1,126.8,113.9,113.2,111.8,169.6]
[null,"May",115.7,112.1,111.5,120.8,113.1,109.2,115.4,110.5,119.3,112,126.8,112.9,112.7,111.1,164.6]
[null,"Jun",116.1,112.2,111.1,123.4,112.7,108.8,117.3,110.5,122.6,112,133.4,112.9,113.2,111,157.80000000000001]
[null,"Jul",120.6,113.8,112.2,121.8,114.3,109.3,115.7,111,119.8,113,126.6,114.2,114.4,113,159.1]
[null,"Aug",121,113.8,112.3,123.6,114.5,108.8,116.2,110.6,121.1,112.8,129.30000000000001,113.6,114.3,112.6,165]
[null,"Sep",121,114.1,112.2,125.6,114.3,108.8,117.7,110.5,123.5,112.6,134.30000000000001,113.5,114.7,112.5,188.1]
[null,"Oct",121,114.4,112.1,127.9,114.3,109.1,119.6,110.8,126.4,113,140,114.1,115.6,112.8,204.2]
[null,"Nov",121,114.7,112.3,127.7,114.5,108.7,118.5,109.7,125.1,111.6,139,113,114.8,111.9,197.3]
[null,"Dec",121.1,114.5,112.4,127.8,114.6,108.4,117.8,108.9,124.6,110.7,139,112.7,114.1,111.2,177.6]
[]
[]
[null,null,"Table 4 P0151.1 Dec 2023=100","Civil engineering material price indices- Table 6 P0151.1 Dec 2023 =100",null,null,null,null,null,null,null,null,null,null,null,null,"Table 1 P0142.1"]
["2024\n↓",null,"Mining and construction plant and equipment price index","Civil engineering material- total","Civil engineering material (excluding bitumen)","Civil engineering material (excluding reinforcing metal work)","Civil engineering material (excluding reinforcing metal work and bitumen)","Civil engineering material-structures (excluding bitumen)","Civil engineering material -roads, general","Civil engineering material-roads, general (excluding bitumen)","Civil engineering material-roads, refurbishment","Civil engineering material-roads, refurbishment (excluding bitumen)","Civil engineering material -roads, reseal","Civil engineering material -roads, reseal (excluding bitumen)","Civil engineering material-bulk earthworks","Civil engineering material-bulk earthworks (excluding bitumen)","Fuel Diesel, Dec 2023= 100","To convert 2016=100 Conversion Factor = 1,776 000"]
["Dec2023=100 Conversion Factor",null,1.2110000000000001,1.145,1.1240000000000001,1.278,1.1459999999999999,1.0840000000000001,1.1779999999999999,1.089,1.246,1.107,1.39,1.127,1.141,1.1120000000000001,"1.776"]
[null,"Jan",100.5,103.6,103.9,103.2,103.1,103.7,102.3,103.5,101.7,103.2,99.5,102.9,102.6,102.9,94.3]
[null,"Feb",100.7,105.3,105.7,105.1,105.2,105.4,104.5,106.5,"92.8",106.9,100,106.5,105.1,105.8,97.6]
[null,"Mar",100.6,104.9,105.3,104.4,104.5,105.1,104.3,106.2,103.6,106.3,99.7,105.9,104.8,105.5,102.9]
[null,"Apr","         101.6",105,105.5,104.5,104.7,105.2,103.1,105.2,102.4,105,98.8,104.9,103.8,104.5,102.7]
[null,"May","101.6",105.1,105.3,104.6,104.6,105.1,104.2,105.2,103.7,104.9,102,104.7,104.6,105,101.2]
[null,"Jun","         101.7",104.7,104.9,104.3,104.3,104.7,103.1,104.2,103,104,101.7,104.2,103.8,104.2,101.7]
[null,"Jul",101.7,104.8,105,104.5,104.4,104.8,103.4,104.3,103.1,103.9,101.9,104,103.9,104.2,94.6]
[null,"Aug",107.8,104.9,105.2,104.9,104.8,104.9,103.5,104.7,103.5,104.7,101.9,105,104.1,104.6,93.6]
[null,"Sept","107.8","104.8","105.0","104.9","104.8","104.8","103.3","104.5","103.3","104.6","101.6","104.9","103.9","104.4","89.3"]
["   ","Oct","107.6","100.4","100.5","100.3 ","100.8","100.3","101.1","102.0","101.2","102.6","99.4","102.3","101.8","102.3","84.1"]
[null,"Nov","        107.2","         102.0","       102.2","       102.3","        102.8","        102.0","102.0","        103.2","           102.6 ","          104.1","        100.3","        104.2","        103.0","              103.5","                    85.0"]
[null,"Dec","107.2","102.7","102.9","103.0","103.5","102.8","103.7","105.1","104.0","106.1","100.6","105.7","104.5","105.2","87.6"]
[null,"2025-01-25","111.4","102.8","103.1","103.2","103.8","102.9","104.0","105.8","104.4","107.0","100.6","106.5","104.9","105.7","88.0"]
[null,"Feb","111.3","107.4","107.8","107.8","108.0","107.5","107.1","109.5","107.3","110.6","102.3","110.5","107.9","109.0","92.8"]

{"sheet":"No Longer Applicable - Plant","index":2,"n_rows":142,"n_cols":15,"rows_kept":142,"cut":false,"hidden":false,"merged":[[3,8,4,11],[12,3,12,11],[124,14,125,15],[137,2,137,11],[138,2,138,11],[13,10,13,11],[123,2,123,11],[124,2,124,11],[13,3,14,3],[13,4,14,4],[13,5,14,5],[13,6,14,6],[13,8,14,8],[13,9,14,9],[13,2,14,2]]}
[]
[null,null,"Table X16 (Indice base 100 as at Dec 2016)",null,null,null,null,null,null,null,null,"2016 / 100"]
[]
[null,null,"Refer to P0151 - Contract Price Adjustment Provisions (CPAP):",null,null,null,null,null,"* NEW DIESEL INDICES APPLICABLE FROM MAR '16 PROVIDED FROM JAN '08 BY STATS-SA"]
[null,null,"Work Groups and Selected Materials Indices: Table 3 and Table 4"]
[]
[null,null,2.2719999999999998,2.89,3.22,4.149,1.909,null,2.1960000000000002,1.992,4.24,4.2050000000000001]
[]
[null,null,"DEC 2016 = 100"]
[]
[null,null,0.87565674255691806,0.84317032040472195,0.97276264591439698,0.98135426889107003,0.76923076923076905,null,0.79302141157811301,0.85251491901108301,0.974658869395712,0.98814229249011898]
[]
[null,null,3,4]
[null,null,"Materials for\nCivil Engineering","Materials for\nConcrete Works","Materials for\nRoads & E/Works","* Diesel Fuel Wholesale Total","Civil Engineering Plant",null,"Plant for\nConcrete Works","Plant for\nRoads & E/Works","* Diesel Fuel Wholesale"]
[null,null,null,null,null,null,null,null,null,null,"* Inland","* Coastal"]
[null,null,{"$f":"ROUND('Table X12 Indices 2012=100'!N16*$C$11,1)","v":70.900000000000006},null,null,{"$f":"ROUND('Table X12 Indices 2012=100'!Q16*$F$11,1)","v":72.5},{"$f":"ROUND('Table X12 Indices 2012=100'!R16*$G$11,1)","v":61.9},null,null,null,{"$f":"ROUND('Table X12 Indices 2012=100'!U16*$K$11,1)","v":66.900000000000006},{"$f":"ROUND('Table X12 Indices 2012=100'!V16*$L$11,1)","v":66.900000000000006}]
[null,null,{"$f":"ROUND('Table X12 Indices 2012=100'!N17*$C$11,1)","v":72},null,null,{"$f":"ROUND('Table X12 Indices 2012=100'!Q17*$F$11,1)","v":76.599999999999994},{"$f":"ROUND('Table X12 Indices 2012=100'!R17*$G$11,1)","v":65},null,null,null,{"$f":"ROUND('Table X12 Indices 2012=100'!U17*$K$11,1)","v":67.5},{"$f":"ROUND('Table X12 Indices 2012=100'!V17*$L$11,1)","v":67.599999999999994}]
[null,null,{"$f":"ROUND('Table X12 Indices 2012=100'!N18*$C$11,1)","v":72.400000000000006},null,null,{"$f":"ROUND('Table X12 Indices 2012=100'!Q18*$F$11,1)","v":87.6},{"$f":"ROUND('Table X12 Indices 2012=100'!R18*$G$11,1)","v":65},null,null,null,{"$f":"ROUND('Table X12 Indices 2012=100'!U18*$K$11,1)","v":74.7},{"$f":"ROUND('Table X12 Indices 2012=100'!V18*$L$11,1)","v":74.900000000000006}]
[null,null,{"$f":"ROUND('Table X12 Indices 2012=100'!N19*$C$11,1)","v":73.599999999999994},null,null,{"$f":"ROUND('Table X12 Indices 2012=100'!Q19*$F$11,1)","v":101.3},{"$f":"ROUND('Table X12 Indices 2012=100'!R19*$G$11,1)","v":65},null,null,null,{"$f":"ROUND('Table X12 Indices 2012=100'!U19*$K$11,1)","v":86.6},{"$f":"ROUND('Table X12 Indices 2012=100'!V19*$L$11,1)","v":87}]
[null,null,{"$f":"ROUND('Table X12 Indices 2012=100'!N20*$C$11,1)","v":76.7},null,null,{"$f":"ROUND('Table X12 Indices 2012=100'!Q20*$F$11,1)","v":112.3},{"$f":"ROUND('Table X12 Indices 2012=100'!R20*$G$11,1)","v":67.8},null,null,null,{"$f":"ROUND('Table X12 Indices 2012=100'!U20*$K$11,1)","v":93},{"$f":"ROUND('Table X12 Indices 2012=100'!V20*$L$11,1)","v":93.6}]
[null,null,{"$f":"ROUND('Table X12 Indices 2012=100'!N21*$C$11,1)","v":77.8},null,null,{"$f":"ROUND('Table X12 Indices 2012=100'!Q21*$F$11,1)","v":123.9},{"$f":"ROUND('Table X12 Indices 2012=100'!R21*$G$11,1)","v":67.8},null,null,null,{"$f":"ROUND('Table X12 Indices 2012=100'!U21*$K$11,1)","v":99.6},{"$f":"ROUND('Table X12 Indices 2012=100'!V21*$L$11,1)","v":100.3}]
[null,null,{"$f":"ROUND('Table X12 Indices 2012=100'!N22*$C$11,1)","v":78.5},null,null,{"$f":"ROUND('Table X12 Indices 2012=100'!Q22*$F$11,1)","v":122.1},{"$f":"ROUND('Table X12 Indices 2012=100'!R22*$G$11,1)","v":67.8},null,null,null,{"$f":"ROUND('Table X12 Indices 2012=100'!U22*$K$11,1)","v":105.5},{"$f":"ROUND('Table X12 Indices 2012=100'!V22*$L$11,1)","v":106.2}]
[null,null,{"$f":"ROUND('Table X12 Indices 2012=100'!N23*$C$11,1)","v":83.7},null,null,{"$f":"ROUND('Table X12 Indices 2012=100'!Q23*$F$11,1)","v":100.1},{"$f":"ROUND('Table X12 Indices 2012=100'!R23*$G$11,1)","v":70.7},null,null,null,{"$f":"ROUND('Table X12 Indices 2012=100'!U23*$K$11,1)","v":103.9},{"$f":"ROUND('Table X12 Indices 2012=100'!V23*$L$11,1)","v":104.6}]
[null,null,{"$f":"ROUND('Table X12 Indices 2012=100'!N24*$C$11,1)","v":84.3},null,null,{"$f":"ROUND('Table X12 Indices 2012=100'!Q24*$F$11,1)","v":94},{"$f":"ROUND('Table X12 Indices 2012=100'!R24*$G$11,1)","v":70.7},null,null,null,{"$f":"ROUND('Table X12 Indices 2012=100'!U24*$K$11,1)","v":90.6},{"$f":"ROUND('Table X12 Indices 2012=100'!V24*$L$11,1)","v":91.1}]
[null,null,{"$f":"ROUND('Table X12 Indices 2012=100'!N25*$C$11,1)","v":84.7},null,null,{"$f":"ROUND('Table X12 Indices 2012=100'!Q25*$F$11,1)","v":90.1},{"$f":"ROUND('Table X12 Indices 2012=100'!R25*$G$11,1)","v":70.7},null,null,null,{"$f":"ROUND('Table X12 Indices 2012=100'!U25*$K$11,1)","v":85.5},{"$f":"ROUND('Table X12 Indices 2012=100'!V25*$L$11,1)","v":85.8}]
[null,null,{"$f":"ROUND('Table X12 Indices 2012=100'!N26*$C$11,1)","v":84.5},null,null,{"$f":"ROUND('Table X12 Indices 2012=100'!Q26*$F$11,1)","v":80.400000000000006},{"$f":"ROUND('Table X12 Indices 2012=100'!R26*$G$11,1)","v":74.5},null,null,null,{"$f":"ROUND('Table X12 Indices 2012=100'!U26*$K$11,1)","v":83.2},{"$f":"ROUND('Table X12 Indices 2012=100'!V26*$L$11,1)","v":83.5}]
[null,null,{"$f":"ROUND('Table X12 Indices 2012=100'!N27*$C$11,1)","v":83.5},null,null,{"$f":"ROUND('Table X12 Indices 2012=100'!Q27*$F$11,1)","v":65.400000000000006},{"$f":"ROUND('Table X12 Indices 2012=100'!R27*$G$11,1)","v":74.5},null,null,null,{"$f":"ROUND('Table X12 Indices 2012=100'!U27*$K$11,1)","v":75.7},{"$f":"ROUND('Table X12 Indices 2012=100'!V27*$L$11,1)","v":75.900000000000006}]
[null,null,{"$f":"ROUND('Table X12 Indices 2012=100'!N28*$C$11,1)","v":84.7},null,null,{"$f":"ROUND('Table X12 Indices 2012=100'!Q28*$F$11,1)","v":68.400000000000006},{"$f":"ROUND('Table X12 Indices 2012=100'!R28*$G$11,1)","v":74.5},null,null,null,{"$f":"ROUND('Table X12 Indices 2012=100'!U28*$K$11,1)","v":60.3},{"$f":"ROUND('Table X12 Indices 2012=100'!V28*$L$11,1)","v":60.1}]
[null,null,{"$f":"ROUND('Table X12 Indices 2012=100'!N29*$C$11,1)","v":83.1},null,null,{"$f":"ROUND('Table X12 Indices 2012=100'!Q29*$F$11,1)","v":64.7},{"$f":"ROUND('Table X12 Indices 2012=100'!R29*$G$11,1)","v":77.8},null,null,null,{"$f":"ROUND('Table X12 Indices 2012=100'!U29*$K$11,1)","v":59.8},{"$f":"ROUND('Table X12 Indices 2012=100'!V29*$L$11,1)","v":59.7}]
[null,null,{"$f":"ROUND('Table X12 Indices 2012=100'!N30*$C$11,1)","v":82.7},null,null,{"$f":"ROUND('Table X12 Indices 2012=100'!Q30*$F$11,1)","v":60.5},{"$f":"ROUND('Table X12 Indices 2012=100'!R30*$G$11,1)","v":77.8},null,null,null,{"$f":"ROUND('Table X12 Indices 2012=100'!U30*$K$11,1)","v":56.3},{"$f":"ROUND('Table X12 Indices 2012=100'!V30*$L$11,1)","v":56}]
[null,null,{"$f":"ROUND('Table X12 Indices 2012=100'!N31*$C$11,1)","v":82.2},null,null,{"$f":"ROUND('Table X12 Indices 2012=100'!Q31*$F$11,1)","v":59.7},{"$f":"ROUND('Table X12 Indices 2012=100'!R31*$G$11,1)","v":77.8},null,null,null,{"$f":"ROUND('Table X12 Indices 2012=100'!U31*$K$11,1)","v":60},{"$f":"ROUND('Table X12 Indices 2012=100'!V31*$L$11,1)","v":59.8}]
[null,null,{"$f":"ROUND('Table X12 Indices 2012=100'!N32*$C$11,1)","v":80.599999999999994},null,null,{"$f":"ROUND('Table X12 Indices 2012=100'!Q32*$F$11,1)","v":59.9},{"$f":"ROUND('Table X12 Indices 2012=100'!R32*$G$11,1)","v":76.2},null,null,null,{"$f":"ROUND('Table X12 Indices 2012=100'!U32*$K$11,1)","v":60.8},{"$f":"ROUND('Table X12 Indices 2012=100'!V32*$L$11,1)","v":60.5}]
[null,null,{"$f":"ROUND('Table X12 Indices 2012=100'!N33*$C$11,1)","v":80.5},null,null,{"$f":"ROUND('Table X12 Indices 2012=100'!Q33*$F$11,1)","v":61.2},{"$f":"ROUND('Table X12 Indices 2012=100'!R33*$G$11,1)","v":76.2},null,null,null,{"$f":"ROUND('Table X12 Indices 2012=100'!U33*$K$11,1)","v":59.6},{"$f":"ROUND('Table X12 Indices 2012=100'!V33*$L$11,1)","v":59.5}]
[null,null,{"$f":"ROUND('Table X12 Indices 2012=100'!N34*$C$11,1)","v":81.400000000000006},null,null,{"$f":"ROUND('Table X12 Indices 2012=100'!Q34*$F$11,1)","v":63.5},{"$f":"ROUND('Table X12 Indices 2012=100'!R34*$G$11,1)","v":76.2},null,null,null,{"$f":"ROUND('Table X12 Indices 2012=100'!U34*$K$11,1)","v":63.3},{"$f":"ROUND('Table X12 Indices 2012=100'!V34*$L$11,1)","v":63.2}]
[null,null,{"$f":"ROUND('Table X12 Indices 2012=100'!N35*$C$11,1)","v":81},null,null,{"$f":"ROUND('Table X12 Indices 2012=100'!Q35*$F$11,1)","v":62.5},{"$f":"ROUND('Table X12 Indices 2012=100'!R35*$G$11,1)","v":76.900000000000006},null,null,null,{"$f":"ROUND('Table X12 Indices 2012=100'!U35*$K$11,1)","v":61.4},{"$f":"ROUND('Table X12 Indices 2012=100'!V35*$L$11,1)","v":61.4}]
[null,null,{"$f":"ROUND('Table X12 Indices 2012=100'!N36*$C$11,1)","v":80.8},null,null,{"$f":"ROUND('Table X12 Indices 2012=100'!Q36*$F$11,1)","v":65},{"$f":"ROUND('Table X12 Indices 2012=100'!R36*$G$11,1)","v":76.900000000000006},null,null,null,{"$f":"ROUND('Table X12 Indices 2012=100'!U36*$K$11,1)","v":64.5},{"$f":"ROUND('Table X12 Indices 2012=100'!V36*$L$11,1)","v":64.5}]
[null,null,{"$f":"ROUND('Table X12 Indices 2012=100'!N37*$C$11,1)","v":80.7},null,null,{"$f":"ROUND('Table X12 Indices 2012=100'!Q37*$F$11,1)","v":61.4},{"$f":"ROUND('Table X12 Indices 2012=100'!R37*$G$11,1)","v":76.900000000000006},null,null,null,{"$f":"ROUND('Table X12 Indices 2012=100'!U37*$K$11,1)","v":61.6},{"$f":"ROUND('Table X12 Indices 2012=100'!V37*$L$11,1)","v":61.6}]
[null,null,{"$f":"ROUND('Table X12 Indices 2012=100'!N38*$C$11,1)","v":80.8},null,null,{"$f":"ROUND('Table X12 Indices 2012=100'!Q38*$F$11,1)","v":62.5},{"$f":"ROUND('Table X12 Indices 2012=100'!R38*$G$11,1)","v":75.8},null,null,null,{"$f":"ROUND('Table X12 Indices 2012=100'!U38*$K$11,1)","v":62.5},{"$f":"ROUND('Table X12 Indices 2012=100'!V38*$L$11,1)","v":62.5}]
[null,null,{"$f":"ROUND('Table X12 Indices 2012=100'!N39*$C$11,1)","v":80.8},null,null,{"$f":"ROUND('Table X12 Indices 2012=100'!Q39*$F$11,1)","v":65.7},{"$f":"ROUND('Table X12 Indices 2012=100'!R39*$G$11,1)","v":75.8},null,null,null,{"$f":"ROUND('Table X12 Indices 2012=100'!U39*$K$11,1)","v":64.8},{"$f":"ROUND('Table X12 Indices 2012=100'!V39*$L$11,1)","v":64.8}]
[null,null,{"$f":"ROUND('Table X12 Indices 2012=100'!N40*$C$11,1)","v":81.900000000000006},null,null,{"$f":"ROUND('Table X12 Indices 2012=100'!Q40*$F$11,1)","v":64.2},{"$f":"ROUND('Table X12 Indices 2012=100'!R40*$G$11,1)","v":75.8},null,null,null,{"$f":"ROUND('Table X12 Indices 2012=100'!U40*$K$11,1)","v":63.5},{"$f":"ROUND('Table X12 Indices 2012=100'!V40*$L$11,1)","v":63.5}]
[null,null,{"$f":"ROUND('Table X12 Indices 2012=100'!N41*$C$11,1)","v":82.1},null,null,{"$f":"ROUND('Table X12 Indices 2012=100'!Q41*$F$11,1)","v":65.8},{"$f":"ROUND('Table X12 Indices 2012=100'!R41*$G$11,1)","v":75.8},null,null,null,{"$f":"ROUND('Table X12 Indices 2012=100'!U41*$K$11,1)","v":64.400000000000006},{"$f":"ROUND('Table X12 Indices 2012=100'!V41*$L$11,1)","v":64.400000000000006}]
[null,null,{"$f":"ROUND('Table X12 Indices 2012=100'!N42*$C$11,1)","v":82.1},null,null,{"$f":"ROUND('Table X12 Indices 2012=100'!Q42*$F$11,1)","v":66.900000000000006},{"$f":"ROUND('Table X12 Indices 2012=100'!R42*$G$11,1)","v":76.2},null,null,null,{"$f":"ROUND('Table X12 Indices 2012=100'!U42*$K$11,1)","v":64.8},{"$f":"ROUND('Table X12 Indices 2012=100'!V42*$L$11,1)","v":64.8}]
[null,null,{"$f":"ROUND('Table X12 Indices 2012=100'!N43*$C$11,1)","v":82},null,null,{"$f":"ROUND('Table X12 Indices 2012=100'!Q43*$F$11,1)","v":70.8},{"$f":"ROUND('Table X12 Indices 2012=100'!R43*$G$11,1)","v":76.2},null,null,null,{"$f":"ROUND('Table X12 Indices 2012=100'!U43*$K$11,1)","v":69.400000000000006},{"$f":"ROUND('Table X12 Indices 2012=100'!V43*$L$11,1)","v":69.599999999999994}]
[null,null,{"$f":"ROUND('Table X12 Indices 2012=100'!N44*$C$11,1)","v":83},null,null,{"$f":"ROUND('Table X12 Indices 2012=100'!Q44*$F$11,1)","v":72.599999999999994},{"$f":"ROUND('Table X12 Indices 2012=100'!R44*$G$11,1)","v":75.599999999999994},null,null,null,{"$f":"ROUND('Table X12 Indices 2012=100'!U44*$K$11,1)","v":72},{"$f":"ROUND('Table X12 Indices 2012=100'!V44*$L$11,1)","v":72.099999999999994}]
[null,null,{"$f":"ROUND('Table X12 Indices 2012=100'!N45*$C$11,1)","v":83.5},null,null,{"$f":"ROUND('Table X12 Indices 2012=100'!Q45*$F$11,1)","v":71.599999999999994},{"$f":"ROUND('Table X12 Indices 2012=100'!R45*$G$11,1)","v":75.5},null,null,null,{"$f":"ROUND('Table X12 Indices 2012=100'!U45*$K$11,1)","v":70.7},{"$f":"ROUND('Table X12 Indices 2012=100'!V45*$L$11,1)","v":70.8}]
[null,null,{"$f":"ROUND('Table X12 Indices 2012=100'!N46*$C$11,1)","v":82.5},null,null,{"$f":"ROUND('Table X12 Indices 2012=100'!Q46*$F$11,1)","v":70.599999999999994},{"$f":"ROUND('Table X12 Indices 2012=100'!R46*$G$11,1)","v":75.5},null,null,null,{"$f":"ROUND('Table X12 Indices 2012=100'!U46*$K$11,1)","v":69.3},{"$f":"ROUND('Table X12 Indices 2012=100'!V46*$L$11,1)","v":69.5}]
[null,null,{"$f":"ROUND('Table X12 Indices 2012=100'!N47*$C$11,1)","v":82},null,null,{"$f":"ROUND('Table X12 Indices 2012=100'!Q47*$F$11,1)","v":69.900000000000006},{"$f":"ROUND('Table X12 Indices 2012=100'!R47*$G$11,1)","v":75.2},null,null,null,{"$f":"ROUND('Table X12 Indices 2012=100'!U47*$K$11,1)","v":68},{"$f":"ROUND('Table X12 Indices 2012=100'!V47*$L$11,1)","v":68.2}]
[null,null,{"$f":"ROUND('Table X12 Indices 2012=100'!N48*$C$11,1)","v":82},null,null,{"$f":"ROUND('Table X12 Indices 2012=100'!Q48*$F$11,1)","v":69.3},{"$f":"ROUND('Table X12 Indices 2012=100'!R48*$G$11,1)","v":75.2},null,null,null,{"$f":"ROUND('Table X12 Indices 2012=100'!U48*$K$11,1)","v":68},{"$f":"ROUND('Table X12 Indices 2012=100'!V48*$L$11,1)","v":68.2}]
[null,null,{"$f":"ROUND('Table X12 Indices 2012=100'!N49*$C$11,1)","v":82.4},{"$f":"ROUND('Table X12 Indices 2012=100'!O49*$D$11,1)","v":72.599999999999994},{"$f":"ROUND('Table X12 Indices 2012=100'!P49*$E$11,1)","v":80},{"$f":"ROUND('Table X12 Indices 2012=100'!Q49*$F$11,1)","v":69.5},{"$f":"ROUND('Table X12 Indices 2012=100'!R49*$G$11,1)","v":75.3},null,{"$f":"ROUND('Table X12 Indices 2012=100'!S49*$I$11,1)","v":74.099999999999994},{"$f":"ROUND('Table X12 Indices 2012=100'!T49*$J$11,1)","v":81.099999999999994},{"$f":"ROUND('Table X12 Indices 2012=100'!U49*$K$11,1)","v":67.8},{"$f":"ROUND('Table X12 Indices 2012=100'!V49*$L$11,1)","v":68}]
[null,null,{"$f":"ROUND('Table X12 Indices 2012=100'!N50*$C$11,1)","v":82},{"$f":"ROUND('Table X12 Indices 2012=100'!O50*$D$11,1)","v":72.599999999999994},{"$f":"ROUND('Table X12 Indices 2012=100'!P50*$E$11,1)","v":80},{"$f":"ROUND('Table X12 Indices 2012=100'!Q50*$F$11,1)","v":71.3},{"$f":"ROUND('Table X12 Indices 2012=100'!R50*$G$11,1)","v":75.5},null,{"$f":"ROUND('Table X12 Indices 2012=100'!S50*$I$11,1)","v":74.099999999999994},{"$f":"ROUND('Table X12 Indices 2012=100'!T50*$J$11,1)","v":81.3},{"$f":"ROUND('Table X12 Indices 2012=100'!U50*$K$11,1)","v":70.099999999999994},{"$f":"ROUND('Table X12 Indices 2012=100'!V50*$L$11,1)","v":70.3}]
[null,null,{"$f":"ROUND('Table X12 Indices 2012=100'!N51*$C$11,1)","v":82.1},{"$f":"ROUND('Table X12 Indices 2012=100'!O51*$D$11,1)","v":72.5},{"$f":"ROUND('Table X12 Indices 2012=100'!P51*$E$11,1)","v":80.400000000000006},{"$f":"ROUND('Table X12 Indices 2012=100'!Q51*$F$11,1)","v":73.8},{"$f":"ROUND('Table X12 Indices 2012=100'!R51*$G$11,1)","v":74.8},null,{"$f":"ROUND('Table X12 Indices 2012=100'!S51*$I$11,1)","v":72.8},{"$f":"ROUND('Table X12 Indices 2012=100'!T51*$J$11,1)","v":81},{"$f":"ROUND('Table X12 Indices 2012=100'!U51*$K$11,1)","v":70.099999999999994},{"$f":"ROUND('Table X12 Indices 2012=100'!V51*$L$11,1)","v":70.3}]
[null,null,{"$f":"ROUND('Table X12 Indices 2012=100'!N52*$C$11,1)","v":83},{"$f":"ROUND('Table X12 Indices 2012=100'!O52*$D$11,1)","v":73},{"$f":"ROUND('Table X12 Indices 2012=100'!P52*$E$11,1)","v":80.5},{"$f":"ROUND('Table X12 Indices 2012=100'!Q52*$F$11,1)","v":76.5},{"$f":"ROUND('Table X12 Indices 2012=100'!R52*$G$11,1)","v":74.2},null,{"$f":"ROUND('Table X12 Indices 2012=100'!S52*$I$11,1)","v":72.900000000000006},{"$f":"ROUND('Table X12 Indices 2012=100'!T52*$J$11,1)","v":80.900000000000006},{"$f":"ROUND('Table X12 Indices 2012=100'!U52*$K$11,1)","v":72.2},{"$f":"ROUND('Table X12 Indices 2012=100'!V52*$L$11,1)","v":72.400000000000006}]
[null,null,{"$f":"ROUND('Table X12 Indices 2012=100'!N53*$C$11,1)","v":83.2},{"$f":"ROUND('Table X12 Indices 2012=100'!O53*$D$11,1)","v":75.2},{"$f":"ROUND('Table X12 Indices 2012=100'!P53*$E$11,1)","v":82.2},{"$f":"ROUND('Table X12 Indices 2012=100'!Q53*$F$11,1)","v":83.7},{"$f":"ROUND('Table X12 Indices 2012=100'!R53*$G$11,1)","v":75.2},null,{"$f":"ROUND('Table X12 Indices 2012=100'!S53*$I$11,1)","v":73.2},{"$f":"ROUND('Table X12 Indices 2012=100'!T53*$J$11,1)","v":81.5},{"$f":"ROUND('Table X12 Indices 2012=100'!U53*$K$11,1)","v":75},{"$f":"ROUND('Table X12 Indices 2012=100'!V53*$L$11,1)","v":75.3}]
[null,null,{"$f":"ROUND('Table X12 Indices 2012=100'!N54*$C$11,1)","v":83.8},{"$f":"ROUND('Table X12 Indices 2012=100'!O54*$D$11,1)","v":76.3},{"$f":"ROUND('Table X12 Indices 2012=100'!P54*$E$11,1)","v":85.5},{"$f":"ROUND('Table X12 Indices 2012=100'!Q54*$F$11,1)","v":89.2},{"$f":"ROUND('Table X12 Indices 2012=100'!R54*$G$11,1)","v":75.5},null,{"$f":"ROUND('Table X12 Indices 2012=100'!S54*$I$11,1)","v":73.7},{"$f":"ROUND('Table X12 Indices 2012=100'!T54*$J$11,1)","v":81.8},{"$f":"ROUND('Table X12 Indices 2012=100'!U54*$K$11,1)","v":80.900000000000006},{"$f":"ROUND('Table X12 Indices 2012=100'!V54*$L$11,1)","v":81.3}]
[null,null,{"$f":"ROUND('Table X12 Indices 2012=100'!N55*$C$11,1)","v":83.3},{"$f":"ROUND('Table X12 Indices 2012=100'!O55*$D$11,1)","v":76.3},{"$f":"ROUND('Table X12 Indices 2012=100'!P55*$E$11,1)","v":88.4},{"$f":"ROUND('Table X12 Indices 2012=100'!Q55*$F$11,1)","v":94.6},{"$f":"ROUND('Table X12 Indices 2012=100'!R55*$G$11,1)","v":75.5},null,{"$f":"ROUND('Table X12 Indices 2012=100'!S55*$I$11,1)","v":73.7},{"$f":"ROUND('Table X12 Indices 2012=100'!T55*$J$11,1)","v":82.1},{"$f":"ROUND('Table X12 Indices 2012=100'!U55*$K$11,1)","v":87.4},{"$f":"ROUND('Table X12 Indices 2012=100'!V55*$L$11,1)","v":87.4}]
[null,null,{"$f":"ROUND('Table X12 Indices 2012=100'!N56*$C$11,1)","v":83.1},{"$f":"ROUND('Table X12 Indices 2012=100'!O56*$D$11,1)","v":76.2},{"$f":"ROUND('Table X12 Indices 2012=100'!P56*$E$11,1)","v":88.8},{"$f":"ROUND('Table X12 Indices 2012=100'!Q56*$F$11,1)","v":93.6},{"$f":"ROUND('Table X12 Indices 2012=100'!R56*$G$11,1)","v":75.5},null,{"$f":"ROUND('Table X12 Indices 2012=100'!S56*$I$11,1)","v":74.2},{"$f":"ROUND('Table X12 Indices 2012=100'!T56*$J$11,1)","v":82.7},{"$f":"ROUND('Table X12 Indices 2012=100'!U56*$K$11,1)","v":88.9},{"$f":"ROUND('Table X12 Indices 2012=100'!V56*$L$11,1)","v":88.8}]
[null,null,{"$f":"ROUND('Table X12 Indices 2012=100'!N57*$C$11,1)","v":83.3},{"$f":"ROUND('Table X12 Indices 2012=100'!O57*$D$11,1)","v":77.400000000000006},{"$f":"ROUND('Table X12 Indices 2012=100'!P57*$E$11,1)","v":88.9},{"$f":"ROUND('Table X12 Indices 2012=100'!Q57*$F$11,1)","v":90.9},{"$f":"ROUND('Table X12 Indices 2012=100'!R57*$G$11,1)","v":76.099999999999994},null,{"$f":"ROUND('Table X12 Indices 2012=100'!S57*$I$11,1)","v":74.2},{"$f":"ROUND('Table X12 Indices 2012=100'!T57*$J$11,1)","v":83},{"$f":"ROUND('Table X12 Indices 2012=100'!U57*$K$11,1)","v":85.4},{"$f":"ROUND('Table X12 Indices 2012=100'!V57*$L$11,1)","v":85.3}]
[null,null,{"$f":"ROUND('Table X12 Indices 2012=100'!N58*$C$11,1)","v":84.4},{"$f":"ROUND('Table X12 Indices 2012=100'!O58*$D$11,1)","v":78.099999999999994},{"$f":"ROUND('Table X12 Indices 2012=100'!P58*$E$11,1)","v":89.5},{"$f":"ROUND('Table X12 Indices 2012=100'!Q58*$F$11,1)","v":90.3},{"$f":"ROUND('Table X12 Indices 2012=100'!R58*$G$11,1)","v":76.2},null,{"$f":"ROUND('Table X12 Indices 2012=100'!S58*$I$11,1)","v":75.900000000000006},{"$f":"ROUND('Table X12 Indices 2012=100'!T58*$J$11,1)","v":82.9},{"$f":"ROUND('Table X12 Indices 2012=100'!U58*$K$11,1)","v":84.3},{"$f":"ROUND('Table X12 Indices 2012=100'!V58*$L$11,1)","v":84.2}]
[null,null,{"$f":"ROUND('Table X12 Indices 2012=100'!N59*$C$11,1)","v":84.7},{"$f":"ROUND('Table X12 Indices 2012=100'!O59*$D$11,1)","v":78.400000000000006},{"$f":"ROUND('Table X12 Indices 2012=100'!P59*$E$11,1)","v":89.7},{"$f":"ROUND('Table X12 Indices 2012=100'!Q59*$F$11,1)","v":90.1},{"$f":"ROUND('Table X12 Indices 2012=100'!R59*$G$11,1)","v":76.3},null,{"$f":"ROUND('Table X12 Indices 2012=100'!S59*$I$11,1)","v":77.3},{"$f":"ROUND('Table X12 Indices 2012=100'!T59*$J$11,1)","v":83.1},{"$f":"ROUND('Table X12 Indices 2012=100'!U59*$K$11,1)","v":85.8},{"$f":"ROUND('Table X12 Indices 2012=100'!V59*$L$11,1)","v":85.6}]
[null,null,{"$f":"ROUND('Table X12 Indices 2012=100'!N60*$C$11,1)","v":84.9},{"$f":"ROUND('Table X12 Indices 2012=100'!O60*$D$11,1)","v":79.5},{"$f":"ROUND('Table X12 Indices 2012=100'!P60*$E$11,1)","v":89.1},{"$f":"ROUND('Table X12 Indices 2012=100'!Q60*$F$11,1)","v":90.1},{"$f":"ROUND('Table X12 Indices 2012=100'!R60*$G$11,1)","v":76.2},null,{"$f":"ROUND('Table X12 Indices 2012=100'!S60*$I$11,1)","v":77.2},{"$f":"ROUND('Table X12 Indices 2012=100'!T60*$J$11,1)","v":83.1},{"$f":"ROUND('Table X12 Indices 2012=100'!U60*$K$11,1)","v":85.8},{"$f":"ROUND('Table X12 Indices 2012=100'!V60*$L$11,1)","v":85.6}]
[null,null,{"$f":"ROUND('Table X12 Indices 2012=100'!N61*$C$11,1)","v":85.4},{"$f":"ROUND('Table X12 Indices 2012=100'!O61*$D$11,1)","v":80.8},{"$f":"ROUND('Table X12 Indices 2012=100'!P61*$E$11,1)","v":89.5},{"$f":"ROUND('Table X12 Indices 2012=100'!Q61*$F$11,1)","v":93.6},{"$f":"ROUND('Table X12 Indices 2012=100'!R61*$G$11,1)","v":75.599999999999994},null,{"$f":"ROUND('Table X12 Indices 2012=100'!S61*$I$11,1)","v":77},{"$f":"ROUND('Table X12 Indices 2012=100'!T61*$J$11,1)","v":82.9},{"$f":"ROUND('Table X12 Indices 2012=100'!U61*$K$11,1)","v":89},{"$f":"ROUND('Table X12 Indices 2012=100'!V61*$L$11,1)","v":88.9}]
[null,null,{"$f":"ROUND('Table X12 Indices 2012=100'!N62*$C$11,1)","v":86},{"$f":"ROUND('Table X12 Indices 2012=100'!O62*$D$11,1)","v":83.5},{"$f":"ROUND('Table X12 Indices 2012=100'!P62*$E$11,1)","v":91.7},{"$f":"ROUND('Table X12 Indices 2012=100'!Q62*$F$11,1)","v":98.5},{"$f":"ROUND('Table X12 Indices 2012=100'!R62*$G$11,1)","v":75.599999999999994},null,{"$f":"ROUND('Table X12 Indices 2012=100'!S62*$I$11,1)","v":77.099999999999994},{"$f":"ROUND('Table X12 Indices 2012=100'!T62*$J$11,1)","v":83.1},{"$f":"ROUND('Table X12 Indices 2012=100'!U62*$K$11,1)","v":92.3},{"$f":"ROUND('Table X12 Indices 2012=100'!V62*$L$11,1)","v":92.3}]
[null,null,{"$f":"ROUND('Table X12 Indices 2012=100'!N63*$C$11,1)","v":86.2},{"$f":"ROUND('Table X12 Indices 2012=100'!O63*$D$11,1)","v":83.6},{"$f":"ROUND('Table X12 Indices 2012=100'!P63*$E$11,1)","v":94},{"$f":"ROUND('Table X12 Indices 2012=100'!Q63*$F$11,1)","v":100.1},{"$f":"ROUND('Table X12 Indices 2012=100'!R63*$G$11,1)","v":75.900000000000006},null,{"$f":"ROUND('Table X12 Indices 2012=100'!S63*$I$11,1)","v":77.2},{"$f":"ROUND('Table X12 Indices 2012=100'!T63*$J$11,1)","v":83.5},{"$f":"ROUND('Table X12 Indices 2012=100'!U63*$K$11,1)","v":95.2},{"$f":"ROUND('Table X12 Indices 2012=100'!V63*$L$11,1)","v":96.7}]
[null,null,{"$f":"ROUND('Table X12 Indices 2012=100'!N64*$C$11,1)","v":86.5},{"$f":"ROUND('Table X12 Indices 2012=100'!O64*$D$11,1)","v":84},{"$f":"ROUND('Table X12 Indices 2012=100'!P64*$E$11,1)","v":94.3},{"$f":"ROUND('Table X12 Indices 2012=100'!Q64*$F$11,1)","v":97.6},{"$f":"ROUND('Table X12 Indices 2012=100'!R64*$G$11,1)","v":76},null,{"$f":"ROUND('Table X12 Indices 2012=100'!S64*$I$11,1)","v":77.2},{"$f":"ROUND('Table X12 Indices 2012=100'!T64*$J$11,1)","v":83.4},{"$f":"ROUND('Table X12 Indices 2012=100'!U64*$K$11,1)","v":94.7},{"$f":"ROUND('Table X12 Indices 2012=100'!V64*$L$11,1)","v":94.8}]
[null,null,{"$f":"ROUND('Table X12 Indices 2012=100'!N65*$C$11,1)","v":87.3},{"$f":"ROUND('Table X12 Indices 2012=100'!O65*$D$11,1)","v":84.7},{"$f":"ROUND('Table X12 Indices 2012=100'!P65*$E$11,1)","v":96.1},{"$f":"ROUND('Table X12 Indices 2012=100'!Q65*$F$11,1)","v":97.5},{"$f":"ROUND('Table X12 Indices 2012=100'!R65*$G$11,1)","v":76.3},null,{"$f":"ROUND('Table X12 Indices 2012=100'!S65*$I$11,1)","v":77.599999999999994},{"$f":"ROUND('Table X12 Indices 2012=100'!T65*$J$11,1)","v":83.5},{"$f":"ROUND('Table X12 Indices 2012=100'!U65*$K$11,1)","v":94.7},{"$f":"ROUND('Table X12 Indices 2012=100'!V65*$L$11,1)","v":94.7}]
[null,null,{"$f":"ROUND('Table X12 Indices 2012=100'!N66*$C$11,1)","v":87.9},{"$f":"ROUND('Table X12 Indices 2012=100'!O66*$D$11,1)","v":84.7},{"$f":"ROUND('Table X12 Indices 2012=100'!P66*$E$11,1)","v":95.8},{"$f":"ROUND('Table X12 Indices 2012=100'!Q66*$F$11,1)","v":98.7},{"$f":"ROUND('Table X12 Indices 2012=100'!R66*$G$11,1)","v":75.8},null,{"$f":"ROUND('Table X12 Indices 2012=100'!S66*$I$11,1)","v":77.400000000000006},{"$f":"ROUND('Table X12 Indices 2012=100'!T66*$J$11,1)","v":83.4},{"$f":"ROUND('Table X12 Indices 2012=100'!U66*$K$11,1)","v":95.6},{"$f":"ROUND('Table X12 Indices 2012=100'!V66*$L$11,1)","v":95.7}]
[null,null,{"$f":"ROUND('Table X12 Indices 2012=100'!N67*$C$11,1)","v":87.8},{"$f":"ROUND('Table X12 Indices 2012=100'!O67*$D$11,1)","v":84.7},{"$f":"ROUND('Table X12 Indices 2012=100'!P67*$E$11,1)","v":95.8},{"$f":"ROUND('Table X12 Indices 2012=100'!Q67*$F$11,1)","v":100.7},{"$f":"ROUND('Table X12 Indices 2012=100'!R67*$G$11,1)","v":76},null,{"$f":"ROUND('Table X12 Indices 2012=100'!S67*$I$11,1)","v":78.7},{"$f":"ROUND('Table X12 Indices 2012=100'!T67*$J$11,1)","v":85},{"$f":"ROUND('Table X12 Indices 2012=100'!U67*$K$11,1)","v":100.3},{"$f":"ROUND('Table X12 Indices 2012=100'!V67*$L$11,1)","v":100.1}]
[null,null,{"$f":"ROUND('Table X12 Indices 2012=100'!N68*$C$11,1)","v":87.5},{"$f":"ROUND('Table X12 Indices 2012=100'!O68*$D$11,1)","v":84.3},{"$f":"ROUND('Table X12 Indices 2012=100'!P68*$E$11,1)","v":97.6},{"$f":"ROUND('Table X12 Indices 2012=100'!Q68*$F$11,1)","v":101.7},{"$f":"ROUND('Table X12 Indices 2012=100'!R68*$G$11,1)","v":76.7},null,{"$f":"ROUND('Table X12 Indices 2012=100'!S68*$I$11,1)","v":79},{"$f":"ROUND('Table X12 Indices 2012=100'!T68*$J$11,1)","v":85.3},{"$f":"ROUND('Table X12 Indices 2012=100'!U68*$K$11,1)","v":101.2},{"$f":"ROUND('Table X12 Indices 2012=100'!V68*$L$11,1)","v":101}]
[null,null,{"$f":"ROUND('Table X12 Indices 2012=100'!N69*$C$11,1)","v":87.4},{"$f":"ROUND('Table X12 Indices 2012=100'!O69*$D$11,1)","v":84.3},{"$f":"ROUND('Table X12 Indices 2012=100'!P69*$E$11,1)","v":97.9},{"$f":"ROUND('Table X12 Indices 2012=100'!Q69*$F$11,1)","v":97.8},{"$f":"ROUND('Table X12 Indices 2012=100'!R69*$G$11,1)","v":76.8},null,{"$f":"ROUND('Table X12 Indices 2012=100'!S69*$I$11,1)","v":79.099999999999994},{"$f":"ROUND('Table X12 Indices 2012=100'!T69*$J$11,1)","v":85.6},{"$f":"ROUND('Table X12 Indices 2012=100'!U69*$K$11,1)","v":98.9},{"$f":"ROUND('Table X12 Indices 2012=100'!V69*$L$11,1)","v":99}]
[null,null,{"$f":"ROUND('Table X12 Indices 2012=100'!N70*$C$11,1)","v":87.6},{"$f":"ROUND('Table X12 Indices 2012=100'!O70*$D$11,1)","v":84.6},{"$f":"ROUND('Table X12 Indices 2012=100'!P70*$E$11,1)","v":98.2},{"$f":"ROUND('Table X12 Indices 2012=100'!Q70*$F$11,1)","v":90.4},{"$f":"ROUND('Table X12 Indices 2012=100'!R70*$G$11,1)","v":77},null,{"$f":"ROUND('Table X12 Indices 2012=100'!S70*$I$11,1)","v":79.5},{"$f":"ROUND('Table X12 Indices 2012=100'!T70*$J$11,1)","v":85.6},{"$f":"ROUND('Table X12 Indices 2012=100'!U70*$K$11,1)","v":93.2},{"$f":"ROUND('Table X12 Indices 2012=100'!V70*$L$11,1)","v":92.8}]
[null,null,{"$f":"ROUND('Table X12 Indices 2012=100'!N71*$C$11,1)","v":87.8},{"$f":"ROUND('Table X12 Indices 2012=100'!O71*$D$11,1)","v":84.6},{"$f":"ROUND('Table X12 Indices 2012=100'!P71*$E$11,1)","v":98},{"$f":"ROUND('Table X12 Indices 2012=100'!Q71*$F$11,1)","v":92.5},{"$f":"ROUND('Table X12 Indices 2012=100'!R71*$G$11,1)","v":77.2},null,{"$f":"ROUND('Table X12 Indices 2012=100'!S71*$I$11,1)","v":79.099999999999994},{"$f":"ROUND('Table X12 Indices 2012=100'!T71*$J$11,1)","v":85.8},{"$f":"ROUND('Table X12 Indices 2012=100'!U71*$K$11,1)","v":94.5},{"$f":"ROUND('Table X12 Indices 2012=100'!V71*$L$11,1)","v":94.1}]
[null,null,{"$f":"ROUND('Table X12 Indices 2012=100'!N72*$C$11,1)","v":87.7},{"$f":"ROUND('Table X12 Indices 2012=100'!O72*$D$11,1)","v":84.6},{"$f":"ROUND('Table X12 Indices 2012=100'!P72*$E$11,1)","v":97.8},{"$f":"ROUND('Table X12 Indices 2012=100'!Q72*$F$11,1)","v":98.4},{"$f":"ROUND('Table X12 Indices 2012=100'!R72*$G$11,1)","v":77.5},null,{"$f":"ROUND('Table X12 Indices 2012=100'!S72*$I$11,1)","v":80.599999999999994},{"$f":"ROUND('Table X12 Indices 2012=100'!T72*$J$11,1)","v":85.8},{"$f":"ROUND('Table X12 Indices 2012=100'!U72*$K$11,1)","v":100.9},{"$f":"ROUND('Table X12 Indices 2012=100'!V72*$L$11,1)","v":100.6}]
[null,null,{"$f":"ROUND('Table X12 Indices 2012=100'!N73*$C$11,1)","v":87.4},{"$f":"ROUND('Table X12 Indices 2012=100'!O73*$D$11,1)","v":83.4},{"$f":"ROUND('Table X12 Indices 2012=100'!P73*$E$11,1)","v":97.9},{"$f":"ROUND('Table X12 Indices 2012=100'!Q73*$F$11,1)","v":103.3},{"$f":"ROUND('Table X12 Indices 2012=100'!R73*$G$11,1)","v":77.5},null,{"$f":"ROUND('Table X12 Indices 2012=100'!S73*$I$11,1)","v":80.900000000000006},{"$f":"ROUND('Table X12 Indices 2012=100'!T73*$J$11,1)","v":86.2},{"$f":"ROUND('Table X12 Indices 2012=100'!U73*$K$11,1)","v":101.4},{"$f":"ROUND('Table X12 Indices 2012=100'!V73*$L$11,1)","v":104.3}]
[null,null,{"$f":"ROUND('Table X12 Indices 2012=100'!N74*$C$11,1)","v":87.7},{"$f":"ROUND('Table X12 Indices 2012=100'!O74*$D$11,1)","v":83.4},{"$f":"ROUND('Table X12 Indices 2012=100'!P74*$E$11,1)","v":98.6},{"$f":"ROUND('Table X12 Indices 2012=100'!Q74*$F$11,1)","v":104.8},{"$f":"ROUND('Table X12 Indices 2012=100'!R74*$G$11,1)","v":77.8},null,{"$f":"ROUND('Table X12 Indices 2012=100'!S74*$I$11,1)","v":81.3},{"$f":"ROUND('Table X12 Indices 2012=100'!T74*$J$11,1)","v":86.5},{"$f":"ROUND('Table X12 Indices 2012=100'!U74*$K$11,1)","v":103.8},{"$f":"ROUND('Table X12 Indices 2012=100'!V74*$L$11,1)","v":105.2}]
[null,null,{"$f":"ROUND('Table X12 Indices 2012=100'!N75*$C$11,1)","v":87.9},{"$f":"ROUND('Table X12 Indices 2012=100'!O75*$D$11,1)","v":84.3},{"$f":"ROUND('Table X12 Indices 2012=100'!P75*$E$11,1)","v":99.5},{"$f":"ROUND('Table X12 Indices 2012=100'!Q75*$F$11,1)","v":104},{"$f":"ROUND('Table X12 Indices 2012=100'!R75*$G$11,1)","v":78.099999999999994},null,{"$f":"ROUND('Table X12 Indices 2012=100'!S75*$I$11,1)","v":81.400000000000006},{"$f":"ROUND('Table X12 Indices 2012=100'!T75*$J$11,1)","v":86.7},{"$f":"ROUND('Table X12 Indices 2012=100'!U75*$K$11,1)","v":103.3},{"$f":"ROUND('Table X12 Indices 2012=100'!V75*$L$11,1)","v":104.7},null,"Conversion   ↑"]
[null,null,{"$f":"ROUND('Table X12 Indices 2012=100'!N76*$C$11,1)","v":89.1},{"$f":"ROUND('Table X12 Indices 2012=100'!O76*$D$11,1)","v":87},{"$f":"ROUND('Table X12 Indices 2012=100'!P76*$E$11,1)","v":101.6},{"$f":"ROUND('Table X12 Indices 2012=100'!Q76*$F$11,1)","v":101.5},{"$f":"ROUND('Table X12 Indices 2012=100'!R76*$G$11,1)","v":78.7},null,{"$f":"ROUND('Table X12 Indices 2012=100'!S76*$I$11,1)","v":81.8},{"$f":"ROUND('Table X12 Indices 2012=100'!T76*$J$11,1)","v":87.3},{"$f":"ROUND('Table X12 Indices 2012=100'!U76*$K$11,1)","v":100.8},{"$f":"ROUND('Table X12 Indices 2012=100'!V76*$L$11,1)","v":102.2},null,"New indices ↓"]
[null,null,{"$f":"ROUND('Table X12 Indices 2012=100'!N77*$C$11,1)","v":89.5},{"$f":"ROUND('Table X12 Indices 2012=100'!O77*$D$11,1)","v":88.4},{"$f":"ROUND('Table X12 Indices 2012=100'!P77*$E$11,1)","v":102.2},{"$f":"ROUND('Table X12 Indices 2012=100'!Q77*$F$11,1)","v":103},{"$f":"ROUND('Table X12 Indices 2012=100'!R77*$G$11,1)","v":78.8},null,{"$f":"ROUND('Table X12 Indices 2012=100'!S77*$I$11,1)","v":81.8},{"$f":"ROUND('Table X12 Indices 2012=100'!T77*$J$11,1)","v":87.3},{"$f":"ROUND('Table X12 Indices 2012=100'!U77*$K$11,1)","v":102.3},{"$f":"ROUND('Table X12 Indices 2012=100'!V77*$L$11,1)","v":103.8}]
[null,null,{"$f":"ROUND('Table X12 Indices 2012=100'!N78*$C$11,1)","v":90.3},{"$f":"ROUND('Table X12 Indices 2012=100'!O78*$D$11,1)","v":88.1},{"$f":"ROUND('Table X12 Indices 2012=100'!P78*$E$11,1)","v":102},{"$f":"ROUND('Table X12 Indices 2012=100'!Q78*$F$11,1)","v":108.4},{"$f":"ROUND('Table X12 Indices 2012=100'!R78*$G$11,1)","v":79.7},null,{"$f":"ROUND('Table X12 Indices 2012=100'!S78*$I$11,1)","v":82.1},{"$f":"ROUND('Table X12 Indices 2012=100'!T78*$J$11,1)","v":88.3},{"$f":"ROUND('Table X12 Indices 2012=100'!U78*$K$11,1)","v":107.7},{"$f":"ROUND('Table X12 Indices 2012=100'!V78*$L$11,1)","v":109.3}]
[null,null,{"$f":"ROUND('Table X12 Indices 2012=100'!N79*$C$11,1)","v":91},{"$f":"ROUND('Table X12 Indices 2012=100'!O79*$D$11,1)","v":89.6},{"$f":"ROUND('Table X12 Indices 2012=100'!P79*$E$11,1)","v":102.7},{"$f":"ROUND('Table X12 Indices 2012=100'!Q79*$F$11,1)","v":109.2},{"$f":"ROUND('Table X12 Indices 2012=100'!R79*$G$11,1)","v":79.8},null,{"$f":"ROUND('Table X12 Indices 2012=100'!S79*$I$11,1)","v":82.2},{"$f":"ROUND('Table X12 Indices 2012=100'!T79*$J$11,1)","v":88.3},{"$f":"ROUND('Table X12 Indices 2012=100'!U79*$K$11,1)","v":108.5},{"$f":"ROUND('Table X12 Indices 2012=100'!V79*$L$11,1)","v":110}]
[null,null,{"$f":"ROUND('Table X12 Indices 2012=100'!N80*$C$11,1)","v":91.2},{"$f":"ROUND('Table X12 Indices 2012=100'!O80*$D$11,1)","v":90.4},{"$f":"ROUND('Table X12 Indices 2012=100'!P80*$E$11,1)","v":104.2},{"$f":"ROUND('Table X12 Indices 2012=100'!Q80*$F$11,1)","v":104.1},{"$f":"ROUND('Table X12 Indices 2012=100'!R80*$G$11,1)","v":80.400000000000006},null,{"$f":"ROUND('Table X12 Indices 2012=100'!S80*$I$11,1)","v":82.6},{"$f":"ROUND('Table X12 Indices 2012=100'!T80*$J$11,1)","v":88.6},{"$f":"ROUND('Table X12 Indices 2012=100'!U80*$K$11,1)","v":103.5},{"$f":"ROUND('Table X12 Indices 2012=100'!V80*$L$11,1)","v":104.7}]
[null,null,{"$f":"ROUND('Table X12 Indices 2012=100'!N81*$C$11,1)","v":91.9},{"$f":"ROUND('Table X12 Indices 2012=100'!O81*$D$11,1)","v":90.5},{"$f":"ROUND('Table X12 Indices 2012=100'!P81*$E$11,1)","v":105.4},{"$f":"ROUND('Table X12 Indices 2012=100'!Q81*$F$11,1)","v":103.7},{"$f":"ROUND('Table X12 Indices 2012=100'!R81*$G$11,1)","v":81.099999999999994},null,{"$f":"ROUND('Table X12 Indices 2012=100'!S81*$I$11,1)","v":83},{"$f":"ROUND('Table X12 Indices 2012=100'!T81*$J$11,1)","v":89.3},{"$f":"ROUND('Table X12 Indices 2012=100'!U81*$K$11,1)","v":103.1},{"$f":"ROUND('Table X12 Indices 2012=100'!V81*$L$11,1)","v":104.3}]
[null,null,{"$f":"ROUND('Table X12 Indices 2012=100'!N82*$C$11,1)","v":92.3},{"$f":"ROUND('Table X12 Indices 2012=100'!O82*$D$11,1)","v":90.5},{"$f":"ROUND('Table X12 Indices 2012=100'!P82*$E$11,1)","v":106.4},{"$f":"ROUND('Table X12 Indices 2012=100'!Q82*$F$11,1)","v":111},{"$f":"ROUND('Table X12 Indices 2012=100'!R82*$G$11,1)","v":82.4},null,{"$f":"ROUND('Table X12 Indices 2012=100'!S82*$I$11,1)","v":84.8},{"$f":"ROUND('Table X12 Indices 2012=100'!T82*$J$11,1)","v":90.5},{"$f":"ROUND('Table X12 Indices 2012=100'!U82*$K$11,1)","v":110.2},{"$f":"ROUND('Table X12 Indices 2012=100'!V82*$L$11,1)","v":111.8}]
[null,null,{"$f":"ROUND('Table X12 Indices 2012=100'!N83*$C$11,1)","v":92.5},{"$f":"ROUND('Table X12 Indices 2012=100'!O83*$D$11,1)","v":90.3},{"$f":"ROUND('Table X12 Indices 2012=100'!P83*$E$11,1)","v":106.1},{"$f":"ROUND('Table X12 Indices 2012=100'!Q83*$F$11,1)","v":114},{"$f":"ROUND('Table X12 Indices 2012=100'!R83*$G$11,1)","v":83.2},null,{"$f":"ROUND('Table X12 Indices 2012=100'!S83*$I$11,1)","v":85.2},{"$f":"ROUND('Table X12 Indices 2012=100'!T83*$J$11,1)","v":90.9},{"$f":"ROUND('Table X12 Indices 2012=100'!U83*$K$11,1)","v":113.2},{"$f":"ROUND('Table X12 Indices 2012=100'!V83*$L$11,1)","v":114.8}]
[null,null,{"$f":"ROUND('Table X12 Indices 2012=100'!N84*$C$11,1)","v":92},{"$f":"ROUND('Table X12 Indices 2012=100'!O84*$D$11,1)","v":90.3},{"$f":"ROUND('Table X12 Indices 2012=100'!P84*$E$11,1)","v":105.4},{"$f":"ROUND('Table X12 Indices 2012=100'!Q84*$F$11,1)","v":115.3},{"$f":"ROUND('Table X12 Indices 2012=100'!R84*$G$11,1)","v":83.5},null,{"$f":"ROUND('Table X12 Indices 2012=100'!S84*$I$11,1)","v":85.3},{"$f":"ROUND('Table X12 Indices 2012=100'!T84*$J$11,1)","v":91.2},{"$f":"ROUND('Table X12 Indices 2012=100'!U84*$K$11,1)","v":114.4},{"$f":"ROUND('Table X12 Indices 2012=100'!V84*$L$11,1)","v":116.1}]
[null,null,{"$f":"ROUND('Table X12 Indices 2012=100'!N85*$C$11,1)","v":92.1},{"$f":"ROUND('Table X12 Indices 2012=100'!O85*$D$11,1)","v":90.4},{"$f":"ROUND('Table X12 Indices 2012=100'!P85*$E$11,1)","v":105.5},{"$f":"ROUND('Table X12 Indices 2012=100'!Q85*$F$11,1)","v":115.1},{"$f":"ROUND('Table X12 Indices 2012=100'!R85*$G$11,1)","v":84.2},null,{"$f":"ROUND('Table X12 Indices 2012=100'!S85*$I$11,1)","v":85.8},{"$f":"ROUND('Table X12 Indices 2012=100'!T85*$J$11,1)","v":91.7},{"$f":"ROUND('Table X12 Indices 2012=100'!U85*$K$11,1)","v":114.2},{"$f":"ROUND('Table X12 Indices 2012=100'!V85*$L$11,1)","v":115.9}]
[null,null,{"$f":"ROUND('Table X12 Indices 2012=100'!N86*$C$11,1)","v":92},{"$f":"ROUND('Table X12 Indices 2012=100'!O86*$D$11,1)","v":90.3},{"$f":"ROUND('Table X12 Indices 2012=100'!P86*$E$11,1)","v":104.9},{"$f":"ROUND('Table X12 Indices 2012=100'!Q86*$F$11,1)","v":113.6},{"$f":"ROUND('Table X12 Indices 2012=100'!R86*$G$11,1)","v":84.5},null,{"$f":"ROUND('Table X12 Indices 2012=100'!S86*$I$11,1)","v":86.1},{"$f":"ROUND('Table X12 Indices 2012=100'!T86*$J$11,1)","v":92.2},{"$f":"ROUND('Table X12 Indices 2012=100'!U86*$K$11,1)","v":112.9},{"$f":"ROUND('Table X12 Indices 2012=100'!V86*$L$11,1)","v":114.5}]
[null,null,{"$f":"ROUND('Table X12 Indices 2012=100'!N87*$C$11,1)","v":92},{"$f":"ROUND('Table X12 Indices 2012=100'!O87*$D$11,1)","v":90.2},{"$f":"ROUND('Table X12 Indices 2012=100'!P87*$E$11,1)","v":105.1},{"$f":"ROUND('Table X12 Indices 2012=100'!Q87*$F$11,1)","v":114.6},{"$f":"ROUND('Table X12 Indices 2012=100'!R87*$G$11,1)","v":84.7},null,{"$f":"ROUND('Table X12 Indices 2012=100'!S87*$I$11,1)","v":86.2},{"$f":"ROUND('Table X12 Indices 2012=100'!T87*$J$11,1)","v":92.4},{"$f":"ROUND('Table X12 Indices 2012=100'!U87*$K$11,1)","v":113.7},{"$f":"ROUND('Table X12 Indices 2012=100'!V87*$L$11,1)","v":115.4}]
[null,null,{"$f":"ROUND('Table X12 Indices 2012=100'!N88*$C$11,1)","v":92.7},{"$f":"ROUND('Table X12 Indices 2012=100'!O88*$D$11,1)","v":91.1},{"$f":"ROUND('Table X12 Indices 2012=100'!P88*$E$11,1)","v":106.1},{"$f":"ROUND('Table X12 Indices 2012=100'!Q88*$F$11,1)","v":117.6},{"$f":"ROUND('Table X12 Indices 2012=100'!R88*$G$11,1)","v":85.2},null,{"$f":"ROUND('Table X12 Indices 2012=100'!S88*$I$11,1)","v":86.3},{"$f":"ROUND('Table X12 Indices 2012=100'!T88*$J$11,1)","v":92.4},{"$f":"ROUND('Table X12 Indices 2012=100'!U88*$K$11,1)","v":116.7},{"$f":"ROUND('Table X12 Indices 2012=100'!V88*$L$11,1)","v":118.5}]
[null,null,{"$f":"ROUND('Table X12 Indices 2012=100'!N89*$C$11,1)","v":92.8},{"$f":"ROUND('Table X12 Indices 2012=100'!O89*$D$11,1)","v":93.8},{"$f":"ROUND('Table X12 Indices 2012=100'!P89*$E$11,1)","v":109.7},{"$f":"ROUND('Table X12 Indices 2012=100'!Q89*$F$11,1)","v":119.8},{"$f":"ROUND('Table X12 Indices 2012=100'!R89*$G$11,1)","v":86.4},null,{"$f":"ROUND('Table X12 Indices 2012=100'!S89*$I$11,1)","v":91.8},{"$f":"ROUND('Table X12 Indices 2012=100'!T89*$J$11,1)","v":92.9},{"$f":"ROUND('Table X12 Indices 2012=100'!U89*$K$11,1)","v":118.9},{"$f":"ROUND('Table X12 Indices 2012=100'!V89*$L$11,1)","v":120.8}]
[null,null,{"$f":"ROUND('Table X12 Indices 2012=100'!N90*$C$11,1)","v":93.8},{"$f":"ROUND('Table X12 Indices 2012=100'!O90*$D$11,1)","v":94.5},{"$f":"ROUND('Table X12 Indices 2012=100'!P90*$E$11,1)","v":111.2},{"$f":"ROUND('Table X12 Indices 2012=100'!Q90*$F$11,1)","v":122.4},{"$f":"ROUND('Table X12 Indices 2012=100'!R90*$G$11,1)","v":86.2},null,{"$f":"ROUND('Table X12 Indices 2012=100'!S90*$I$11,1)","v":92.1},{"$f":"ROUND('Table X12 Indices 2012=100'!T90*$J$11,1)","v":93.4},{"$f":"ROUND('Table X12 Indices 2012=100'!U90*$K$11,1)","v":121.3},{"$f":"ROUND('Table X12 Indices 2012=100'!V90*$L$11,1)","v":123.3}]
[null,null,{"$f":"ROUND('Table X12 Indices 2012=100'!N91*$C$11,1)","v":94.1},{"$f":"ROUND('Table X12 Indices 2012=100'!O91*$D$11,1)","v":94.9},{"$f":"ROUND('Table X12 Indices 2012=100'!P91*$E$11,1)","v":111.1},{"$f":"ROUND('Table X12 Indices 2012=100'!Q91*$F$11,1)","v":121.3},{"$f":"ROUND('Table X12 Indices 2012=100'!R91*$G$11,1)","v":86.8},null,{"$f":"ROUND('Table X12 Indices 2012=100'!S91*$I$11,1)","v":93.2},{"$f":"ROUND('Table X12 Indices 2012=100'!T91*$J$11,1)","v":95},{"$f":"ROUND('Table X12 Indices 2012=100'!U91*$K$11,1)","v":120.6},{"$f":"ROUND('Table X12 Indices 2012=100'!V91*$L$11,1)","v":122.1}]
[null,null,{"$f":"ROUND('Table X12 Indices 2012=100'!N92*$C$11,1)","v":94.3},{"$f":"ROUND('Table X12 Indices 2012=100'!O92*$D$11,1)","v":94.8},{"$f":"ROUND('Table X12 Indices 2012=100'!P92*$E$11,1)","v":110.5},{"$f":"ROUND('Table X12 Indices 2012=100'!Q92*$F$11,1)","v":118.5},{"$f":"ROUND('Table X12 Indices 2012=100'!R92*$G$11,1)","v":87.2},null,{"$f":"ROUND('Table X12 Indices 2012=100'!S92*$I$11,1)","v":93.3},{"$f":"ROUND('Table X12 Indices 2012=100'!T92*$J$11,1)","v":95.3},{"$f":"ROUND('Table X12 Indices 2012=100'!U92*$K$11,1)","v":117.8},{"$f":"ROUND('Table X12 Indices 2012=100'!V92*$L$11,1)","v":119.3}]
[null,null,{"$f":"ROUND('Table X12 Indices 2012=100'!N93*$C$11,1)","v":94.6},{"$f":"ROUND('Table X12 Indices 2012=100'!O93*$D$11,1)","v":94.8},{"$f":"ROUND('Table X12 Indices 2012=100'!P93*$E$11,1)","v":111},{"$f":"ROUND('Table X12 Indices 2012=100'!Q93*$F$11,1)","v":116.4},{"$f":"ROUND('Table X12 Indices 2012=100'!R93*$G$11,1)","v":87.4},null,{"$f":"ROUND('Table X12 Indices 2012=100'!S93*$I$11,1)","v":92.5},{"$f":"ROUND('Table X12 Indices 2012=100'!T93*$J$11,1)","v":94.5},{"$f":"ROUND('Table X12 Indices 2012=100'!U93*$K$11,1)","v":115.7},{"$f":"ROUND('Table X12 Indices 2012=100'!V93*$L$11,1)","v":117.1}]
[null,null,{"$f":"ROUND('Table X12 Indices 2012=100'!N94*$C$11,1)","v":94.6},{"$f":"ROUND('Table X12 Indices 2012=100'!O94*$D$11,1)","v":94.4},{"$f":"ROUND('Table X12 Indices 2012=100'!P94*$E$11,1)","v":112},{"$f":"ROUND('Table X12 Indices 2012=100'!Q94*$F$11,1)","v":117.7},{"$f":"ROUND('Table X12 Indices 2012=100'!R94*$G$11,1)","v":87.5},null,{"$f":"ROUND('Table X12 Indices 2012=100'!S94*$I$11,1)","v":92.2},{"$f":"ROUND('Table X12 Indices 2012=100'!T94*$J$11,1)","v":94.3},{"$f":"ROUND('Table X12 Indices 2012=100'!U94*$K$11,1)","v":117},{"$f":"ROUND('Table X12 Indices 2012=100'!V94*$L$11,1)","v":118.4}]
[null,null,{"$f":"ROUND('Table X12 Indices 2012=100'!N95*$C$11,1)","v":94.6},{"$f":"ROUND('Table X12 Indices 2012=100'!O95*$D$11,1)","v":94.4},{"$f":"ROUND('Table X12 Indices 2012=100'!P95*$E$11,1)","v":110.9},{"$f":"ROUND('Table X12 Indices 2012=100'!Q95*$F$11,1)","v":117.2},{"$f":"ROUND('Table X12 Indices 2012=100'!R95*$G$11,1)","v":87.6},null,{"$f":"ROUND('Table X12 Indices 2012=100'!S95*$I$11,1)","v":92.9},{"$f":"ROUND('Table X12 Indices 2012=100'!T95*$J$11,1)","v":94.4},{"$f":"ROUND('Table X12 Indices 2012=100'!U95*$K$11,1)","v":116.5},{"$f":"ROUND('Table X12 Indices 2012=100'!V95*$L$11,1)","v":117.9}]
[null,null,{"$f":"ROUND('Table X12 Indices 2012=100'!N96*$C$11,1)","v":95.2},{"$f":"ROUND('Table X12 Indices 2012=100'!O96*$D$11,1)","v":95.4},{"$f":"ROUND('Table X12 Indices 2012=100'!P96*$E$11,1)","v":111},{"$f":"ROUND('Table X12 Indices 2012=100'!Q96*$F$11,1)","v":114.8},{"$f":"ROUND('Table X12 Indices 2012=100'!R96*$G$11,1)","v":87.6},null,{"$f":"ROUND('Table X12 Indices 2012=100'!S96*$I$11,1)","v":92.9},{"$f":"ROUND('Table X12 Indices 2012=100'!T96*$J$11,1)","v":94.3},{"$f":"ROUND('Table X12 Indices 2012=100'!U96*$K$11,1)","v":114.2},{"$f":"ROUND('Table X12 Indices 2012=100'!V96*$L$11,1)","v":115.5}]
[null,null,{"$f":"ROUND('Table X12 Indices 2012=100'!N97*$C$11,1)","v":95.3},{"$f":"ROUND('Table X12 Indices 2012=100'!O97*$D$11,1)","v":95.4},{"$f":"ROUND('Table X12 Indices 2012=100'!P97*$E$11,1)","v":111.3},{"$f":"ROUND('Table X12 Indices 2012=100'!Q97*$F$11,1)","v":113.6},{"$f":"ROUND('Table X12 Indices 2012=100'!R97*$G$11,1)","v":87.2},null,{"$f":"ROUND('Table X12 Indices 2012=100'!S97*$I$11,1)","v":92.9},{"$f":"ROUND('Table X12 Indices 2012=100'!T97*$J$11,1)","v":93.3},{"$f":"ROUND('Table X12 Indices 2012=100'!U97*$K$11,1)","v":113.1},{"$f":"ROUND('Table X12 Indices 2012=100'!V97*$L$11,1)","v":114.2}]
[null,null,{"$f":"ROUND('Table X12 Indices 2012=100'!N98*$C$11,1)","v":95},{"$f":"ROUND('Table X12 Indices 2012=100'!O98*$D$11,1)","v":96.1},{"$f":"ROUND('Table X12 Indices 2012=100'!P98*$E$11,1)","v":110.6},{"$f":"ROUND('Table X12 Indices 2012=100'!Q98*$F$11,1)","v":108},{"$f":"ROUND('Table X12 Indices 2012=100'!R98*$G$11,1)","v":87.4},null,{"$f":"ROUND('Table X12 Indices 2012=100'!S98*$I$11,1)","v":92.9},{"$f":"ROUND('Table X12 Indices 2012=100'!T98*$J$11,1)","v":93.3},{"$f":"ROUND('Table X12 Indices 2012=100'!U98*$K$11,1)","v":107.5},{"$f":"ROUND('Table X12 Indices 2012=100'!V98*$L$11,1)","v":108.5}]
[null,null,{"$f":"ROUND('Table X12 Indices 2012=100'!N99*$C$11,1)","v":94.7},{"$f":"ROUND('Table X12 Indices 2012=100'!O99*$D$11,1)","v":96.1},{"$f":"ROUND('Table X12 Indices 2012=100'!P99*$E$11,1)","v":107.5},{"$f":"ROUND('Table X12 Indices 2012=100'!Q99*$F$11,1)","v":103},{"$f":"ROUND('Table X12 Indices 2012=100'!R99*$G$11,1)","v":87.4},null,{"$f":"ROUND('Table X12 Indices 2012=100'!S99*$I$11,1)","v":92.9},{"$f":"ROUND('Table X12 Indices 2012=100'!T99*$J$11,1)","v":93.3},{"$f":"ROUND('Table X12 Indices 2012=100'!U99*$K$11,1)","v":102.6},{"$f":"ROUND('Table X12 Indices 2012=100'!V99*$L$11,1)","v":103.6}]
[null,null,{"$f":"ROUND('Table X12 Indices 2012=100'!N100*$C$11,1)","v":92.9},{"$f":"ROUND('Table X12 Indices 2012=100'!O100*$D$11,1)","v":93.8},{"$f":"ROUND('Table X12 Indices 2012=100'!P100*$E$11,1)","v":104.3},{"$f":"ROUND('Table X12 Indices 2012=100'!Q100*$F$11,1)","v":93.5},{"$f":"ROUND('Table X12 Indices 2012=100'!R100*$G$11,1)","v":88.3},null,{"$f":"ROUND('Table X12 Indices 2012=100'!S100*$I$11,1)","v":93.6},{"$f":"ROUND('Table X12 Indices 2012=100'!T100*$J$11,1)","v":93.9},{"$f":"ROUND('Table X12 Indices 2012=100'!U100*$K$11,1)","v":93.2},{"$f":"ROUND('Table X12 Indices 2012=100'!V100*$L$11,1)","v":93.8}]
[null,null,{"$f":"ROUND('Table X12 Indices 2012=100'!N101*$C$11,1)","v":92.4},{"$f":"ROUND('Table X12 Indices 2012=100'!O101*$D$11,1)","v":94.4},{"$f":"ROUND('Table X12 Indices 2012=100'!P101*$E$11,1)","v":99.6},{"$f":"ROUND('Table X12 Indices 2012=100'!Q101*$F$11,1)","v":84.1},{"$f":"ROUND('Table X12 Indices 2012=100'!R101*$G$11,1)","v":88.8},null,{"$f":"ROUND('Table X12 Indices 2012=100'!S101*$I$11,1)","v":93.7},{"$f":"ROUND('Table X12 Indices 2012=100'!T101*$J$11,1)","v":94.2},{"$f":"ROUND('Table X12 Indices 2012=100'!U101*$K$11,1)","v":84},{"$f":"ROUND('Table X12 Indices 2012=100'!V101*$L$11,1)","v":84.2}]
[null,null,{"$f":"ROUND('Table X12 Indices 2012=100'!N102*$C$11,1)","v":92.1},{"$f":"ROUND('Table X12 Indices 2012=100'!O102*$D$11,1)","v":93.8},{"$f":"ROUND('Table X12 Indices 2012=100'!P102*$E$11,1)","v":101.5},{"$f":"ROUND('Table X12 Indices 2012=100'!Q102*$F$11,1)","v":90.9},{"$f":"ROUND('Table X12 Indices 2012=100'!R102*$G$11,1)","v":88.8},null,{"$f":"ROUND('Table X12 Indices 2012=100'!S102*$I$11,1)","v":93.7},{"$f":"ROUND('Table X12 Indices 2012=100'!T102*$J$11,1)","v":94.2},{"$f":"ROUND('Table X12 Indices 2012=100'!U102*$K$11,1)","v":90.6},{"$f":"ROUND('Table X12 Indices 2012=100'!V102*$L$11,1)","v":91.1}]
[null,null,{"$f":"ROUND('Table X12 Indices 2012=100'!N103*$C$11,1)","v":89.5},{"$f":"ROUND('Table X12 Indices 2012=100'!O103*$D$11,1)","v":90.6},{"$f":"ROUND('Table X12 Indices 2012=100'!P103*$E$11,1)","v":99.8},{"$f":"ROUND('Table X12 Indices 2012=100'!Q103*$F$11,1)","v":102.2},{"$f":"ROUND('Table X12 Indices 2012=100'!R103*$G$11,1)","v":89},null,{"$f":"ROUND('Table X12 Indices 2012=100'!S103*$I$11,1)","v":92.2},{"$f":"ROUND('Table X12 Indices 2012=100'!T103*$J$11,1)","v":92.8},{"$f":"ROUND('Table X12 Indices 2012=100'!U103*$K$11,1)","v":101.9},{"$f":"ROUND('Table X12 Indices 2012=100'!V103*$L$11,1)","v":102.5}]
[null,null,{"$f":"ROUND('Table X12 Indices 2012=100'!N104*$C$11,1)","v":88.2},{"$f":"ROUND('Table X12 Indices 2012=100'!O104*$D$11,1)","v":89},{"$f":"ROUND('Table X12 Indices 2012=100'!P104*$E$11,1)","v":99},{"$f":"ROUND('Table X12 Indices 2012=100'!Q104*$F$11,1)","v":101.7},{"$f":"ROUND('Table X12 Indices 2012=100'!R104*$G$11,1)","v":89.2},null,{"$f":"ROUND('Table X12 Indices 2012=100'!S104*$I$11,1)","v":92.2},{"$f":"ROUND('Table X12 Indices 2012=100'!T104*$J$11,1)","v":92.7},{"$f":"ROUND('Table X12 Indices 2012=100'!U104*$K$11,1)","v":101.4},{"$f":"ROUND('Table X12 Indices 2012=100'!V104*$L$11,1)","v":102}]
[null,null,{"$f":"ROUND('Table X12 Indices 2012=100'!N105*$C$11,1)","v":88.4},{"$f":"ROUND('Table X12 Indices 2012=100'!O105*$D$11,1)","v":88.8},{"$f":"ROUND('Table X12 Indices 2012=100'!P105*$E$11,1)","v":100.2},{"$f":"ROUND('Table X12 Indices 2012=100'!Q105*$F$11,1)","v":106.2},{"$f":"ROUND('Table X12 Indices 2012=100'!R105*$G$11,1)","v":89.2},null,{"$f":"ROUND('Table X12 Indices 2012=100'!S105*$I$11,1)","v":92.5},{"$f":"ROUND('Table X12 Indices 2012=100'!T105*$J$11,1)","v":92.4},{"$f":"ROUND('Table X12 Indices 2012=100'!U105*$K$11,1)","v":105.8},{"$f":"ROUND('Table X12 Indices 2012=100'!V105*$L$11,1)","v":106.6}]
[null,null,{"$f":"ROUND('Table X12 Indices 2012=100'!N106*$C$11,1)","v":88.2},{"$f":"ROUND('Table X12 Indices 2012=100'!O106*$D$11,1)","v":88.9},{"$f":"ROUND('Table X12 Indices 2012=100'!P106*$E$11,1)","v":98.5},{"$f":"ROUND('Table X12 Indices 2012=100'!Q106*$F$11,1)","v":106.6},{"$f":"ROUND('Table X12 Indices 2012=100'!R106*$G$11,1)","v":89.3},null,{"$f":"ROUND('Table X12 Indices 2012=100'!S106*$I$11,1)","v":92.9},{"$f":"ROUND('Table X12 Indices 2012=100'!T106*$J$11,1)","v":91.9},{"$f":"ROUND('Table X12 Indices 2012=100'!U106*$K$11,1)","v":106.1},{"$f":"ROUND('Table X12 Indices 2012=100'!V106*$L$11,1)","v":106.9}]
[null,null,{"$f":"ROUND('Table X12 Indices 2012=100'!N107*$C$11,1)","v":88.5},{"$f":"ROUND('Table X12 Indices 2012=100'!O107*$D$11,1)","v":89.4},{"$f":"ROUND('Table X12 Indices 2012=100'!P107*$E$11,1)","v":98.4},{"$f":"ROUND('Table X12 Indices 2012=100'!Q107*$F$11,1)","v":99.5},{"$f":"ROUND('Table X12 Indices 2012=100'!R107*$G$11,1)","v":89.5},null,{"$f":"ROUND('Table X12 Indices 2012=100'!S107*$I$11,1)","v":93.4},{"$f":"ROUND('Table X12 Indices 2012=100'!T107*$J$11,1)","v":92.2},{"$f":"ROUND('Table X12 Indices 2012=100'!U107*$K$11,1)","v":99.3},{"$f":"ROUND('Table X12 Indices 2012=100'!V107*$L$11,1)","v":99.8}]
[null,null,{"$f":"ROUND('Table X12 Indices 2012=100'!N108*$C$11,1)","v":88.1},{"$f":"ROUND('Table X12 Indices 2012=100'!O108*$D$11,1)","v":89.1},{"$f":"ROUND('Table X12 Indices 2012=100'!P108*$E$11,1)","v":95.4},{"$f":"ROUND('Table X12 Indices 2012=100'!Q108*$F$11,1)","v":94.6},{"$f":"ROUND('Table X12 Indices 2012=100'!R108*$G$11,1)","v":90.3},null,{"$f":"ROUND('Table X12 Indices 2012=100'!S108*$I$11,1)","v":93.8},{"$f":"ROUND('Table X12 Indices 2012=100'!T108*$J$11,1)","v":92.8},{"$f":"ROUND('Table X12 Indices 2012=100'!U108*$K$11,1)","v":94.3},{"$f":"ROUND('Table X12 Indices 2012=100'!V108*$L$11,1)","v":94.8}]
[null,null,{"$f":"ROUND('Table X12 Indices 2012=100'!N109*$C$11,1)","v":88.4},{"$f":"ROUND('Table X12 Indices 2012=100'!O109*$D$11,1)","v":89.1},{"$f":"ROUND('Table X12 Indices 2012=100'!P109*$E$11,1)","v":93},{"$f":"ROUND('Table X12 Indices 2012=100'!Q109*$F$11,1)","v":99.5},{"$f":"ROUND('Table X12 Indices 2012=100'!R109*$G$11,1)","v":91.8},null,{"$f":"ROUND('Table X12 Indices 2012=100'!S109*$I$11,1)","v":94.8},{"$f":"ROUND('Table X12 Indices 2012=100'!T109*$J$11,1)","v":93.5},{"$f":"ROUND('Table X12 Indices 2012=100'!U109*$K$11,1)","v":99.2},{"$f":"ROUND('Table X12 Indices 2012=100'!V109*$L$11,1)","v":99.7}]
[null,null,{"$f":"ROUND('Table X12 Indices 2012=100'!N110*$C$11,1)","v":88.4},{"$f":"ROUND('Table X12 Indices 2012=100'!O110*$D$11,1)","v":89},{"$f":"ROUND('Table X12 Indices 2012=100'!P110*$E$11,1)","v":93.3},{"$f":"ROUND('Table X12 Indices 2012=100'!Q110*$F$11,1)","v":98.6},{"$f":"ROUND('Table X12 Indices 2012=100'!R110*$G$11,1)","v":91.8},null,{"$f":"ROUND('Table X12 Indices 2012=100'!S110*$I$11,1)","v":95.3},{"$f":"ROUND('Table X12 Indices 2012=100'!T110*$J$11,1)","v":93.9},{"$f":"ROUND('Table X12 Indices 2012=100'!U110*$K$11,1)","v":98.3},{"$f":"ROUND('Table X12 Indices 2012=100'!V110*$L$11,1)","v":98.9}]
[null,null,{"$f":"ROUND('Table X12 Indices 2012=100'!N111*$C$11,1)","v":88.1},{"$f":"ROUND('Table X12 Indices 2012=100'!O111*$D$11,1)","v":89.4},{"$f":"ROUND('Table X12 Indices 2012=100'!P111*$E$11,1)","v":94.9},{"$f":"ROUND('Table X12 Indices 2012=100'!Q111*$F$11,1)","v":98.3},{"$f":"ROUND('Table X12 Indices 2012=100'!R111*$G$11,1)","v":91.8},null,{"$f":"ROUND('Table X12 Indices 2012=100'!S111*$I$11,1)","v":95.4},{"$f":"ROUND('Table X12 Indices 2012=100'!T111*$J$11,1)","v":93.9},{"$f":"ROUND('Table X12 Indices 2012=100'!U111*$K$11,1)","v":98.1},{"$f":"ROUND('Table X12 Indices 2012=100'!V111*$L$11,1)","v":98.5}]
[null,null,{"$f":"ROUND('Table X12 Indices 2012=100'!N112*$C$11,1)","v":90.5},{"$f":"ROUND('Table X12 Indices 2012=100'!O112*$D$11,1)","v":91.3},{"$f":"ROUND('Table X12 Indices 2012=100'!P112*$E$11,1)","v":94.2},{"$f":"ROUND('Table X12 Indices 2012=100'!Q112*$F$11,1)","v":91.3},{"$f":"ROUND('Table X12 Indices 2012=100'!R112*$G$11,1)","v":96.5},null,{"$f":"ROUND('Table X12 Indices 2012=100'!S112*$I$11,1)","v":98.6},{"$f":"ROUND('Table X12 Indices 2012=100'!T112*$J$11,1)","v":96.8},{"$f":"ROUND('Table X12 Indices 2012=100'!U112*$K$11,1)","v":91.1},{"$f":"ROUND('Table X12 Indices 2012=100'!V112*$L$11,1)","v":91.4}]
[null,null,{"$f":"ROUND('Table X12 Indices 2012=100'!N113*$C$11,1)","v":92.5},{"$f":"ROUND('Table X12 Indices 2012=100'!O113*$D$11,1)","v":93.9},{"$f":"ROUND('Table X12 Indices 2012=100'!P113*$E$11,1)","v":94.6},{"$f":"ROUND('Table X12 Indices 2012=100'!Q113*$F$11,1)","v":85.6},{"$f":"ROUND('Table X12 Indices 2012=100'!R113*$G$11,1)","v":96.8},null,{"$f":"ROUND('Table X12 Indices 2012=100'!S113*$I$11,1)","v":98.3},{"$f":"ROUND('Table X12 Indices 2012=100'!T113*$J$11,1)","v":97.3},{"$f":"ROUND('Table X12 Indices 2012=100'!U113*$K$11,1)","v":85.5},{"$f":"ROUND('Table X12 Indices 2012=100'!V113*$L$11,1)","v":85.6}]
[null,null,{"$f":"ROUND('Table X12 Indices 2012=100'!N114*$C$11,1)","v":92.6},{"$f":"ROUND('Table X12 Indices 2012=100'!O114*$D$11,1)","v":92.7},{"$f":"ROUND('Table X12 Indices 2012=100'!P114*$E$11,1)","v":93},{"$f":"ROUND('Table X12 Indices 2012=100'!Q114*$F$11,1)","v":86.9},{"$f":"ROUND('Table X12 Indices 2012=100'!R114*$G$11,1)","v":97.8},null,{"$f":"ROUND('Table X12 Indices 2012=100'!S114*$I$11,1)","v":99.3},{"$f":"ROUND('Table X12 Indices 2012=100'!T114*$J$11,1)","v":98.3},{"$f":"ROUND('Table X12 Indices 2012=100'!U114*$K$11,1)","v":86.8},{"$f":"ROUND('Table X12 Indices 2012=100'!V114*$L$11,1)","v":87}]
[null,null,{"$f":"ROUND('Table X12 Indices 2012=100'!N115*$C$11,1)","v":93.3},{"$f":"ROUND('Table X12 Indices 2012=100'!O115*$D$11,1)","v":95.4},{"$f":"ROUND('Table X12 Indices 2012=100'!P115*$E$11,1)","v":94.6},{"$f":"ROUND('Table X12 Indices 2012=100'!Q115*$F$11,1)","v":95.5},{"$f":"ROUND('Table X12 Indices 2012=100'!R115*$G$11,1)","v":98.3},null,{"$f":"ROUND('Table X12 Indices 2012=100'!S115*$I$11,1)","v":99.3},{"$f":"ROUND('Table X12 Indices 2012=100'!T115*$J$11,1)","v":98.4},{"$f":"ROUND('Table X12 Indices 2012=100'!U115*$K$11,1)","v":95.5},{"$f":"ROUND('Table X12 Indices 2012=100'!V115*$L$11,1)","v":95.5}]
[null,null,{"$f":"ROUND('Table X12 Indices 2012=100'!N116*$C$11,1)","v":95.6},{"$f":"ROUND('Table X12 Indices 2012=100'!O116*$D$11,1)","v":98.8},{"$f":"ROUND('Table X12 Indices 2012=100'!P116*$E$11,1)","v":96.1},{"$f":"ROUND('Table X12 Indices 2012=100'!Q116*$F$11,1)","v":95.4},{"$f":"ROUND('Table X12 Indices 2012=100'!R116*$G$11,1)","v":99.1},null,{"$f":"ROUND('Table X12 Indices 2012=100'!S116*$I$11,1)","v":99.5},{"$f":"ROUND('Table X12 Indices 2012=100'!T116*$J$11,1)","v":99.3},{"$f":"ROUND('Table X12 Indices 2012=100'!U116*$K$11,1)","v":95.4},{"$f":"ROUND('Table X12 Indices 2012=100'!V116*$L$11,1)","v":95.4}]
[null,null,{"$f":"ROUND('Table X12 Indices 2012=100'!N117*$C$11,1)","v":95.8},{"$f":"ROUND('Table X12 Indices 2012=100'!O117*$D$11,1)","v":98.7},{"$f":"ROUND('Table X12 Indices 2012=100'!P117*$E$11,1)","v":99.1},{"$f":"ROUND('Table X12 Indices 2012=100'!Q117*$F$11,1)","v":102.5},{"$f":"ROUND('Table X12 Indices 2012=100'!R117*$G$11,1)","v":99.9},null,{"$f":"ROUND('Table X12 Indices 2012=100'!S117*$I$11,1)","v":100.2},{"$f":"ROUND('Table X12 Indices 2012=100'!T117*$J$11,1)","v":100.6},{"$f":"ROUND('Table X12 Indices 2012=100'!U117*$K$11,1)","v":102.3},{"$f":"ROUND('Table X12 Indices 2012=100'!V117*$L$11,1)","v":102.5}]
[null,null,{"$f":"ROUND('Table X12 Indices 2012=100'!N118*$C$11,1)","v":95.3},{"$f":"ROUND('Table X12 Indices 2012=100'!O118*$D$11,1)","v":97.6},{"$f":"ROUND('Table X12 Indices 2012=100'!P118*$E$11,1)","v":99.6},{"$f":"ROUND('Table X12 Indices 2012=100'!Q118*$F$11,1)","v":106.3},{"$f":"ROUND('Table X12 Indices 2012=100'!R118*$G$11,1)","v":100.4},null,{"$f":"ROUND('Table X12 Indices 2012=100'!S118*$I$11,1)","v":99.8},{"$f":"ROUND('Table X12 Indices 2012=100'!T118*$J$11,1)","v":100.3},{"$f":"ROUND('Table X12 Indices 2012=100'!U118*$K$11,1)","v":106.1},{"$f":"ROUND('Table X12 Indices 2012=100'!V118*$L$11,1)","v":106.4}]
[null,null,{"$f":"ROUND('Table X12 Indices 2012=100'!N119*$C$11,1)","v":96.4},{"$f":"ROUND('Table X12 Indices 2012=100'!O119*$D$11,1)","v":97.9},{"$f":"ROUND('Table X12 Indices 2012=100'!P119*$E$11,1)","v":100.1},{"$f":"ROUND('Table X12 Indices 2012=100'!Q119*$F$11,1)","v":99.5},{"$f":"ROUND('Table X12 Indices 2012=100'!R119*$G$11,1)","v":100.8},null,{"$f":"ROUND('Table X12 Indices 2012=100'!S119*$I$11,1)","v":100.5},{"$f":"ROUND('Table X12 Indices 2012=100'!T119*$J$11,1)","v":101},{"$f":"ROUND('Table X12 Indices 2012=100'!U119*$K$11,1)","v":99.4},{"$f":"ROUND('Table X12 Indices 2012=100'!V119*$L$11,1)","v":99.5}]
[null,null,{"$f":"ROUND('Table X12 Indices 2012=100'!N120*$C$11,1)","v":95.5},{"$f":"ROUND('Table X12 Indices 2012=100'!O120*$D$11,1)","v":97.6},{"$f":"ROUND('Table X12 Indices 2012=100'!P120*$E$11,1)","v":98.2},{"$f":"ROUND('Table X12 Indices 2012=100'!Q120*$F$11,1)","v":95},{"$f":"ROUND('Table X12 Indices 2012=100'!R120*$G$11,1)","v":100.8},null,{"$f":"ROUND('Table X12 Indices 2012=100'!S120*$I$11,1)","v":100.5},{"$f":"ROUND('Table X12 Indices 2012=100'!T120*$J$11,1)","v":101.1},{"$f":"ROUND('Table X12 Indices 2012=100'!U120*$K$11,1)","v":95.1},{"$f":"ROUND('Table X12 Indices 2012=100'!V120*$L$11,1)","v":95}]
[null,null,{"$f":"ROUND('Table X12 Indices 2012=100'!N121*$C$11,1)","v":96},{"$f":"ROUND('Table X12 Indices 2012=100'!O121*$D$11,1)","v":97.6},{"$f":"ROUND('Table X12 Indices 2012=100'!P121*$E$11,1)","v":99},{"$f":"ROUND('Table X12 Indices 2012=100'!Q121*$F$11,1)","v":97.2},{"$f":"ROUND('Table X12 Indices 2012=100'!R121*$G$11,1)","v":100.7},null,{"$f":"ROUND('Table X12 Indices 2012=100'!S121*$I$11,1)","v":100.4},{"$f":"ROUND('Table X12 Indices 2012=100'!T121*$J$11,1)","v":100.9},{"$f":"ROUND('Table X12 Indices 2012=100'!U121*$K$11,1)","v":97.2},{"$f":"ROUND('Table X12 Indices 2012=100'!V121*$L$11,1)","v":97.1}]
[null,null,{"$f":"ROUND('Table X12 Indices 2012=100'!N122*$C$11,1)","v":96.1},{"$f":"ROUND('Table X12 Indices 2012=100'!O122*$D$11,1)","v":97.6},{"$f":"ROUND('Table X12 Indices 2012=100'!P122*$E$11,1)","v":99.5},{"$f":"ROUND('Table X12 Indices 2012=100'!Q122*$F$11,1)","v":102.9},{"$f":"ROUND('Table X12 Indices 2012=100'!R122*$G$11,1)","v":100.5},null,{"$f":"ROUND('Table X12 Indices 2012=100'!S122*$I$11,1)","v":100.2},{"$f":"ROUND('Table X12 Indices 2012=100'!T122*$J$11,1)","v":100.7},{"$f":"ROUND('Table X12 Indices 2012=100'!U122*$K$11,1)","v":102.9},{"$f":"ROUND('Table X12 Indices 2012=100'!V122*$L$11,1)","v":103.1}]
[null,null,{"$f":"ROUND('Table X12 Indices 2012=100'!N123*$C$11,1)","v":100},{"$f":"ROUND('Table X12 Indices 2012=100'!O123*$D$11,1)","v":100},{"$f":"ROUND('Table X12 Indices 2012=100'!P123*$E$11,1)","v":100},{"$f":"ROUND('Table X12 Indices 2012=100'!Q123*$F$11,1)","v":100},{"$f":"ROUND('Table X12 Indices 2012=100'!R123*$G$11,1)","v":100},null,{"$f":"ROUND('Table X12 Indices 2012=100'!S123*$I$11,1)","v":100},{"$f":"ROUND('Table X12 Indices 2012=100'!T123*$J$11,1)","v":100},{"$f":"ROUND('Table X12 Indices 2012=100'!U123*$K$11,1)","v":100},{"$f":"ROUND('Table X12 Indices 2012=100'!V123*$L$11,1)","v":100}]
[null,null,"PLEASE REFER TO THE ADVICE NOTE REGARDING NEW DIESEL INDICES (APPLICABLE FROM MAR '16 ONWARDS)",null,null,null,null,null,null,null,null,null,null,"Taking 2012 = 100 indices and converting it to 2016 = 100 indices"]
[null,null,"All CPA calculations going beyond Feb '16 will be required to be re-calculated based on the new diesel indices available from Jan '08",null,null,null,null,null,null,null,null,null,null,"Conversion   ↑","latest\nbase change"]
[null,null,100.5,101.7,103.8,103.6,99.9,null,100,100,103.5,103.7,null,"New indices ↓"]
[null,null,102.1,102.9,105.6,105.5,100.4,null,100.6,101.1,105.4,105.6]
[null,null,101.6,102.1,104,105.4,100.4,null,100.6,101,105.3,105.4]
[null,null,101.5,102.7,103.5,104.4,101.5,null,102.1,103.1,104.3,104.4]
[null,null,103.3,105,105.9,107.1,101.6,null,102.3,102.7,107,107.3]
[null,null,103.3,105.1,104.3,105,101,null,102.1,102.3,104.9,105.1]
[null,null,103,105.3,103.1,99.5,101.1,null,102.2,102.4,99.5,99.5]
[null,null,104.2,107.3,103.8,102.2,101.2,null,102.3,102.3,102.1,102.2]
[null,null,105.8,110.1,106,106.2,100.8,null,102,102,106.1,106.3]
[null,null,106.8,111.2,106.7,110.1,101.4,null,102.5,102.6,109.9,110.3]
[null,null,107,111.2,108.5,112.2,102.1,null,102.6,103.5,112,112.4]
[null,null,107.3,112.6,113.3,117.8,101.9,null,102.6,103.4,117.5,118.1]
[null,null,"PLEASE REFER TO THE ADVICE NOTE REGARDING NEW DIESEL INDICES (APPLICABLE FROM MAR '16 ONWARDS)"]
[null,null,"All CPA calculations going beyond Feb '16 will be required to be re-calculated based on the new diesel indices available from Jan '08"]
[]
[]
[null,null,2.2719999999999998,2.89,3.22,4.149,1.909,null,2.1960000000000002,1.992,4.24,4.2050000000000001]

{"sheet":"Table X12 Indices 2012=100","index":3,"n_rows":151,"n_cols":25,"rows_kept":151,"cut":false,"hidden":false,"merged":[[74,23,75,23],[124,24,125,25],[13,20,13,21],[13,13,14,13],[13,14,14,14],[13,18,14,18],[13,19,14,19],[13,15,14,15],[13,16,14,16],[13,17,14,17],[3,18,4,21],[6,1,6,2],[12,1,12,2],[12,14,12,21],[3,7,4,11],[8,1,10,1],[123,1,124,2],[137,3,137,11],[13,1,14,1],[13,2,14,2],[13,3,14,3],[13,4,14,4],[13,6,14,6],[13,7,14,7],[13,9,14,9],[13,8,14,8],[13,11,14,11],[13,10,14,10],[13,5,14,5],[137,13,137,21],[138,3,138,11],[138,13,138,21],[123,3,123,11],[123,13,123,21],[124,3,124,11],[124,13,124,21]]}
[]
[null,null,null,"Table X12 (Indice base 100 as at Dec 2012)",null,null,null,null,null,null,null,"2012 / 100",null,"Table X12 (Indice base 100 as at Dec 2012)",null,null,null,null,null,null,null,"2012 / 100"]
[]
[null,null,null,"Refer to CPI Index P0141 / Additional Tables",null,null,null,"* The alternative / replacement indices are those published per province found in P0141 Table A / Tables 3 to 11 in the Additional Tables.",null,null,null,null,null,"Refer to P0151 - Contract Price Adjustment Provisions (CPAP):",null,null,null,null,"* NEW DIESEL INDICES APPLICABLE FROM MAR '16 PROVIDED FROM JAN '08 BY STATS-SA"]
[null,null,null,"Table A or Tables 3 to 11 - CPI for each province",null,null,null,null,null,null,null,null,null,"Work Groups and Selected Materials Indices: Table 3 and Table 4"]
[]
[null,"Conversion Factors: ",null,0.79176563740000006,0.78616352199999995,0.77519379840000002,0.77579519009999998,0.8006405124,0.77279752700000004,0.78864353310000002,0.78740157479999995,0.79744816590000001,null,2.2719999999999998,2.89,3.22,4.149,1.909,2.1960000000000002,1.992,4.24,4.2050000000000001]
[]
[null,"Conversion factor",null,"DEC 2012 = 100",null,null,null,null,null,null,null,null,null,"DEC 2012 = 100"]
[]
[null,null,"2016-->2012",{"$f":"'Consumer Price Index'!D11","v":0.79617834389999997},{"$f":"'Consumer Price Index'!E11","v":0.7955449483},{"$f":"'Consumer Price Index'!F11","v":0.81967213110000003},{"$f":"'Consumer Price Index'!G11","v":0.79681274899999999},{"$f":"'Consumer Price Index'!H11","v":0.8},{"$f":"'Consumer Price Index'!I11","v":0.80906148870000005},{"$f":"'Consumer Price Index'!J11","v":0.80192461910000001},{"$f":"'Consumer Price Index'!K11","v":0.81103000810000003},{"$f":"'Consumer Price Index'!L11","v":0.79051383399999997},null,0.87565674255691806,0.84317032040472195,0.97276264591439698,0.98135426889107003,0.76923076923076905,0.79302141157811301,0.85251491901108301,0.974658869395712,0.98814229249011898]
[]
[null,"Table A / Tables *",null,3,4,5,6,7,8,9,10,11,null,3,4]
[null,"Month","Year","Western Cape","Eastern Cape","Northern Cape","Free State","KwaZulu Natal","North West","Gauteng","Mpumalanga","Limpopo",null,"Materials for\nCivil Engineering","Materials for\nConcrete Works","Materials for\nRoads & E/Works","* Diesel Fuel Wholesale Total","Civil Engineering Plant","Plant for\nConcrete Works","Plant for\nRoads & E/Works","* Diesel Fuel Wholesale"]
[null,null,null,null,null,null,null,null,null,null,null,null,null,null,null,null,null,null,null,null,"* Inland","* Coastal"]
[null,1,2008,75.5,74,74.5,74.5,75.5,74.599999999999994,75.599999999999994,74.7,75.400000000000006,null,81,null,null,73.900000000000006,80.5,null,null,68.599999999999994,67.7]
[null,2,2008,75.8,74.3,74.7,74.8,75.900000000000006,75.099999999999994,76.2,75,75.8,null,82.2,null,null,78.099999999999994,84.5,null,null,69.3,68.400000000000006]
[null,3,2008,77,75.3,75.599999999999994,75.900000000000006,76.5,76.2,77.5,75.5,76.599999999999994,null,82.7,null,null,89.3,84.5,null,null,76.599999999999994,75.8]
[null,4,2008,77.5,75.900000000000006,76.2,76.400000000000006,77.2,76.8,77.900000000000006,75.900000000000006,77.3,null,84.1,null,null,103.2,84.5,null,null,88.9,88]
[null,5,2008,78,76.599999999999994,76.8,76.900000000000006,77.7,77.400000000000006,78.5,76.599999999999994,77.599999999999994,null,87.6,null,null,114.4,88.2,null,null,95.4,94.7]
[null,6,2008,78.8,77.7,77.8,77.8,79.2,78.5,79.7,77.599999999999994,78.900000000000006,null,88.8,null,null,126.3,88.2,null,null,102.2,101.5]
[null,7,2008,79.900000000000006,78.7,78.599999999999994,78.7,80.599999999999994,79.400000000000006,80.599999999999994,78.7,79.900000000000006,null,89.7,null,null,124.4,88.2,null,null,108.2,107.5]
[null,8,2008,80.3,79.400000000000006,79.5,79.3,81.099999999999994,80.099999999999994,81,79.2,80.599999999999994,null,95.6,null,null,102,91.9,null,null,106.6,105.9]
[null,9,2008,80.900000000000006,80.2,80,79.900000000000006,81.5,80.8,81.3,79.599999999999994,81,null,96.3,null,null,95.8,91.9,null,null,93,92.2]
[null,10,2008,81.2,80.5,80.5,80.099999999999994,81.900000000000006,81,81.400000000000006,80.099999999999994,81.400000000000006,null,96.7,null,null,91.8,91.9,null,null,87.7,86.8]
[null,11,2008,81.3,80.5,80.5,80.2,81.900000000000006,81.099999999999994,81.5,80.2,81.7,null,96.5,null,null,81.900000000000006,96.8,null,null,85.4,84.5]
[null,12,2008,81.2,80.2,80.099999999999994,80.099999999999994,82,81,81.3,80.2,81.599999999999994,null,95.3,null,null,66.599999999999994,96.8,null,null,77.7,76.8]
[null,1,2009,81.3,80.900000000000006,80.2,80.5,82.8,81.099999999999994,81.5,81,82.1,null,96.7,null,null,69.7,96.8,null,null,61.9,60.8]
[null,2,2009,82.1,81.7,81.2,81.400000000000006,83.4,82.1,82.5,82.2,82.7,null,94.9,null,null,65.900000000000006,101.1,null,null,61.4,60.4]
[null,3,2009,83.3,82.7,82.1,82.4,84.4,83.6,83.7,83.1,83.8,null,94.5,null,null,61.6,101.1,null,null,57.8,56.7]
[null,4,2009,83.7,83.2,82.8,82.9,84.9,83.7,84.1,83.6,84.1,null,93.9,null,null,60.8,101.1,null,null,61.6,60.5]
[null,5,2009,84,83.4,82.9,83.1,85,84,84.4,83.9,84.4,null,92,null,null,61,99.1,null,null,62.4,61.2]
[null,6,2009,84.3,83.7,83.3,83.4,85.3,84.1,84.8,83.9,84.4,null,91.9,null,null,62.4,99.1,null,null,61.1,60.2]
[null,7,2009,85.3,84.4,84.2,84.3,85.9,85,85.8,84.8,84.8,null,93,null,null,64.7,99.1,null,null,64.900000000000006,64]
[null,8,2009,85.6,84.6,84.4,84.5,86,85.3,86.1,85.1,85.2,null,92.5,null,null,63.7,100,null,null,63,62.1]
[null,9,2009,86,84.9,84.7,84.7,86.2,85.4,86.3,85.4,85.2,null,92.3,null,null,66.2,100,null,null,66.2,65.3]
[null,10,2009,86.1,85,84.7,84.6,86.3,85.3,86.3,85.5,85.2,null,92.2,null,null,62.6,100,null,null,63.2,62.3]
[null,11,2009,86.1,84.9,84.7,84.7,86.2,85.2,86.3,85.5,85.5,null,92.3,null,null,63.7,98.5,null,null,64.099999999999994,63.2]
[null,12,2009,86.6,85.1,84.8,84.9,86.5,85.4,86.4,85.5,85.5,null,92.3,null,null,66.900000000000006,98.5,null,null,66.5,65.599999999999994]
[null,1,2010,86.8,85.2,84.7,85.1,86.8,85.6,86.7,85.8,85.7,null,93.5,null,null,65.400000000000006,98.5,null,null,65.2,64.3]
[null,2,2010,87.1,85.6,85.1,85.7,87.1,86.3,87.3,86.3,86.2,null,93.8,null,null,67.099999999999994,98.5,null,null,66.099999999999994,65.2]
[null,3,2010,88.1,86.3,85.7,86.3,87.7,86.9,88.1,86.9,87.1,null,93.8,null,null,68.2,99,null,null,66.5,65.599999999999994]
[null,4,2010,88.3,86.5,85.9,86.6,87.8,87,88.2,87,87,null,93.7,null,null,72.099999999999994,99,null,null,71.2,70.400000000000006]
[null,5,2010,88.4,86.7,86.2,86.7,88,87.3,88.3,87.2,87,null,94.8,null,null,74,98.3,null,null,73.900000000000006,73]
[null,6,2010,88.3,86.8,86.2,86.7,88,87.2,88.3,87.1,87,null,95.4,null,null,73,98.2,null,null,72.5,71.7]
[null,7,2010,88.7,87.2,86.8,87.2,88.4,87.6,89,87.6,87.7,null,94.2,null,null,71.900000000000006,98.1,null,null,71.099999999999994,70.3]
[null,8,2010,88.8,87.7,86.8,87.5,88.4,87.7,89,87.8,87.8,null,93.6,null,null,71.2,97.8,null,null,69.8,69]
[null,9,2010,88.9,88,87.1,87.9,88.4,87.8,89,88,87.7,null,93.6,null,null,70.599999999999994,97.8,null,null,69.8,69]
[null,10,2010,89.1,88.1,87.2,88.2,88.5,87.8,89.2,88.3,88.2,null,94.1,86.1,82.2,70.8,97.9,93.4,95.1,69.599999999999994,68.8]
[null,11,2010,89.2,88.1,87.2,88.2,88.7,88.1,89.4,88.2,88,null,93.7,86.1,82.2,72.7,98.2,93.5,95.4,71.900000000000006,71.099999999999994]
[null,12,2010,89.4,88.2,87.1,88.3,88.8,88.1,89.6,88.3,88.5,null,93.8,86,82.7,75.2,97.3,91.8,95,71.900000000000006,71.099999999999994]
[null,1,2011,89.8,88.9,87.9,89,89.3,88.7,89.9,88.8,88.8,null,94.8,86.6,82.8,78,96.5,91.9,94.9,74.099999999999994,73.3]
[null,2,2011,90.4,89.4,88.3,89.5,89.9,89.4,90.5,89.5,88.7,null,95,89.2,84.5,85.3,97.7,92.3,95.6,77,76.2]
[null,3,2011,91.6,90.4,89.5,90.6,90.7,90.4,91.6,90.6,90.4,null,95.7,90.5,87.9,90.9,98.1,92.9,96,83,82.3]
[null,4,2011,91.9,90.7,90,91.1,91,90.7,91.7,90.9,90.8,null,95.1,90.5,90.9,96.4,98.2,92.9,96.3,89.7,88.4]
[null,5,2011,92.3,91.2,90.3,91.5,91.4,91.1,92.3,91.4,91.4,null,94.9,90.4,91.3,95.4,98.2,93.6,97,91.2,89.9]
[null,6,2011,92.7,92.1,90.6,91.7,91.9,91.8,92.7,91.6,92,null,95.1,91.8,91.4,92.6,98.9,93.6,97.4,87.6,86.3]
[null,7,2011,93.3,92.9,91.8,92.8,92.6,92.5,93.5,92.5,92.2,null,96.4,92.6,92,92,99.1,95.7,97.3,86.5,85.2]
[null,8,2011,93.5,93.1,92.5,92.9,92.9,92.8,93.7,92.5,92.3,null,96.7,93,92.2,91.8,99.2,97.5,97.5,88,86.6]
[null,9,2011,94,93.7,93.1,93.4,93.1,92.9,93.9,92.8,92.8,null,96.9,94.3,91.6,91.8,99.1,97.4,97.5,88,86.6]
[null,10,2011,94.4,94.3,93.8,94,93.8,93.6,94.4,93.6,93.5,null,97.5,95.8,92,95.4,98.3,97.1,97.3,91.3,90]
[null,11,2011,94.6,94.6,94.2,94.3,94.1,93.7,94.6,93.8,93.8,null,98.2,99,94.3,100.4,98.3,97.2,97.5,94.7,93.4]
[null,12,2011,94.7,94.9,93.9,94.6,94.7,94,94.8,94.2,94.2,null,98.4,99.1,96.6,102,98.7,97.3,97.9,97.7,97.9]
[null,1,2012,95.1,95.4,94.9,95.2,95,94.6,95.3,94.8,94.9,null,98.8,99.6,96.9,99.5,98.8,97.3,97.8,97.2,95.9]
[null,2,2012,95.7,95.7,95.2,95.6,95.5,95.1,95.9,95.5,95.3,null,99.7,100.5,98.8,99.4,99.2,97.8,98,97.2,95.8]
[null,3,2012,96.7,96.6,96.3,96.3,96.7,96.3,96.9,96.6,96.2,null,100.4,100.5,98.5,100.6,98.6,97.6,97.8,98.1,96.8]
[null,4,2012,97.1,97.1,96.8,96.8,97,96.6,97.3,96.8,96.2,null,100.3,100.5,98.5,102.6,98.8,99.3,99.7,102.9,101.3]
[null,5,2012,97.2,97.4,96.9,96.9,97.1,96.5,97.4,96.9,96.6,null,99.9,100,100.3,103.6,99.7,99.6,100.1,103.8,102.2]
[null,6,2012,97.6,97.5,96.9,97,97.2,97.2,97.7,97.3,97.1,null,99.8,100,100.6,99.7,99.9,99.8,100.4,101.5,100.2]
[null,7,2012,97.8,97.6,97.4,97.3,97.5,97.3,97.9,97.5,97.5,null,100,100.3,101,92.1,100.1,100.3,100.4,95.6,93.9]
[null,8,2012,98,97.8,97.4,97.5,97.7,97.7,98.2,97.8,97.6,null,100.3,100.3,100.7,94.3,100.3,99.8,100.7,97,95.2]
[null,9,2012,98.8,98.7,98.6,98.4,98.7,99.1,99,98.7,98.5,null,100.1,100.3,100.5,100.3,100.8,101.6,100.7,103.5,101.8]
[null,10,2012,99.4,99.4,99.2,99.1,99.4,99.8,99.7,99.5,99.3,null,99.8,98.9,100.6,105.3,100.8,102,101.1,104,105.6]
[null,11,2012,99.7,99.9,99.8,99.5,99.7,99.9,99.8,99.6,99.5,null,100.1,98.9,101.4,106.8,101.2,102.5,101.5,106.5,106.5]
[null,12,2012,100,100,100,100,100,100,100,100,100,null,100.4,100,102.3,106,101.5,102.6,101.7,106,106,null,"previous\n base change"]
[null,1,2013,100.2,100.2,100.4,100.2,100.1,100.4,100.4,100.4,100.5,null,101.8,103.2,104.4,103.4,102.3,103.1,102.4,103.4,103.4]
[null,2,2013,100.9,100.9,100.8,100.9,101.1,101.2,101.6,101.3,100.8,null,102.2,104.8,105.1,105,102.5,103.1,102.4,105,105]
[null,3,2013,102.1,101.9,101.8,102,102.3,101.9,102.9,102.1,101.9,null,103.1,104.5,104.9,110.5,103.6,103.5,103.6,110.5,110.6]
[null,4,2013,102.5,102.3,102.3,102.2,102.6,102.4,103.2,102.4,102.4,null,103.9,106.3,105.6,111.3,103.7,103.6,103.6,111.3,111.3]
[null,5,2013,102.2,102,102.1,102.2,102.3,102.1,102.9,102.3,102.2,null,104.2,107.2,107.1,106.1,104.5,104.2,103.9,106.2,106]
[null,6,2013,102.5,102.3,102.4,102.7,102.5,102.3,103.3,102.4,102.2,null,104.9,107.3,108.3,105.7,105.4,104.6,104.7,105.8,105.6]
[null,7,2013,103.5,103.2,103.5,103.6,103.7,103.1,104.3,103.2,103.5,null,105.4,107.3,109.4,113.1,107.1,106.9,106.1,113.1,113.1]
[null,8,2013,103.9,103.5,104,104,104,103.5,104.6,103.6,104.4,null,105.6,107.1,109.1,116.2,108.1,107.4,106.6,116.1,116.2]
[null,9,2013,104.7,104.2,104.4,104.5,104.4,104,105,104.3,104.7,null,105.1,107.1,108.4,117.5,108.6,107.6,107,117.4,117.5]
[null,10,2013,104.9,104.6,104.5,104.9,104.5,104.3,105.3,104.6,105,null,105.2,107.2,108.5,117.3,109.5,108.2,107.6,117.2,117.3]
[null,11,2013,105,104.7,104.8,105.1,104.6,104.5,105.2,104.7,105.2,null,105.1,107.1,107.8,115.8,109.9,108.6,108.1,115.8,115.9]
[null,12,2013,105,105,104.9,105.3,105.2,104.7,105.6,104.9,105.3,null,105.1,107,108,116.8,110.1,108.7,108.4,116.7,116.8]
[null,1,2014,105.9,105.7,105.7,105.9,106,105.5,106.3,105.6,106.9,null,105.9,108.1,109.1,119.8,110.7,108.8,108.4,119.7,119.9]
[null,2,2014,106.7,107,106.6,106.9,107,106.6,107.7,106.7,107.6,null,106,111.3,112.8,122.1,112.3,115.8,109,122,122.2]
[null,3,2014,108.2,108.5,107.8,108.1,108.7,107.7,109.1,107.9,109.2,null,107.1,112.1,114.3,124.7,112.1,116.2,109.5,124.5,124.8]
[null,4,2014,108.5,109,108.3,108.7,109.5,108.2,109.6,108.4,109.4,null,107.5,112.6,114.2,123.6,112.9,117.5,111.4,123.7,123.6]
[null,5,2014,108.9,109.1,108.6,108.9,109.6,108.6,109.7,108.9,110.2,null,107.7,112.4,113.6,120.8,113.4,117.7,111.8,120.9,120.7]
[null,6,2014,109.2,109.3,109,109.4,109.9,109.6,110.1,109.1,110.7,null,108,112.4,114.1,118.6,113.6,116.7,110.9,118.7,118.5]
[null,7,2014,110.2,110.2,110.4,110.1,110.7,110.5,110.9,109.6,111.3,null,108,112,115.1,119.9,113.7,116.3,110.6,120,119.8]
[null,8,2014,110.5,110.4,110.5,110.5,111,110.6,111.3,110.3,111.6,null,108,112,114,119.4,113.9,117.2,110.7,119.5,119.3]
[null,9,2014,110.9,110.7,110.7,110.5,110.9,110.6,111.2,110.3,111.6,null,108.7,113.2,114.1,117,113.9,117.2,110.6,117.2,116.9]
[null,10,2014,111.2,110.6,110.6,110.7,111,110.7,111.4,110.5,111.6,null,108.8,113.2,114.4,115.8,113.3,117.1,109.4,116,115.6]
[null,11,2014,111.4,110.7,110.8,110.9,110.9,110.5,111.4,110.5,111.8,null,108.5,114,113.7,110.1,113.6,117.1,109.4,110.3,109.8]
[null,12,2014,111.2,110.7,110.4,110.7,110.8,110.2,111.1,110.3,111.5,null,108.1,114,110.5,105,113.6,117.1,109.4,105.3,104.8]
[null,1,2015,111.1,110.8,110.2,110.8,110.5,110.2,110.9,110.3,111.2,null,106.1,111.3,107.2,95.3,114.8,118,110.1,95.6,94.9]
[null,2,2015,111.5,111.3,110.8,111.4,111,111,111.8,111,111.7,null,105.5,111.9,102.4,85.7,115.4,118.2,110.5,86.2,85.2]
[null,3,2015,113.1,112.4,112.5,113,112.5,112.3,113.4,112.1,113,null,105.2,111.3,104.3,92.6,115.5,118.2,110.5,93,92.2]
[null,4,2015,114.1,113.7,113.6,114.1,113.4,113.4,114.4,113.1,114.1,null,102.2,107.4,102.6,104.1,115.7,116.3,108.8,104.5,103.7]
[null,5,2015,114.4,113.9,113.8,114.4,113.7,113.5,114.8,113.5,114,null,100.7,105.6,101.8,103.6,115.9,116.3,108.7,104,103.2]
[null,6,2015,114.8,114.3,114,114.8,114.2,114,115.2,114,115.1,null,100.9,105.3,103,108.2,115.9,116.6,108.4,108.5,107.9]
[null,7,2015,115.9,115.3,115.5,116,115.5,115,116.3,114.8,115.5,null,100.7,105.4,101.3,108.6,116.1,117.2,107.8,108.9,108.2]
[null,8,2015,115.9,115.7,115.5,116.2,115.5,115.2,116.4,115,115.6,null,101.1,106,101.2,101.4,116.3,117.8,108.1,101.9,101]
[null,9,2015,116.3,115.5,115,116,115.8,115,116.3,114.7,115.5,null,100.6,105.7,98.1,96.4,117.4,118.3,108.9,96.8,95.9]
[null,10,2015,116.7,115.9,115,116.1,116,115.2,116.6,114.8,116.1,null,100.9,105.7,95.6,101.4,119.3,119.5,109.7,101.8,100.9]
[null,11,2015,116.9,116.3,115.4,116.3,116,115.3,116.7,115,116.9,null,100.9,105.6,95.9,100.5,119.4,120.2,110.1,100.9,100.1]
[null,12,2015,117.2,116.6,115.5,117,116.2,115.7,117.1,115.3,116.7,null,100.6,106,97.6,100.2,119.4,120.3,110.2,100.6,99.7]
[null,1,2016,118,117.7,116.2,118.3,117.3,116.8,118,116.5,117.8,null,103.4,108.3,96.8,93,125.4,124.3,113.5,93.5,92.5]
[null,2,2016,119.3,119.7,117.7,119.7,118.8,118.2,119.7,118.6,120.2,null,105.6,111.4,97.2,87.2,125.9,123.9,114.1,87.7,86.6]
[null,3,2016,120.3,120.4,118.2,120.8,120,119,120.5,119.3,121.6,null,105.8,109.9,95.6,88.6,127.2,125.2,115.3,89.1,88]
[null,4,2016,121.1,121.7,119.1,121.7,121.2,120.3,121.5,120.4,123.5,null,106.6,113.1,97.3,97.3,127.8,125.2,115.4,98,96.6]
[null,5,2016,121.1,122.1,119.3,122.1,121.4,120.4,121.8,120.7,123.4,null,109.2,117.2,98.8,97.2,128.80000000000001,125.5,116.5,97.9,96.5]
[null,6,2016,122,123,120.2,122.7,122.3,120.9,122.4,121,123.6,null,109.4,117,101.9,104.4,129.9,126.3,118,105,103.7]
[null,7,2016,122.9,123.7,121.1,123.6,123.6,122.1,123.4,121.8,124.6,null,108.8,115.8,102.4,108.3,130.5,125.8,117.6,108.9,107.7]
[null,8,2016,122.7,124.1,121,123.8,123.4,122.2,123.2,121.9,124.6,null,110.1,116.1,102.9,101.4,131.1,126.7,118.5,102,100.7]
[null,9,2016,123.2,124.2,120.9,124.3,123.7,122.1,123.4,122.1,125.1,null,109.1,115.7,101,96.8,131.1,126.7,118.6,97.6,96.1]
[null,10,2016,123.9,124.6,121.6,124.8,124.3,122.9,124,122.7,125.6,null,109.6,115.7,101.8,99,130.9,126.6,118.4,99.7,98.3]
[null,11,2016,124.4,125.1,122,125,124.7,123.2,124.4,123,126.3,null,109.7,115.7,102.3,104.9,130.6,126.4,118.1,105.6,104.3]
[null,12,2016,125.6,125.7,122,125.5,125,123.6,124.7,123.3,126.5,null,114.2,118.6,102.8,101.9,130,126.1,117.3,102.6,101.2]
[null,"2017\n↓",null,"The regional indices found in Table 14 of P0141 are discontinued from January 2017.\nPlease refer to and use the indices per province given in P0141 Table A / Tables 3 to 11 in the Additional Tables. *",null,null,null,null,null,null,null,null,null,"PLEASE REFER TO THE ADVICE NOTE REGARDING NEW DIESEL INDICES (APPLICABLE FROM MAR '16 ONWARDS)"]
[null,null,null,"The listed Indices above and below are applicable from January 2017 onwards; be reminded to also update the base month indice\nfor calculations taken from January 2017 (without affecting calculations prior to January 2017). ",null,null,null,null,null,null,null,null,null,"All CPA calculations going beyond Feb '16 will be required to be re-calculated based on the new diesel indices available from Jan '08",null,null,null,null,null,null,null,null,null,"Old Indices   ↑","latest\nbase change"]
[null,1,2017,{"$f":"ROUND('Consumer Price Index'!D126/$D$11,1)","v":126.2},{"$f":"ROUND('Consumer Price Index'!E126/$E$11,1)","v":126.6},{"$f":"ROUND('Consumer Price Index'!F126/$F$11,1)","v":122.7},{"$f":"ROUND('Consumer Price Index'!G126/$G$11,1)","v":126.4},{"$f":"ROUND('Consumer Price Index'!H126/$H$11,1)","v":125.8},{"$f":"ROUND('Consumer Price Index'!I126/$I$11,1)","v":124.6},{"$f":"ROUND('Consumer Price Index'!J126/$J$11,1)","v":125.6},{"$f":"ROUND('Consumer Price Index'!K126/$K$11,1)","v":124},{"$f":"ROUND('Consumer Price Index'!L126/$L$11,1)","v":127.3},null,114.8,120.6,106.7,105.6,129.9,126.1,117.3,106.2,104.9,null,"Conversion  ↓"]
[null,2,2017,{"$f":"ROUND('Consumer Price Index'!D127/$D$11,1)","v":128},{"$f":"ROUND('Consumer Price Index'!E127/$E$11,1)","v":127.6},{"$f":"ROUND('Consumer Price Index'!F127/$F$11,1)","v":123.7},{"$f":"ROUND('Consumer Price Index'!G127/$G$11,1)","v":127.4},{"$f":"ROUND('Consumer Price Index'!H127/$H$11,1)","v":127},{"$f":"ROUND('Consumer Price Index'!I127/$I$11,1)","v":125.7},{"$f":"ROUND('Consumer Price Index'!J127/$J$11,1)","v":126.9},{"$f":"ROUND('Consumer Price Index'!K127/$K$11,1)","v":125},{"$f":"ROUND('Consumer Price Index'!L127/$L$11,1)","v":128.1},null,116.6,122,108.6,107.5,130.5,126.9,118.6,108.1,106.9,null,"Taking 2016 = 100 indices and converting it to 2012 = 100 indices"]
[null,3,2017,{"$f":"ROUND('Consumer Price Index'!D128/$D$11,1)","v":128.69999999999999},{"$f":"ROUND('Consumer Price Index'!E128/$E$11,1)","v":128.30000000000001},{"$f":"ROUND('Consumer Price Index'!F128/$F$11,1)","v":124},{"$f":"ROUND('Consumer Price Index'!G128/$G$11,1)","v":128},{"$f":"ROUND('Consumer Price Index'!H128/$H$11,1)","v":127.5},{"$f":"ROUND('Consumer Price Index'!I128/$I$11,1)","v":126.1},{"$f":"ROUND('Consumer Price Index'!J128/$J$11,1)","v":127.7},{"$f":"ROUND('Consumer Price Index'!K128/$K$11,1)","v":125.4},{"$f":"ROUND('Consumer Price Index'!L128/$L$11,1)","v":129},null,116,121.1,106.9,107.4,130.5,126.9,118.5,108,106.7]
[null,4,2017,{"$f":"ROUND('Consumer Price Index'!D129/$D$11,1)","v":128.69999999999999},{"$f":"ROUND('Consumer Price Index'!E129/$E$11,1)","v":128.5},{"$f":"ROUND('Consumer Price Index'!F129/$F$11,1)","v":124.2},{"$f":"ROUND('Consumer Price Index'!G129/$G$11,1)","v":128.4},{"$f":"ROUND('Consumer Price Index'!H129/$H$11,1)","v":127.6},{"$f":"ROUND('Consumer Price Index'!I129/$I$11,1)","v":125.9},{"$f":"ROUND('Consumer Price Index'!J129/$J$11,1)","v":127.8},{"$f":"ROUND('Consumer Price Index'!K129/$K$11,1)","v":125.5},{"$f":"ROUND('Consumer Price Index'!L129/$L$11,1)","v":129.19999999999999},null,115.9,121.8,106.4,106.4,132,128.69999999999999,120.9,107,105.7]
[null,5,2017,{"$f":"ROUND('Consumer Price Index'!D130/$D$11,1)","v":129},{"$f":"ROUND('Consumer Price Index'!E130/$E$11,1)","v":129.1},{"$f":"ROUND('Consumer Price Index'!F130/$F$11,1)","v":124.4},{"$f":"ROUND('Consumer Price Index'!G130/$G$11,1)","v":128.5},{"$f":"ROUND('Consumer Price Index'!H130/$H$11,1)","v":127.9},{"$f":"ROUND('Consumer Price Index'!I130/$I$11,1)","v":126.4},{"$f":"ROUND('Consumer Price Index'!J130/$J$11,1)","v":128.19999999999999},{"$f":"ROUND('Consumer Price Index'!K130/$K$11,1)","v":126},{"$f":"ROUND('Consumer Price Index'!L130/$L$11,1)","v":129.19999999999999},null,118,124.5,108.9,109.1,132.1,129,120.5,109.8,108.6]
[null,6,2017,{"$f":"ROUND('Consumer Price Index'!D131/$D$11,1)","v":129.19999999999999},{"$f":"ROUND('Consumer Price Index'!E131/$E$11,1)","v":129.1},{"$f":"ROUND('Consumer Price Index'!F131/$F$11,1)","v":124.6},{"$f":"ROUND('Consumer Price Index'!G131/$G$11,1)","v":128.9},{"$f":"ROUND('Consumer Price Index'!H131/$H$11,1)","v":128.30000000000001},{"$f":"ROUND('Consumer Price Index'!I131/$I$11,1)","v":126.3},{"$f":"ROUND('Consumer Price Index'!J131/$J$11,1)","v":128.69999999999999},{"$f":"ROUND('Consumer Price Index'!K131/$K$11,1)","v":126.3},{"$f":"ROUND('Consumer Price Index'!L131/$L$11,1)","v":129.5},null,118,124.6,107.2,107,131.30000000000001,128.69999999999999,120,107.6,106.4]
[null,7,2017,{"$f":"ROUND('Consumer Price Index'!D132/$D$11,1)","v":129.6},{"$f":"ROUND('Consumer Price Index'!E132/$E$11,1)","v":129.5},{"$f":"ROUND('Consumer Price Index'!F132/$F$11,1)","v":125.1},{"$f":"ROUND('Consumer Price Index'!G132/$G$11,1)","v":129},{"$f":"ROUND('Consumer Price Index'!H132/$H$11,1)","v":128.4},{"$f":"ROUND('Consumer Price Index'!I132/$I$11,1)","v":126.3},{"$f":"ROUND('Consumer Price Index'!J132/$J$11,1)","v":129.1},{"$f":"ROUND('Consumer Price Index'!K132/$K$11,1)","v":126.4},{"$f":"ROUND('Consumer Price Index'!L132/$L$11,1)","v":129.80000000000001},null,117.6,124.9,106,101.4,131.4,128.9,120.1,102.1,100.7]
[null,8,2017,{"$f":"ROUND('Consumer Price Index'!D133/$D$11,1)","v":129.69999999999999},{"$f":"ROUND('Consumer Price Index'!E133/$E$11,1)","v":129.19999999999999},{"$f":"ROUND('Consumer Price Index'!F133/$F$11,1)","v":125.3},{"$f":"ROUND('Consumer Price Index'!G133/$G$11,1)","v":129.4},{"$f":"ROUND('Consumer Price Index'!H133/$H$11,1)","v":128.6},{"$f":"ROUND('Consumer Price Index'!I133/$I$11,1)","v":126.6},{"$f":"ROUND('Consumer Price Index'!J133/$J$11,1)","v":129.1},{"$f":"ROUND('Consumer Price Index'!K133/$K$11,1)","v":126.4},{"$f":"ROUND('Consumer Price Index'!L133/$L$11,1)","v":129.5},null,119,127.3,106.7,104.1,131.6,129,120,104.8,103.4]
[null,9,2017,{"$f":"ROUND('Consumer Price Index'!D134/$D$11,1)","v":131},{"$f":"ROUND('Consumer Price Index'!E134/$E$11,1)","v":130.1},{"$f":"ROUND('Consumer Price Index'!F134/$F$11,1)","v":125.8},{"$f":"ROUND('Consumer Price Index'!G134/$G$11,1)","v":129.80000000000001},{"$f":"ROUND('Consumer Price Index'!H134/$H$11,1)","v":129},{"$f":"ROUND('Consumer Price Index'!I134/$I$11,1)","v":126.9},{"$f":"ROUND('Consumer Price Index'!J134/$J$11,1)","v":129.6},{"$f":"ROUND('Consumer Price Index'!K134/$K$11,1)","v":126.8},{"$f":"ROUND('Consumer Price Index'!L134/$L$11,1)","v":130.4},null,120.8,130.6,109,108.2,131,128.6,119.6,108.9,107.6]
[null,10,2017,{"$f":"ROUND('Consumer Price Index'!D135/$D$11,1)","v":131.6},{"$f":"ROUND('Consumer Price Index'!E135/$E$11,1)","v":130.4},{"$f":"ROUND('Consumer Price Index'!F135/$F$11,1)","v":125.9},{"$f":"ROUND('Consumer Price Index'!G135/$G$11,1)","v":130},{"$f":"ROUND('Consumer Price Index'!H135/$H$11,1)","v":129.4},{"$f":"ROUND('Consumer Price Index'!I135/$I$11,1)","v":127.2},{"$f":"ROUND('Consumer Price Index'!J135/$J$11,1)","v":129.9},{"$f":"ROUND('Consumer Price Index'!K135/$K$11,1)","v":127},{"$f":"ROUND('Consumer Price Index'!L135/$L$11,1)","v":130.80000000000001},null,122,131.9,109.7,112.2,131.80000000000001,129.30000000000001,120.3,112.8,111.6]
[null,11,2017,{"$f":"ROUND('Consumer Price Index'!D136/$D$11,1)","v":131.80000000000001},{"$f":"ROUND('Consumer Price Index'!E136/$E$11,1)","v":130.5},{"$f":"ROUND('Consumer Price Index'!F136/$F$11,1)","v":126.3},{"$f":"ROUND('Consumer Price Index'!G136/$G$11,1)","v":130.30000000000001},{"$f":"ROUND('Consumer Price Index'!H136/$H$11,1)","v":129.6},{"$f":"ROUND('Consumer Price Index'!I136/$I$11,1)","v":127.3},{"$f":"ROUND('Consumer Price Index'!J136/$J$11,1)","v":130.1},{"$f":"ROUND('Consumer Price Index'!K136/$K$11,1)","v":127.4},{"$f":"ROUND('Consumer Price Index'!L136/$L$11,1)","v":130.80000000000001},null,122.2,131.9,111.5,114.3,132.69999999999999,129.4,121.4,114.9,113.7]
[null,12,2017,{"$f":"ROUND('Consumer Price Index'!D137/$D$11,1)","v":132.30000000000001},{"$f":"ROUND('Consumer Price Index'!E137/$E$11,1)","v":131.5},{"$f":"ROUND('Consumer Price Index'!F137/$F$11,1)","v":126.6},{"$f":"ROUND('Consumer Price Index'!G137/$G$11,1)","v":130.6},{"$f":"ROUND('Consumer Price Index'!H137/$H$11,1)","v":130.1},{"$f":"ROUND('Consumer Price Index'!I137/$I$11,1)","v":127.7},{"$f":"ROUND('Consumer Price Index'!J137/$J$11,1)","v":130.69999999999999},{"$f":"ROUND('Consumer Price Index'!K137/$K$11,1)","v":128},{"$f":"ROUND('Consumer Price Index'!L137/$L$11,1)","v":131.69999999999999},null,122.5,133.5,116.5,120,132.5,129.4,121.3,120.6,119.5]
[null,null,null,"The regional indices found in Table 14 of P0141 are discontinued from January 2017.\nPlease refer to and use the indices per province given in P0141 Table A / Tables 3 to 11 in the Additional Tables. *",null,null,null,null,null,null,null,null,null,"PLEASE REFER TO THE ADVICE NOTE REGARDING NEW DIESEL INDICES (APPLICABLE FROM MAR '16 ONWARDS)"]
[null,null,null,"The listed Indices above are applicable from January 2017 onwards; be reminded to also update the base month indice\nfor calculations taken from January 2017 (without affecting calculations prior to January 2017). ",null,null,null,null,null,null,null,null,null,"All CPA calculations going beyond Feb '16 will be required to be re-calculated based on the new diesel indices available from Jan '08"]
[]
[]
[null,null,null,0.79176563740000006,0.78616352199999995,0.77519379840000002,0.77579519009999998,0.8006405124,0.77279752700000004,0.78864353310000002,0.78740157479999995,0.79744816590000001,null,2.2719999999999998,2.89,3.22,4.149,1.909,2.1960000000000002,1.992,4.24,4.2050000000000001]
[]
[]
[]
[]
[]
[]
[]
[]
[null,null,null,"* Please note: previously it was Tables 5 to 13; now renumbered 3 to 11."]

{"sheet":"Table A Indices 2012=100","index":4,"n_rows":128,"n_cols":29,"rows_kept":128,"cut":false,"hidden":false,"merged":[[13,24,14,24],[13,25,13,26],[13,9,14,9],[13,20,14,20],[13,21,14,21],[13,22,14,22],[13,23,14,23],[13,1,14,1],[13,2,14,2],[13,3,14,3],[13,7,14,7],[13,8,14,8],[6,1,6,2],[12,1,12,2],[12,4,12,5],[12,8,12,10],[3,23,4,26],[12,12,12,14],[12,19,12,26],[123,3,123,16],[123,18,123,26],[124,3,124,16],[124,18,124,26],[13,16,14,16],[13,18,14,18],[13,19,14,19],[13,10,14,10],[13,11,14,11],[13,12,14,12],[13,13,14,13],[13,14,14,14],[13,15,14,15],[13,4,14,4],[13,5,14,5],[13,6,14,6]]}
[]
[null,null,null,"TABLE A (Indice base 100 as at Dec 2012)"]
[]
[null,null,null,"Refer to P0141 - Consumer Price Index:",null,null,null,null,null,null,null,null,null,null,null,null,null,null,"Refer to P0151 - Contract Price Adjustment Provisions (CPAP):",null,null,null,null,"* NEW DIESEL INDICES APPLICABLE FROM MAR '16 PROVIDED FROM JAN '08 BY STATS-SA"]
[null,null,null,"Additional Tables: Table 14 - CPI all items, according to area",null,null,null,null,null,null,null,null,null,null,null,null,null,null,"Work Groups and Selected Materials Indices: Table 3 and Table 4"]
[]
[null,"Conversion Factors: ",null,0.79176563740000006,0.78616352199999995,0.78802206460000002,0.77519379840000002,0.77579519009999998,0.8006405124,0.78554595439999997,0.79491255959999996,0.77279752700000004,0.78864353310000002,0.80385852089999998,0.78247261349999997,0.78740157479999995,0.79744816590000001,null,2.2719999999999998,2.89,3.22,4.149,1.909,2.1960000000000002,1.992,4.24,4.2050000000000001]
[]
[null,null,null,"DEC 2012 = 100",null,null,null,null,null,null,null,null,null,null,null,null,null,null,"DEC 2012 = 100"]
[]
[]
[]
[null,"Area:",null,"Western Cape","Eastern Cape",null,"Northern Cape","Free State","KwaZulu Natal",null,null,"North West","Gauteng",null,null,"Mpumalanga","Limpopo",null,"Table 3","Table 4"]
[null,"Month","Year","City of\nCape Town","Port\nElizabeth","East\nLondon","Kimberly","Bloemfontein /\nWelkom","Durban /\nPinetown","Pieter-\nMaritzburg","All Urban\nAreas","Rustenburg /\nKlerkdorp","City of\nTswane","City of\nJohannesburg","Ekurhuleni","Witbank /\nNetspruit","Polokwane",null,"Materials for\nCivil Engineering","Materials for\nConcrete Works","Materials for\nRoads & E/Works","* Diesel Fuel Wholesale Total","Civil Engineering Plant","Plant for\nConcrete Works","Plant for\nRoads & E/Works","* Diesel Fuel Wholesale"]
[null,null,null,null,null,null,null,null,null,null,null,null,null,null,null,null,null,null,null,null,null,null,null,null,null,"* Inland","* Coastal"]
[null,1,2008,75.599999999999994,75.099999999999994,74.8,73.599999999999994,74.099999999999994,76.099999999999994,75,75.8,73.3,75.2,76.5,74.8,75.2,76.400000000000006,null,{"$f":"184.1/S128","v":81.029929577464799},null,null,73.900000000000006,{"$f":"153.7/W128","v":80.513357778941852},null,null,68.599999999999994,67.7]
[null,2,2008,76,75.5,75.099999999999994,73.900000000000006,74.599999999999994,76.5,75.599999999999994,76.2,74,75.8,77.099999999999994,75.3,75.7,77.099999999999994,null,{"$f":"186.8/S128","v":82.218309859154942},null,null,78.099999999999994,{"$f":"161.4/W128","v":84.546883184913568},null,null,69.3,68.400000000000006]
[null,3,2008,77.2,76.5,76.3,74.7,75.7,77.3,76.400000000000006,76.900000000000006,75.2,77.099999999999994,78.5,76.400000000000006,76.5,78,null,{"$f":"187.8/S128","v":82.658450704225359},null,null,89.3,{"$f":"161.4/W128","v":84.546883184913568},null,null,76.599999999999994,75.8]
[null,4,2008,77.8,77,77,75.599999999999994,76.2,78.099999999999994,77,77.599999999999994,75.7,77.5,78.900000000000006,76.8,77.099999999999994,78.400000000000006,null,{"$f":"191/S128","v":84.066901408450718},null,null,103.2,{"$f":"161.4/W128","v":84.546883184913568},null,null,88.9,88]
[null,5,2008,78.2,77.599999999999994,77.599999999999994,76,76.7,78.7,77.5,78.099999999999994,76.2,78,79.3,77.5,77.5,79.099999999999994,null,{"$f":"199/S128","v":87.588028169014095},null,null,114.4,{"$f":"168.3/W128","v":88.161341016238879},null,null,95.4,94.7]
[null,6,2008,79,78.5,79,77.099999999999994,77.400000000000006,80.099999999999994,78.599999999999994,79.5,77.3,78.900000000000006,80.7,78.599999999999994,78.7,79.900000000000006,null,{"$f":"201.8/S128","v":88.820422535211279},null,null,126.3,{"$f":"168.3/W128","v":88.161341016238879},null,null,102.2,101.5]
[null,7,2008,80.099999999999994,79.599999999999994,80.099999999999994,78.8,78.400000000000006,81.599999999999994,79.5,80.900000000000006,78.2,79.900000000000006,81.599999999999994,79.8,79.8,80.900000000000006,null,{"$f":"203.9/S128","v":89.744718309859167},null,null,124.4,{"$f":"168.3/W128","v":88.161341016238879},null,null,108.2,107.5]
[null,8,2008,80.599999999999994,80,80.7,79.599999999999994,78.900000000000006,82.1,80,81.3,79.099999999999994,80,82.1,80,80,81.2,null,{"$f":"217.3/S128","v":95.64260563380283},null,null,102,{"$f":"175.4/W128","v":91.88056574122578},null,null,106.6,105.9]
[null,9,2008,81.2,80.900000000000006,81.2,79.900000000000006,79.599999999999994,82.3,80.599999999999994,81.599999999999994,79.599999999999994,80.8,82.4,79.8,80.900000000000006,81.3,null,{"$f":"218.8/S128","v":96.302816901408463},null,null,95.8,{"$f":"175.4/W128","v":91.88056574122578},null,null,93,92.2]
[null,10,2008,81.5,81.099999999999994,81.3,80.3,79.8,82.6,80.8,82,79.7,81.099999999999994,82.5,80.099999999999994,81.2,81.599999999999994,null,{"$f":"219.6/S128","v":96.654929577464799},null,null,91.8,{"$f":"175.4/W128","v":91.88056574122578},null,null,87.7,86.8]
[null,11,2008,81.5,81.099999999999994,81.400000000000006,80.400000000000006,79.8,82.6,80.900000000000006,82,79.7,81.2,82.6,80,81.3,81.7,null,{"$f":"219.2/S128","v":96.478873239436624},null,null,81.900000000000006,{"$f":"184.8/W128","v":96.804609743321109},null,null,85.4,84.5]
[null,12,2008,81.400000000000006,80.7,81.3,80.2,79.8,82.7,80.8,82,79.599999999999994,80.8,82.5,79.7,81.099999999999994,81.3,null,{"$f":"216.6/S128","v":95.33450704225352},null,null,66.599999999999994,{"$f":"184.8/W128","v":96.804609743321109},null,null,77.7,76.8]
[null,1,2009,81.5,80.8,80.900000000000006,80.3,80.099999999999994,83.4,81.2,82.7,79.599999999999994,81.2,82.6,79.7,81.7,81.3,null,{"$f":"219.7/S128","v":96.698943661971839},null,null,69.7,{"$f":"184.8/W128","v":96.804609743321109},null,null,61.9,60.8]
[null,2,2009,82.2,81.8,82,81,80.900000000000006,84.1,82,83.4,80.900000000000006,82.3,83.7,80.8,82.9,82.8,null,{"$f":"215.7/S128","v":94.938380281690144},null,null,65.900000000000006,{"$f":"193/W128","v":101.10005238344682},null,null,61.4,60.4]
[null,3,2009,83.5,82.9,83.1,82.2,82,85,83.2,84.3,82.3,83.4,84.8,82.1,83.9,84,null,{"$f":"214.8/S128","v":94.542253521126767},null,null,61.6,{"$f":"193/W128","v":101.10005238344682},null,null,57.8,56.7]
[null,4,2009,83.8,83.3,83.5,82.5,82.5,85.4,83.6,84.7,82.5,83.9,85.3,82.5,84.3,84.1,null,{"$f":"213.3/S128","v":93.882042253521135},null,null,60.8,{"$f":"193/W128","v":101.10005238344682},null,null,61.6,60.5]
[null,5,2009,84.1,83.5,83.9,82.8,82.8,85.7,84,85.1,82.8,84.2,85.6,82.6,84.9,84.4,null,{"$f":"209/S128","v":91.989436619718319},null,null,61,{"$f":"189.2/W128","v":99.109481403876373},null,null,62.4,61.2]
[null,6,2009,84.5,83.6,84.2,83.1,83,85.7,84.2,85.2,83.1,84.3,86.2,82.9,85.4,84.9,null,{"$f":"208.9/S128","v":91.945422535211279},null,null,62.4,{"$f":"189.2/W128","v":99.109481403876373},null,null,61.1,60.2]
[null,7,2009,85.4,85.1,85.2,84.3,83.9,86.5,84.8,86,84.2,85.7,86.7,84.4,86.3,85.7,null,{"$f":"211.3/S128","v":93.001760563380302},null,null,64.7,{"$f":"189.2/W128","v":99.109481403876373},null,null,64.900000000000006,64]
[null,8,2009,85.7,85.4,85.3,84.7,84.1,86.6,84.9,86.2,84.5,85.9,87.2,84.6,86.8,85.8,null,{"$f":"210.1/S128","v":92.473591549295776},null,null,63.7,{"$f":"190.9/W128","v":100},null,null,63,62.1]
[null,9,2009,86.1,85.5,85.9,85,84.4,86.9,85.2,86.4,84.8,86.3,87.5,84.8,86.9,86.1,null,{"$f":"209.8/S128","v":92.341549295774655},null,null,66.2,{"$f":"190.9/W128","v":100},null,null,66.2,65.3]
[null,10,2009,86.2,85.5,85.8,85,84.3,86.8,85.2,86.3,84.7,86.2,87.5,84.7,86.9,86.2,null,{"$f":"209.5/S128","v":92.209507042253534},null,null,62.6,{"$f":"190.9/W128","v":100},null,null,63.2,62.3]
[null,11,2009,86.3,85.5,85.7,85,84.3,86.8,85.1,86.3,84.8,86.3,87.5,84.7,86.9,86.1,null,{"$f":"209.8/S128","v":92.341549295774655},null,null,63.7,{"$f":"188.1/W128","v":98.53326348873756},null,null,64.099999999999994,63.2]
[null,12,2009,86.9,85.7,86,85,84.5,87,85.2,86.6,85,86.6,87.2,85.1,87.2,86.3,null,{"$f":"209.8/S128","v":92.341549295774655},null,null,66.900000000000006,{"$f":"188.1/W128","v":98.53326348873756},null,null,66.5,65.599999999999994]
[null,1,2010,87.1,85.8,86.1,85.2,84.7,87.4,85.5,86.9,85.2,86.9,87.5,85.4,87.5,86.4,null,{"$f":"212.5/S128","v":93.529929577464799},null,null,65.400000000000006,{"$f":"188.1/W128","v":98.53326348873756},null,null,65.2,64.3]
[null,2,2010,87.4,86.5,86.7,85.4,85.3,87.7,85.9,87.3,86.2,87.5,88,85.9,88.1,87.1,null,{"$f":"213/S128","v":93.750000000000014},null,null,67.099999999999994,{"$f":"188/W128","v":98.480880041906758},null,null,66.099999999999994,65.2]
[null,3,2010,88.4,87.3,87.5,85.9,86,88.4,86.7,87.9,87,88.2,88.8,86.8,88.7,87.6,null,{"$f":"213/S128","v":93.750000000000014},null,null,68.2,{"$f":"188.9/W128","v":98.952331063383966},null,null,66.5,65.599999999999994]
[null,4,2010,88.7,87.4,87.8,86.3,86.4,88.5,86.6,88,87.2,88.4,89,86.9,88.8,87.6,null,{"$f":"212.8/S128","v":93.661971830985934},null,null,72.099999999999994,{"$f":"188.9/W128","v":98.952331063383966},null,null,71.2,70.400000000000006]
[null,5,2010,88.8,87.6,87.7,86.4,86.4,88.6,87,88.2,87.3,88.5,89.1,87,89,88,null,{"$f":"215.4/S128","v":94.806338028169023},null,null,74,{"$f":"187.6/W128","v":98.271346254583548},null,null,73.900000000000006,73]
[null,6,2010,88.7,87.8,87.8,86.1,86.5,88.6,87.1,88.2,87.4,88.7,89.2,86.8,89.1,88,null,{"$f":"216.7/S128","v":95.37852112676056},null,null,73,{"$f":"187.4/W128","v":98.166579360921943},null,null,72.5,71.7]
[null,7,2010,89.1,88.4,88.3,87.4,87.3,88.8,87.9,88.6,87.9,89.3,89.6,87.8,89.1,88.4,null,{"$f":"214.1/S128","v":94.234154929577471},null,null,71.900000000000006,{"$f":"187.2/W128","v":98.061812467260339},null,null,71.099999999999994,70.3]
[null,8,2010,89.1,88.4,88.3,87.4,87.4,88.8,88.1,88.7,87.9,89.2,89.8,87.7,89.8,88.5,null,{"$f":"212.6/S128","v":93.573943661971839},null,null,71.2,{"$f":"186.7/W128","v":97.799895233106326},null,null,69.8,69]
[null,9,2010,89.2,88.6,88.3,87.6,87.9,88.6,88.5,88.6,88.1,89.5,89.8,87.6,89.9,88.8,null,{"$f":"212.6/S128","v":93.573943661971839},null,null,70.599999999999994,{"$f":"186.7/W128","v":97.799895233106326},null,null,69.8,69]
[null,10,2010,89.3,88.7,88.5,87.8,88.1,88.8,88.5,88.8,88.2,89.6,90,87.9,90.4,89.2,null,{"$f":"213.7/S128","v":94.058098591549296},{"$f":"248.8/T128","v":86.089965397923876},{"$f":"264.6/U128","v":82.173913043478265},70.8,{"$f":"186.8/W128","v":97.852278679937143},{"$f":"205.1/X128","v":93.397085610200349},{"$f":"189.4/Y128","v":95.08032128514057},69.599999999999994,68.8]
[null,11,2010,89.4,88.9,88.5,87.8,88.1,88.9,88.6,89,88.3,89.8,90.1,88,90.2,89.4,null,{"$f":"212.9/S128","v":93.705985915492974},{"$f":"248.7/T128","v":86.055363321799305},{"$f":"264.7/U128","v":82.204968944099377},72.7,{"$f":"187.5/W128","v":98.218962807752746},{"$f":"205.4/X128","v":93.533697632058278},{"$f":"190.1/Y128","v":95.431726907630519},71.900000000000006,71.099999999999994]
[null,12,2010,89.6,89,88.7,87.8,88.3,89,88.8,89,88.3,89.9,90.3,88.4,90.2,89.4,null,{"$f":"213.1/S128","v":93.794014084507054},{"$f":"248.5/T128","v":85.986159169550163},{"$f":"266.2/U128","v":82.670807453416145},75.2,{"$f":"185.8/W128","v":97.328444211629133},{"$f":"201.5/X128","v":91.757741347905281},{"$f":"189.2/Y128","v":94.97991967871485},71.900000000000006,71.099999999999994]
[null,1,2011,90,89.5,89,88.5,88.9,89.4,89.3,89.5,88.9,90,90.6,88.9,90.8,90.1,null,{"$f":"215.4/S128","v":94.806338028169023},{"$f":"250.3/T128","v":86.608996539792386},{"$f":"266.7/U128","v":82.826086956521735},78,{"$f":"184.2/W128","v":96.490309062336294},{"$f":"201.9/X128","v":91.939890710382514},{"$f":"189/Y128","v":94.879518072289159},74.099999999999994,73.3]
[null,2,2011,90.7,90.2,89.7,89.1,89.5,90,89.9,90.1,90,90.5,91.2,89.4,91.4,90.7,null,{"$f":"215.9/S128","v":95.026408450704238},{"$f":"257.9/T128","v":89.238754325259507},{"$f":"272.2/U128","v":84.534161490683218},85.3,{"$f":"186.6/W128","v":97.747511786275538},{"$f":"202.7/X128","v":92.304189435336966},{"$f":"190.4/Y128","v":95.582329317269085},77,76.2]
[null,3,2011,91.8,91.3,90.6,90.2,90.7,90.9,90.7,91,91,91.6,92.1,90.7,92,92,null,{"$f":"217.4/S128","v":95.686619718309871},{"$f":"261.5/T128","v":90.484429065743939},{"$f":"283.1/U128","v":87.9192546583851},90.9,{"$f":"187.3/W128","v":98.114195914091155},{"$f":"204/X128","v":92.896174863387969},{"$f":"191.3/Y128","v":96.03413654618474},83,82.3]
[null,4,2011,92.1,91.5,90.9,90.5,91.1,91.3,91.2,91.3,91.3,92,92.3,91.1,92.2,92.2,null,{"$f":"216/S128","v":95.070422535211279},{"$f":"261.6/T128","v":90.51903114186851},{"$f":"292.7/U128","v":90.90062111801241},96.4,{"$f":"187.5/W128","v":98.218962807752746},{"$f":"204/X128","v":92.896174863387969},{"$f":"191.8/Y128","v":96.285140562248998},89.7,88.4]
[null,5,2011,92.6,91.9,91.3,90.8,91.4,91.8,91.5,91.7,91.7,92.4,92.8,91.5,92.7,92.7,null,{"$f":"215.7/S128","v":94.938380281690144},{"$f":"261.3/T128","v":90.415224913494811},{"$f":"294/U128","v":91.304347826086953},95.4,{"$f":"187.5/W128","v":98.218962807752746},{"$f":"205.5/X128","v":93.579234972677583},{"$f":"193.3/Y128","v":97.03815261044177},91.2,89.9]
[null,6,2011,92.9,92.1,91.9,91,91.7,92.3,92.1,92.2,92,92.7,93.2,92.2,92.8,93,null,{"$f":"216.1/S128","v":95.114436619718319},{"$f":"265.2/T128","v":91.764705882352928},{"$f":"294.4/U128","v":91.428571428571416},92.6,{"$f":"188.8/W128","v":98.899947616553177},{"$f":"205.5/X128","v":93.579234972677583},{"$f":"194/Y128","v":97.389558232931734},87.6,86.3]
[null,7,2011,93.5,93.1,92.6,92.9,93,93,92.9,93,92.8,93.4,94,93,93.7,93.4,null,{"$f":"219/S128","v":96.390845070422543},{"$f":"267.7/T128","v":92.62975778546712},{"$f":"296.2/U128","v":91.987577639751549},92,{"$f":"189.2/W128","v":99.109481403876373},{"$f":"210.1/X128","v":95.673952641165741},{"$f":"193.9/Y128","v":97.339357429718874},86.5,85.2]
[null,8,2011,93.7,93.2,92.8,93.3,93.3,93.3,93,93.2,93,93.6,94.1,93.2,93.8,93.8,null,{"$f":"219.7/S128","v":96.698943661971839},{"$f":"268.8/T128","v":93.010380622837374},{"$f":"296.9/U128","v":92.204968944099363},91.8,{"$f":"189.3/W128","v":99.161864850707175},{"$f":"214.1/X128","v":97.495446265938057},{"$f":"194.3/Y128","v":97.540160642570285},88,86.6]
[null,9,2011,94.1,93.6,93.1,93.6,93.7,93.5,93.2,93.5,93.3,93.9,94.1,93.5,94.3,94.1,null,{"$f":"220.2/S128","v":96.91901408450704},{"$f":"272.6/T128","v":94.325259515570934},{"$f":"294.9/U128","v":91.583850931677006},91.8,{"$f":"189.1/W128","v":99.057097957045571},{"$f":"213.8/X128","v":97.358834244080143},{"$f":"194.3/Y128","v":97.540160642570285},88,86.6]
[null,10,2011,94.5,94.1,93.7,94.3,94.3,94.2,93.8,94.1,93.7,94.4,94.7,94.1,94.8,94.7,null,{"$f":"221.6/S128","v":97.535211267605646},{"$f":"276.9/T128","v":95.813148788927322},{"$f":"296.3/U128","v":92.018633540372676},95.4,{"$f":"187.6/W128","v":98.271346254583548},{"$f":"213.2/X128","v":97.085610200364286},{"$f":"193.9/Y128","v":97.339357429718874},91.3,90]
[null,11,2011,94.6,94.4,93.9,94.7,94.5,94.6,94.2,94.4,94,94.7,94.8,94.4,94.9,94.8,null,{"$f":"223.2/S128","v":98.239436619718319},{"$f":"286.2/T128","v":99.031141868512108},{"$f":"303.7/U128","v":94.31677018633539},100.4,{"$f":"187.7/W128","v":98.323729701414351},{"$f":"213.4/X128","v":97.17668488160291},{"$f":"194.3/Y128","v":97.540160642570285},94.7,93.4]
[null,12,2011,94.8,94.6,94.1,94.9,94.9,94.8,94.3,94.8,94.2,94.9,94.9,94.5,95.2,95.1,null,{"$f":"223.6/S128","v":98.41549295774648},{"$f":"286.5/T128","v":99.134948096885807},{"$f":"311.1/U128","v":96.614906832298132},102,{"$f":"188.4/W128","v":98.690413829229968},{"$f":"213.7/X128","v":97.313296903460824},{"$f":"195.1/Y128","v":97.941767068273094},97.7,97.9]
[null,1,2012,95.2,95,94.2,95.6,95.4,95,94.9,95,94.6,95.6,95.5,95.1,95.9,95.5,null,{"$f":"224.5/S128","v":98.811619718309871},{"$f":"287.7/T128","v":99.550173010380618},{"$f":"312/U128","v":96.894409937888199},99.5,{"$f":"188.6/W128","v":98.795180722891558},{"$f":"213.7/X128","v":97.313296903460824},{"$f":"194.9/Y128","v":97.841365461847388},97.2,95.9]
[null,2,2012,95.6,95.4,95,96.1,96.1,95.5,95.5,95.6,95.6,96.1,96.1,95.7,96.5,96.1,null,{"$f":"226.6/S128","v":99.735915492957758},{"$f":"290.5/T128","v":100.51903114186851},{"$f":"318/U128","v":98.757763975155271},99.4,{"$f":"189.4/W128","v":99.214248297537978},{"$f":"214.7/X128","v":97.768670309653899},{"$f":"195.3/Y128","v":98.0421686746988},97.2,95.8]
[null,3,2012,96.7,96.5,96.7,96.9,97.1,96.6,96.3,96.7,97,97.2,97,96.5,97.2,97,null,{"$f":"228.2/S128","v":100.44014084507043},{"$f":"290.5/T128","v":100.51903114186851},{"$f":"317.3/U128","v":98.540372670807457},100.6,{"$f":"188.2/W128","v":98.585646935568349},{"$f":"214.4/X128","v":97.632058287795985},{"$f":"194.8/Y128","v":97.791164658634543},98.1,96.8]
[null,4,2012,97.1,96.9,97.2,97.1,97.5,97.1,96.6,97.1,97.3,97.6,97.4,96.9,97.7,97.4,null,{"$f":"227.9/S128","v":100.30809859154931},{"$f":"290.4/T128","v":100.48442906574394},{"$f":"317.1/U128","v":98.478260869565219},102.6,{"$f":"188.6/W128","v":98.795180722891558},{"$f":"218/X128","v":99.271402550091068},{"$f":"198.6/Y128","v":99.698795180722882},102.9,101.3]
[null,5,2012,97.3,97.1,97.4,97.1,97.4,97.2,96.9,97.2,97.4,97.7,97.4,97,97.6,97.4,null,{"$f":"226.9/S128","v":99.867957746478879},{"$f":"288.9/T128","v":99.965397923875415},{"$f":"323/U128","v":100.31055900621118},103.6,{"$f":"190.3/W128","v":99.6856993190152},{"$f":"218.8/X128","v":99.635701275045534},{"$f":"199.4/Y128","v":100.10040160642571},103.8,102.2]
[null,6,2012,97.5,97.5,97.6,97.1,97.4,97.4,97.6,97.4,97.4,97.6,97.9,97.4,97.8,97.2,null,{"$f":"226.8/S128","v":99.823943661971839},{"$f":"289.1/T128","v":100.03460207612457},{"$f":"324/U128","v":100.62111801242236},99.7,{"$f":"190.8/W128","v":99.947616553169198},{"$f":"219.1/X128","v":99.772313296903448},{"$f":"199.9/Y128","v":100.35140562248996},101.5,100.2]
[null,7,2012,97.9,98,97.9,98.1,97.7,97.6,97.9,97.8,97.7,98,98.2,97.7,98.3,97.7,null,{"$f":"227.1/S128","v":99.95598591549296},{"$f":"289.9/T128","v":100.3114186851211},{"$f":"325.3/U128","v":101.02484472049689},92.1,{"$f":"191/W128","v":100.0523834468308},{"$f":"220.2/X128","v":100.27322404371583},{"$f":"200/Y128","v":100.40160642570281},95.6,93.9]
[null,8,2012,98,98.2,98,98.3,98,97.8,98,97.9,98,98.2,98.4,98,98.3,97.9,null,{"$f":"227.9/S128","v":100.30809859154931},{"$f":"290/T128","v":100.34602076124567},{"$f":"324.2/U128","v":100.68322981366458},94.3,{"$f":"191.5/W128","v":100.3143006809848},{"$f":"219.1/X128","v":99.772313296903448},{"$f":"200.5/Y128","v":100.65261044176707},97,95.2]
[null,9,2012,98.9,98.8,98.8,99.2,98.8,98.7,98.9,98.8,99.1,99,99.1,98.8,99.2,99,null,{"$f":"227.5/S128","v":100.13204225352113},{"$f":"289.8/T128","v":100.27681660899654},{"$f":"323.5/U128","v":100.46583850931677},100.3,{"$f":"192.5/W128","v":100.83813514929282},{"$f":"223.2/X128","v":101.63934426229507},{"$f":"200.6/Y128","v":100.70281124497991},103.5,101.8]
[null,10,2012,99.4,99.4,99.4,99.7,99.5,99.4,99.5,99.4,99.7,99.6,99.7,99.6,99.6,99.6,null,{"$f":"226.8/S128","v":99.823943661971839},{"$f":"285.9/T128","v":98.927335640138395},{"$f":"324/U128","v":100.62111801242236},105.3,{"$f":"192.5/W128","v":100.83813514929282},{"$f":"224.1/X128","v":102.04918032786884},{"$f":"201.4/Y128","v":101.10441767068274},104,105.6]
[null,11,2012,99.6,99.8,99.6,100,99.8,99.6,99.7,99.7,99.8,99.8,99.9,99.8,99.8,99.8,null,{"$f":"227.5/S128","v":100.13204225352113},{"$f":"285.9/T128","v":98.927335640138395},{"$f":"326.4/U128","v":101.36645962732918},106.8,{"$f":"193.2/W128","v":101.20481927710843},{"$f":"225.1/X128","v":102.50455373406191},{"$f":"202.1/Y128","v":101.45582329317268},106.5,106.5]
[null,12,2012,100,100,100,100,100,100,100,100,100,100,100,100,100,100,null,{"$f":"228.2/S128","v":100.44014084507043},{"$f":"289/T128","v":100},{"$f":"329.3/U128","v":102.26708074534162},106,{"$f":"193.7/W128","v":101.46673651126244},{"$f":"225.3/X128","v":102.59562841530054},{"$f":"202.6/Y128","v":101.70682730923694},106,106,null,"Conversion   ↑"]
[null,1,2013,100.2,100.1,100.3,100.5,100.4,100.1,100.5,100.1,100.2,100.3,100.4,100.4,100.4,100.5,null,101.8,103.2,104.4,103.4,102.3,103.1,102.4,103.4,103.4,null,"New indices ↓"]
[null,2,2013,100.8,101.2,101.3,100.9,101.2,101.2,102,101.3,101.2,101.7,101.8,101.5,101.4,101.3,null,102.2,104.8,105.1,105,102.5,103.1,102.4,105,105]
[null,3,2013,102.2,102,102.4,101.8,102.4,102.8,102.9,102.6,102.4,103.2,103,102.6,102.1,102.8,null,103.1,104.5,104.9,110.5,103.6,103.5,103.6,110.5,110.6]
[null,4,2013,102.5,102.2,102.8,102.1,102.7,102.9,103,102.9,102.6,103.6,103.3,102.9,102.3,103,null,103.9,106.3,105.6,111.3,103.7,103.6,103.6,111.3,111.3]
[null,5,2013,102.2,102.1,102.5,101.8,102.6,102.5,102.5,102.5,102.5,103.3,102.9,102.5,102.1,103,null,104.2,107.2,107.1,106.1,104.5,104.2,103.9,106.2,106]
[null,6,2013,102.5,102.5,102.9,101.9,103.3,102.9,102.7,102.8,102.7,103.8,103.4,102.9,102.3,103.4,null,104.9,107.3,108.3,105.7,105.4,104.6,104.7,105.8,105.6]
[null,7,2013,103.4,103.4,104.9,103.3,104.3,104.2,104,104.1,103.8,105,104.3,104,103.2,104.3,null,105.4,107.3,109.4,113.1,107.1,106.9,106.1,113.1,113.1]
[null,8,2013,103.7,103.7,105,103.7,104.6,104.6,104.4,104.5,104.1,105.2,104.6,104.3,103.4,104.7,null,105.6,107.1,109.1,116.2,108.1,107.4,106.6,116.1,116.2]
[null,9,2013,104.6,104.1,105.6,104.3,105.3,105,105.1,104.8,104.6,105.7,104.8,104.9,104,105.3,null,105.1,107.1,108.4,117.5,108.6,107.6,107,117.4,117.5]
[null,10,2013,104.9,104.3,105.7,104.5,105.7,105,105.3,104.9,105,105.9,105.1,105,104.2,105.4,null,105.2,107.2,108.5,117.3,109.5,108.2,107.6,117.2,117.3]
[null,11,2013,104.9,104.5,105.7,104.8,105.9,104.9,105.6,104.9,104.9,105.8,105,105.1,104.2,105.6,null,105.1,107.1,107.8,115.8,109.9,108.6,108.1,115.8,115.9]
[null,12,2013,105,104.9,106.2,105.2,106.2,105.2,105.9,105.3,105.5,106.3,105.5,105.3,104.5,105.9,null,105.1,107,108,116.8,110.1,108.7,108.4,116.7,116.8]
[null,1,2014,105.9,105.4,106.6,105.9,106.8,105.9,106.6,106,106.2,107,106.2,106,105.2,106.9,null,105.9,108.1,109.1,119.8,110.7,108.8,108.4,119.7,119.9]
[null,2,2014,106.7,106.6,108.2,106.7,107.8,107,108.2,107.2,107.3,108.4,107.7,107.4,106.3,107.8,null,106,111.3,112.8,122.1,112.3,115.8,109,122,122.2]
[null,3,2014,108.2,108.1,109.3,108,109.2,108.6,109.5,108.8,108.6,110,109,108.8,107.3,109,null,107.1,112.1,114.3,124.7,112.1,116.2,109.5,124.5,124.8]
[null,4,2014,108.6,108.5,109.4,108.4,109.7,109.1,109.9,109.4,109.1,110.6,109.5,109.2,107.8,109.4,null,107.5,112.6,114.2,123.6,112.9,117.5,111.4,123.7,123.6]
[null,5,2014,108.9,108.8,109.6,108.8,109.9,109.4,110.3,109.6,109.3,110.7,109.6,109.3,108.2,109.8,null,107.7,112.4,113.6,120.8,113.4,117.7,111.8,120.9,120.7]
[null,6,2014,109.2,109.4,110.1,109.2,110.2,109.5,110.2,109.9,109.9,111.2,110,109.5,108.7,109.8,null,108,112.4,114.1,118.6,113.6,116.7,110.9,118.7,118.5]
[null,7,2014,110.1,110.5,111.3,111.2,110.8,110.9,110.7,111,110.5,112.1,110.6,110.5,109.1,110.6,null,108,112,115.1,119.9,113.7,116.3,110.6,120,119.8]
[null,8,2014,110.5,110.8,111.5,111.4,111.2,111,111.2,111.2,111,112.4,111,110.9,109.7,111,null,108,112,114,119.4,113.9,117.2,110.7,119.5,119.3]
[null,9,2014,110.9,110.6,111.4,111.3,111.2,110.9,111,111.1,110.8,112.3,111,110.7,109.7,111,null,108.7,113.2,114.1,117,113.9,117.2,110.6,117.2,116.9]
[null,10,2014,111.3,110.8,111.6,111.4,111.5,111,111.3,111.2,110.8,112.5,111.2,110.8,110,111,null,108.8,113.2,114.4,115.8,113.3,117.1,109.4,116,115.6]
[null,11,2014,111.4,111,111.6,111.3,111.6,110.8,111.3,111.1,110.9,112.4,111.1,111,110.1,110.9,null,108.5,114,113.7,110.1,113.6,117.1,109.4,110.3,109.8]
[null,12,2014,111.3,110.9,111.3,111,111.3,110.5,111.1,110.8,110.5,112.3,110.8,110.6,109.7,110.6,null,108.1,114,110.5,105,113.6,117.1,109.4,105.3,104.8]
[null,1,2015,111.2,110.8,111.1,111,111.5,110,110.9,110.5,110.6,112,110.7,110.2,109.9,110.6,null,106.1,111.3,107.2,95.3,114.8,118,110.1,95.6,94.9]
[null,2,2015,111.6,111.5,112.1,111.5,112.2,110.5,112.1,111.1,111.21,112.7,111.9,111.1,110.6,111.2,null,105.5,111.9,102.4,85.7,115.4,118.2,110.5,86.2,85.2]
[null,3,2015,113.3,112.7,113.5,112.9,113.9,112.2,113.5,112.7,112.5,114.5,113.5,112.6,111.7,112.7,null,105.2,111.3,104.3,92.6,115.5,118.2,110.5,93,92.2]
[null,4,2015,114.2,113.7,114.5,114,115,113.4,114.4,113.8,113.8,115.6,114.4,113.8,112.8,113.9,null,102.2,107.4,102.6,104.1,115.7,116.3,108.8,104.5,103.7]
[null,5,2015,114.4,113.8,114.8,114.2,115.3,113.7,114.6,114,114,116,114.7,114.1,113,114,null,100.7,105.6,101.8,103.6,115.9,116.3,108.7,104,103.2,null,"fjo checked"]
[null,6,2015,114.8,114.3,115.4,115,115.8,114,114.9,114.5,114.3,116.5,115.1,114.7,113.8,114.7,null,100.9,105.3,103,108.2,115.9,116.6,108.4,108.5,107.9,null,"fjo checked"]
[null,7,2015,115.9,115.5,117.2,116.3,116.8,115.7,116.2,116,115.4,117.8,116.1,116,114.5,115.6,null,100.7,105.4,101.3,108.6,116.1,117.2,107.8,108.9,108.2,null,"fjo checked"]
[null,8,2015,115.9,115.6,117.3,116.3,116.9,115.5,116.3,115.9,115.6,117.8,116.2,116,114.6,115.7,null,101.1,106,101.2,101.4,116.3,117.8,108.1,101.9,101,null,"fjo checked"]
[null,9,2015,116.4,115.7,117.3,116.4,116.8,115.3,116.2,115.9,115.3,117.8,116.3,115.8,114.4,115.9,null,100.6,105.7,98.1,96.4,117.4,118.3,108.9,96.8,95.9,null,"fjo checked"]
[null,10,2015,116.8,116,117.5,116.6,116.9,115.6,116.4,116.1,115.4,118,116.7,116,114.4,116,null,100.9,105.7,95.6,101.4,119.3,119.5,109.7,101.8,100.9,null,"fjo checked"]
[null,11,2015,117,116.1,117.4,116.6,117.1,115.4,116.5,116,115.6,118,116.8,116.1,114.8,116.2,null,100.9,105.6,95.9,100.5,119.4,120.2,110.1,100.9,100.1,null,"fjo checked"]
[null,12,2015,117.4,116.3,117.7,117.2,117.7,115.7,117,116.3,116.1,118.4,117.2,116.4,115.1,116.7,null,100.6,106,97.6,100.2,119.4,120.3,110.2,100.6,99.7,null,"fjo checked"]
[null,1,2016,118.1,117.2,118.4,117.7,119.1,116.1,117.7,117,117,119.3,118.1,117.5,116.5,117.6,null,103.4,108.3,96.8,93,125.4,124.3,113.5,93.5,92.5,null,"fjo checked"]
[null,2,2016,119.4,119.1,120.3,118.9,120.7,117.6,119.7,118.6,118.4,120.9,119.9,119,118.2,119,null,105.6,111.4,97.2,87.2,125.9,123.9,114.1,87.7,86.6,null,"fjo checked"]
[null,3,2016,120.4,120.1,121.2,119.7,121.7,118.5,120.5,119.5,119,121.6,120.8,119.8,119,120.1,null,105.8,109.9,95.6,88.6,127.2,125.2,115.3,89.1,88,null,"fjo checked"]
[null,4,2016,121.2,121.1,122.2,120.7,122.7,119.5,121.6,120.6,120.4,122.6,121.8,120.9,119.9,121.5,null,106.6,113.1,97.3,97.3,127.8,125.2,115.4,98,96.6,null,"fjo checked"]
[null,5,2016,121.2,121.4,122.5,121,123,119.8,122.1,120.9,120.8,122.9,122,121.2,120.1,121.7,null,109.2,117.2,98.8,97.2,128.80000000000001,125.5,116.5,97.9,96.5,null,"fjo checked"]
[null,6,2016,122.1,122.4,123,121.8,123.7,120.8,122.7,121.8,121.3,123.8,122.5,121.8,120.7,122.1,null,109.4,117,101.9,104.4,129.9,126.3,118,105,103.7,null,"fjo checked"]
[null,7,2016,122.9,123.5,124.5,123.1,124.7,122.2,124.1,123.2,122.2,125,123.3,122.9,121.4,123.1,null,108.8,115.8,102.4,108.3,130.5,125.8,117.6,108.9,107.7,null,"fjo checked"]
[null,8,2016,122.7,123.5,124.3,122.9,124.6,121.9,123.8,122.8,122.2,124.6,123.2,122.7,121.4,122.8,null,110.1,116.1,102.9,101.4,131.1,126.7,118.5,102,100.7,null,"fjo checked"]
[null,9,2016,123.3,123.7,124.6,123.2,125,122.2,124.4,123.1,122.2,125.1,123.2,122.7,121.4,123.1,null,109.1,115.7,101,96.8,131.1,126.7,118.6,97.6,96.1,null,"fjo checked"]
[null,10,2016,123.9,124.1,125,123.8,125.3,122.7,125.3,123.7,123,125.6,123.8,123.4,122.3,123.7,null,109.6,115.7,101.8,99,130.9,126.6,118.4,99.7,98.3,null,"fjo checked"]
[null,11,2016,124.4,124.6,125.2,124,125.6,123.1,125.7,124.1,123.3,126.1,124.1,123.7,122.5,124.2,null,109.7,115.7,102.3,104.9,130.6,126.4,118.1,105.6,104.3,null,"fjo checked"]
[null,12,2016,125.8,125.1,125.2,124.5,126.1,123.4,125.8,124.4,123.7,126.4,124.7,123.9,122.5,124.8,null,114.2,118.6,102.8,101.9,130,126.1,117.3,102.6,101.2,null,"fjo checked"]
[null,null,null,"These regional indices found in Table 14 of P0141 will be discontinued from January 2017 - this changed is being discussed with relevant organce of state. ",null,null,null,null,null,null,null,null,null,null,null,null,null,null,"PLEASE REFER TO THE ADVICE NOTE REGARDING NEW DIESEL INDICES (APPLICABLE FROM MAR '16 ONWARDS)"]
[null,null,null,"Alternative / replacement indices are being investigated and members will be advised shortly in this regard.",null,null,null,null,null,null,null,null,null,null,null,null,null,null,"All CPA calculations going beyond Feb '16 will be required to be re-calculated based on the new diesel indices available from Jan '08"]
[]
[]
[null,null,null,0.79176563740000006,0.78616352199999995,0.78802206460000002,0.77519379840000002,0.77579519009999998,0.8006405124,0.78554595439999997,0.79491255959999996,0.77279752700000004,0.78864353310000002,0.80385852089999998,0.78247261349999997,0.78740157479999995,0.79744816590000001,null,2.2719999999999998,2.89,3.22,4.149,1.909,2.1960000000000002,1.992,4.24,4.2050000000000001]

{"sheet":"Discontinued - OLDTABLE A","index":5,"n_rows":132,"n_cols":48,"rows_kept":132,"cut":false,"hidden":false,"merged":[[6,1,6,2],[10,4,10,5],[10,12,10,14],[11,4,12,4],[11,5,12,5],[11,1,12,1],[11,2,12,2],[11,9,12,9],[11,11,12,11],[10,1,10,2],[11,6,12,6],[11,3,12,3],[11,7,12,7],[10,8,10,10],[11,12,12,12],[71,37,71,39],[11,14,12,14],[11,15,12,15],[113,18,113,26],[113,3,113,16],[71,41,71,43],[71,45,71,47],[3,23,4,26],[11,8,12,8],[11,16,12,16],[10,19,10,26],[11,19,12,19],[11,20,12,20],[11,21,12,21],[11,22,12,22],[11,18,12,18],[11,23,12,23],[11,24,12,24],[11,25,11,26],[11,13,12,13],[11,10,12,10]]}
[]
[null,null,null,"OLD TABLE A (Indice base 100 as at Dec 2012)"]
[]
[null,null,null,"Refer to P0141 - Consumer Price Index:",null,null,null,null,null,null,null,null,null,null,null,null,null,null,"Refer to P0151 - Contract Price Adjustment Provisions (CPAP):",null,null,null,null,"THESE ARE OLD DIESEL INDICES APPLICABLE UPTO FEB '16"]
[null,null,null,"Additional Tables: Table 14 - CPI all items, according to area",null,null,null,null,null,null,null,null,null,null,null,null,null,null,"Work Groups and Selected Materials Indices: Table 3 and Table 4"]
[]
[null,"Conversion Factors: ",null,0.79176563740000006,0.78616352199999995,0.78802206460000002,0.77519379840000002,0.77579519009999998,0.8006405124,0.78554595439999997,0.79491255959999996,0.77279752700000004,0.78864353310000002,0.80385852089999998,0.78247261349999997,0.78740157479999995,0.79744816590000001,null,2.2719999999999998,2.89,3.22,4.149,1.909,2.1960000000000002,1.992,4.24,4.2050000000000001]
[]
[null,null,null,"DEC 2012 = 100",null,null,null,null,null,null,null,null,null,null,null,null,null,null,"DEC 2012 = 100"]
[]
[null,"Area:",null,"Western Cape","Eastern Cape",null,"Northern Cape","Free State","KwaZulu Natal",null,null,"North West","Gauteng",null,null,"Mpumalanga","Limpopo",null,"Table 3","Table 4"]
[null,"Month","Year","City of\nCape Town","Port\nElizabeth","East\nLondon","Kimberly","Bloemfontein /\nWelkom","Durban /\nPinetown","Pieter-\nMaritzburg","All Urban\nAreas","Rustenburg /\nKlerkdorp","City of\nTswane","City of\nJohannesburg","Ekurhuleni","Witbank /\nNetspruit","Polokwane",null,"Materials for\nCivil Engineering","Materials for\nConcrete Works","Materials for\nRoads & E/Works","Diesel Fuel\nCoast & Wtwtrsrnd","Civil Engineering Plant","Plant for\nConcrete Works","Plant for\nRoads & E/Works","Diesel at Wholesale Level"]
[null,null,null,null,null,null,null,null,null,null,null,null,null,null,null,null,null,null,null,null,null,null,null,null,null,"Witwatersrand","Coast"]
[null,1,2008,75.599999999999994,75.099999999999994,74.8,73.599999999999994,74.099999999999994,76.099999999999994,75,75.8,73.3,75.2,76.5,74.8,75.2,76.400000000000006,null,{"$f":"184.1/S118","v":81.029929577464799},null,null,{"$f":"304.1/V118","v":73.294769824054001},{"$f":"153.7/W118","v":80.513357778941852},null,null,{"$f":"287.7/Z118","v":67.853773584905653},{"$f":"284.3/AA118","v":67.609988109393583}]
[null,2,2008,76,75.5,75.099999999999994,73.900000000000006,74.599999999999994,76.5,75.599999999999994,76.2,74,75.8,77.099999999999994,75.3,75.7,77.099999999999994,null,{"$f":"186.8/S118","v":82.218309859154942},null,null,{"$f":"321.6/V118","v":77.512653651482296},{"$f":"161.4/W118","v":84.546883184913568},null,null,{"$f":"290.5/Z118","v":68.514150943396217},{"$f":"287.1/AA118","v":68.275862068965523}]
[null,3,2008,77.2,76.5,76.3,74.7,75.7,77.3,76.400000000000006,76.900000000000006,75.2,77.099999999999994,78.5,76.400000000000006,76.5,78,null,{"$f":"187.8/S118","v":82.658450704225359},null,null,{"$f":"367.6/V118","v":88.599662569293812},{"$f":"161.4/W118","v":84.546883184913568},null,null,{"$f":"321.4/Z118","v":75.801886792452819},{"$f":"318.3/AA118","v":75.695600475624261}]
[null,4,2008,77.8,77,77,75.599999999999994,76.2,78.099999999999994,77,77.599999999999994,75.7,77.5,78.900000000000006,76.8,77.099999999999994,78.400000000000006,null,{"$f":"191/S118","v":84.066901408450718},null,null,{"$f":"424.9/V118","v":102.41021932995902},{"$f":"161.4/W118","v":84.546883184913568},null,null,{"$f":"372.6/Z118","v":87.877358490566039},{"$f":"369.5/AA118","v":87.871581450653977}]
[null,5,2008,78.2,77.599999999999994,77.599999999999994,76,76.7,78.7,77.5,78.099999999999994,76.2,78,79.3,77.5,77.5,79.099999999999994,null,{"$f":"199/S118","v":87.588028169014095},null,null,{"$f":"471/V118","v":113.52133044107013},{"$f":"168.3/W118","v":88.161341016238879},null,null,{"$f":"400.4/Z118","v":94.433962264150935},{"$f":"397.9/AA118","v":94.625445897740775}]
[null,6,2008,79,78.5,79,77.099999999999994,77.400000000000006,80.099999999999994,78.599999999999994,79.5,77.3,78.900000000000006,80.7,78.599999999999994,78.7,79.900000000000006,null,{"$f":"201.8/S118","v":88.820422535211279},null,null,{"$f":"519.9/V118","v":125.30730296456977},{"$f":"168.3/W118","v":88.161341016238879},null,null,{"$f":"428.5/Z118","v":101.06132075471697},{"$f":"426.3/AA118","v":101.37931034482759}]
[null,7,2008,80.099999999999994,79.599999999999994,80.099999999999994,78.8,78.400000000000006,81.599999999999994,79.5,80.900000000000006,78.2,79.900000000000006,81.599999999999994,79.8,79.8,80.900000000000006,null,{"$f":"203.9/S118","v":89.744718309859167},null,null,{"$f":"511.9/V118","v":123.37912750060255},{"$f":"168.3/W118","v":88.161341016238879},null,null,{"$f":"453.5/Z118","v":106.95754716981132},{"$f":"451.5/AA118","v":107.37217598097503}]
[null,8,2008,80.599999999999994,80,80.7,79.599999999999994,78.900000000000006,82.1,80,81.3,79.099999999999994,80,82.1,80,80,81.2,null,{"$f":"217.3/S118","v":95.64260563380283},null,null,{"$f":"419.9/V118","v":101.2051096649795},{"$f":"175.4/W118","v":91.88056574122578},null,null,{"$f":"447.1/Z118","v":105.44811320754717},{"$f":"444.7/AA118","v":105.75505350772889}]
[null,9,2008,81.2,80.900000000000006,81.2,79.900000000000006,79.599999999999994,82.3,80.599999999999994,81.599999999999994,79.599999999999994,80.8,82.4,79.8,80.900000000000006,81.3,null,{"$f":"218.8/S118","v":96.302816901408463},null,null,{"$f":"394.3/V118","v":95.034948180284402},{"$f":"175.4/W118","v":91.88056574122578},null,null,{"$f":"390/Z118","v":91.981132075471692},{"$f":"387.1/AA118","v":92.057074910820461}]
[null,10,2008,81.5,81.099999999999994,81.3,80.3,79.8,82.6,80.8,82,79.7,81.099999999999994,82.5,80.099999999999994,81.2,81.599999999999994,null,{"$f":"219.6/S118","v":96.654929577464799},null,null,{"$f":"377.4/V118","v":90.961677512653651},{"$f":"175.4/W118","v":91.88056574122578},null,null,{"$f":"367.8/Z118","v":86.745283018867923},{"$f":"364.7/AA118","v":86.730083234244944}]
[null,11,2008,81.5,81.099999999999994,81.400000000000006,80.400000000000006,79.8,82.6,80.900000000000006,82,79.7,81.2,82.6,80,81.3,81.7,null,{"$f":"219.2/S118","v":96.478873239436624},null,null,{"$f":"336.8/V118","v":81.176187033020014},{"$f":"184.8/W118","v":96.804609743321109},null,null,{"$f":"358.2/Z118","v":84.481132075471692},{"$f":"355.1/AA118","v":84.447086801426877}]
[null,12,2008,81.400000000000006,80.7,81.3,80.2,79.8,82.7,80.8,82,79.599999999999994,80.8,82.5,79.7,81.099999999999994,81.3,null,{"$f":"216.6/S118","v":95.33450704225352},null,null,{"$f":"274.3/V118","v":66.112316220776094},{"$f":"184.8/W118","v":96.804609743321109},null,null,{"$f":"326.1/Z118","v":76.910377358490564},{"$f":"322.7/AA118","v":76.741973840665864}]
[null,1,2009,81.5,80.8,80.900000000000006,80.3,80.099999999999994,83.4,81.2,82.7,79.599999999999994,81.2,82.6,79.7,81.7,81.3,null,{"$f":"219.7/S118","v":96.698943661971839},null,null,{"$f":"286.5/V118","v":69.052783803326108},{"$f":"184.8/W118","v":96.804609743321109},null,null,{"$f":"259.4/Z118","v":61.179245283018858},{"$f":"255.5/AA118","v":60.760998810939356}]
[null,2,2009,82.2,81.8,82,81,80.900000000000006,84.1,82,83.4,80.900000000000006,82.3,83.7,80.8,82.9,82.8,null,{"$f":"215.7/S118","v":94.938380281690144},null,null,{"$f":"271.3/V118","v":65.38925042178839},{"$f":"193/W118","v":101.10005238344682},null,null,{"$f":"257.4/Z118","v":60.707547169811313},{"$f":"253.9/AA118","v":60.380499405469678}]
[null,3,2009,83.5,82.9,83.1,82.2,82,85,83.2,84.3,82.3,83.4,84.8,82.1,83.9,84,null,{"$f":"214.8/S118","v":94.542253521126767},null,null,{"$f":"253.5/V118","v":61.099060014461315},{"$f":"193/W118","v":101.10005238344682},null,null,{"$f":"242.4/Z118","v":57.169811320754718},{"$f":"238.3/AA118","v":56.670630202140309}]
[null,4,2009,83.8,83.3,83.5,82.5,82.5,85.4,83.6,84.7,82.5,83.9,85.3,82.5,84.3,84.1,null,{"$f":"213.3/S118","v":93.882042253521135},null,null,{"$f":"250.2/V118","v":60.303687635574832},{"$f":"193/W118","v":101.10005238344682},null,null,{"$f":"258.2/Z118","v":60.896226415094333},{"$f":"254.3/AA118","v":60.475624256837101}]
[null,5,2009,84.1,83.5,83.9,82.8,82.8,85.7,84,85.1,82.8,84.2,85.6,82.6,84.9,84.4,null,{"$f":"209/S118","v":91.989436619718319},null,null,{"$f":"251.1/V118","v":60.520607375271148},{"$f":"189.2/W118","v":99.109481403876373},null,null,{"$f":"261.4/Z118","v":61.65094339622641},{"$f":"257.5/AA118","v":61.236623067776456}]
[null,6,2009,84.5,83.6,84.2,83.1,83,85.7,84.2,85.2,83.1,84.3,86.2,82.9,85.4,84.9,null,{"$f":"208.9/S118","v":91.945422535211279},null,null,{"$f":"256.8/V118","v":61.894432393347799},{"$f":"189.2/W118","v":99.109481403876373},null,null,{"$f":"256.3/Z118","v":60.448113207547166},{"$f":"253.1/AA118","v":60.190249702734839}]
[null,7,2009,85.4,85.1,85.2,84.3,83.9,86.5,84.8,86,84.2,85.7,86.7,84.4,86.3,85.7,null,{"$f":"211.3/S118","v":93.001760563380302},null,null,{"$f":"266.2/V118","v":64.160038563509275},{"$f":"189.2/W118","v":99.109481403876373},null,null,{"$f":"272.1/Z118","v":64.174528301886795},{"$f":"269.1/AA118","v":63.995243757431631}]
[null,8,2009,85.7,85.4,85.3,84.7,84.1,86.6,84.9,86.2,84.5,85.9,87.2,84.6,86.8,85.8,null,{"$f":"210.1/S118","v":92.473591549295776},null,null,{"$f":"262.1/V118","v":63.171848638226081},{"$f":"190.9/W118","v":100},null,null,{"$f":"264.2/Z118","v":62.311320754716974},{"$f":"261.1/AA118","v":62.092746730083242}]
[null,9,2009,86.1,85.5,85.9,85,84.4,86.9,85.2,86.4,84.8,86.3,87.5,84.8,86.9,86.1,null,{"$f":"209.8/S118","v":92.341549295774655},null,null,{"$f":"272.6/V118","v":65.702578934683061},{"$f":"190.9/W118","v":100},null,null,{"$f":"277.7/Z118","v":65.495283018867923},{"$f":"274.7/AA118","v":65.326991676575503}]
[null,10,2009,86.2,85.5,85.8,85,84.3,86.8,85.2,86.3,84.7,86.2,87.5,84.7,86.9,86.2,null,{"$f":"209.5/S118","v":92.209507042253534},null,null,{"$f":"257.7/V118","v":62.111352133044107},{"$f":"190.9/W118","v":100},null,null,{"$f":"265/Z118","v":62.5},{"$f":"261.9/AA118","v":62.282996432818067}]
[null,11,2009,86.3,85.5,85.7,85,84.3,86.8,85.1,86.3,84.8,86.3,87.5,84.7,86.9,86.1,null,{"$f":"209.8/S118","v":92.341549295774655},null,null,{"$f":"262.2/V118","v":63.195950831525664},{"$f":"188.1/W118","v":98.53326348873756},null,null,{"$f":"268.9/Z118","v":63.419811320754711},{"$f":"265.9/AA118","v":63.234244946492268}]
[null,12,2009,86.9,85.7,86,85,84.5,87,85.2,86.6,85,86.6,87.2,85.1,87.2,86.3,null,{"$f":"209.8/S118","v":92.341549295774655},null,null,{"$f":"275.4/V118","v":66.377440347071584},{"$f":"188.1/W118","v":98.53326348873756},null,null,{"$f":"278.9/Z118","v":65.778301886792448},{"$f":"275.9/AA118","v":65.612366230677765}]
[null,1,2010,87.1,85.8,86.1,85.2,84.7,87.4,85.5,86.9,85.2,86.9,87.5,85.4,87.5,86.4,null,{"$f":"212.5/S118","v":93.529929577464799},null,null,{"$f":"269.1/V118","v":64.859002169197396},{"$f":"188.1/W118","v":98.53326348873756},null,null,{"$f":"273.3/Z118","v":64.45754716981132},{"$f":"270.3/AA118","v":64.280618311533885}]
[null,2,2010,87.4,86.5,86.7,85.4,85.3,87.7,85.9,87.3,86.2,87.5,88,85.9,88.1,87.1,null,{"$f":"213/S118","v":93.750000000000014},null,null,{"$f":"276.4/V118","v":66.618462280067476},{"$f":"188/W118","v":98.480880041906758},null,null,{"$f":"277.3/Z118","v":65.40094339622641},{"$f":"274.3/AA118","v":65.231866825208087}]
[null,3,2010,88.4,87.3,87.5,85.9,86,88.4,86.7,87.9,87,88.2,88.8,86.8,88.7,87.6,null,{"$f":"213/S118","v":93.750000000000014},null,null,{"$f":"280.4/V118","v":67.582550012051087},{"$f":"188.9/W118","v":98.952331063383966},null,null,{"$f":"278.9/Z118","v":65.778301886792448},{"$f":"275.9/AA118","v":65.612366230677765}]
[null,4,2010,88.7,87.4,87.8,86.3,86.4,88.5,86.6,88,87.2,88.4,89,86.9,88.8,87.6,null,{"$f":"212.8/S118","v":93.661971830985934},null,null,{"$f":"296.5/V118","v":71.463003133285127},{"$f":"188.9/W118","v":98.952331063383966},null,null,{"$f":"298.3/Z118","v":70.353773584905653},{"$f":"295.5/AA118","v":70.273483947681328}]
[null,5,2010,88.8,87.6,87.7,86.4,86.4,88.6,87,88.2,87.3,88.5,89.1,87,89,88,null,{"$f":"215.4/S118","v":94.806338028169023},null,null,{"$f":"304.4/V118","v":73.367076403952751},{"$f":"187.6/W118","v":98.271346254583548},null,null,{"$f":"309.8/Z118","v":73.066037735849051},{"$f":"306.7/AA118","v":72.936979785969086}]
[null,6,2010,88.7,87.8,87.8,86.1,86.5,88.6,87.1,88.2,87.4,88.7,89.2,86.8,89.1,88,null,{"$f":"216.7/S118","v":95.37852112676056},null,null,{"$f":"300.5/V118","v":72.427090865268738},{"$f":"187.4/W118","v":98.166579360921943},null,null,{"$f":"303.9/Z118","v":71.674528301886781},{"$f":"301.1/AA118","v":71.605231866825207}]
[null,7,2010,89.1,88.4,88.3,87.4,87.3,88.8,87.9,88.6,87.9,89.3,89.6,87.8,89.1,88.4,null,{"$f":"214.1/S118","v":94.234154929577471},null,null,{"$f":"296/V118","v":71.342492166787181},{"$f":"187.2/W118","v":98.061812467260339},null,null,{"$f":"297.9/Z118","v":70.25943396226414},{"$f":"295.1/AA118","v":70.178359096313912}]
[null,8,2010,89.1,88.4,88.3,87.4,87.4,88.8,88.1,88.7,87.9,89.2,89.8,87.7,89.8,88.5,null,{"$f":"212.6/S118","v":93.573943661971839},null,null,{"$f":"293.1/V118","v":70.64352856109906},{"$f":"186.7/W118","v":97.799895233106326},null,null,{"$f":"292.7/Z118","v":69.033018867924525},{"$f":"289.9/AA118","v":68.941736028537449}]
[null,9,2010,89.2,88.6,88.3,87.6,87.9,88.6,88.5,88.6,88.1,89.5,89.8,87.6,89.9,88.8,null,{"$f":"212.6/S118","v":93.573943661971839},null,null,{"$f":"290.6/V118","v":70.040973728609302},{"$f":"186.7/W118","v":97.799895233106326},null,null,{"$f":"292.7/Z118","v":69.033018867924525},{"$f":"289.9/AA118","v":68.941736028537449}]
[null,10,2010,89.3,88.7,88.5,87.8,88.1,88.8,88.5,88.8,88.2,89.6,90,87.9,90.4,89.2,null,{"$f":"213.7/S118","v":94.058098591549296},{"$f":"248.8/T118","v":86.089965397923876},{"$f":"264.6/U118","v":82.173913043478265},{"$f":"291.3/V118","v":70.209689081706443},{"$f":"186.8/W118","v":97.852278679937143},{"$f":"205.1/X118","v":93.397085610200349},{"$f":"189.4/Y118","v":95.08032128514057},{"$f":"291.6/Z118","v":68.773584905660385},{"$f":"288.7/AA118","v":68.656361474435187}]
[null,11,2010,89.4,88.9,88.5,87.8,88.1,88.9,88.6,89,88.3,89.8,90.1,88,90.2,89.4,null,{"$f":"212.9/S118","v":93.705985915492974},{"$f":"248.7/T118","v":86.055363321799305},{"$f":"264.7/U118","v":82.204968944099377},{"$f":"299/V118","v":72.065557965774886},{"$f":"187.5/W118","v":98.218962807752746},{"$f":"205.4/X118","v":93.533697632058278},{"$f":"190.1/Y118","v":95.431726907630519},{"$f":"301.5/Z118","v":71.10849056603773},{"$f":"298.7/AA118","v":71.034482758620683}]
[null,12,2010,89.6,89,88.7,87.8,88.3,89,88.8,89,88.3,89.9,90.3,88.4,90.2,89.4,null,{"$f":"213.1/S118","v":93.794014084507054},{"$f":"248.5/T118","v":85.986159169550163},{"$f":"266.2/U118","v":82.670807453416145},{"$f":"309.4/V118","v":74.572186068932268},{"$f":"185.8/W118","v":97.328444211629133},{"$f":"201.5/X118","v":91.757741347905281},{"$f":"189.2/Y118","v":94.97991967871485},{"$f":"301.5/Z118","v":71.10849056603773},{"$f":"298.7/AA118","v":71.034482758620683}]
[null,1,2011,90,89.5,89,88.5,88.9,89.4,89.3,89.5,88.9,90,90.6,88.9,90.8,90.1,null,{"$f":"215.4/S118","v":94.806338028169023},{"$f":"250.3/T118","v":86.608996539792386},{"$f":"266.7/U118","v":82.826086956521735},{"$f":"321/V118","v":77.368040491684738},{"$f":"184.2/W118","v":96.490309062336294},{"$f":"201.9/X118","v":91.939890710382514},{"$f":"189/Y118","v":94.879518072289159},{"$f":"311/Z118","v":73.349056603773576},{"$f":"307.9/AA118","v":73.222354340071334}]
[null,2,2011,90.7,90.2,89.7,89.1,89.5,90,89.9,90.1,90,90.5,91.2,89.4,91.4,90.7,null,{"$f":"215.9/S118","v":95.026408450704238},{"$f":"257.9/T118","v":89.238754325259507},{"$f":"272.2/U118","v":84.534161490683218},{"$f":"350.9/V118","v":84.574596288262228},{"$f":"186.6/W118","v":97.747511786275538},{"$f":"202.7/X118","v":92.304189435336966},{"$f":"190.4/Y118","v":95.582329317269085},{"$f":"322.9/Z118","v":76.155660377358487},{"$f":"319.9/AA118","v":76.076099881093924}]
[null,3,2011,91.8,91.3,90.6,90.2,90.7,90.9,90.7,91,91,91.6,92.1,90.7,92,92,null,{"$f":"217.4/S118","v":95.686619718309871},{"$f":"261.5/T118","v":90.484429065743939},{"$f":"283.1/U118","v":87.9192546583851},{"$f":"374.2/V118","v":90.190407327066765},{"$f":"187.3/W118","v":98.114195914091155},{"$f":"204/X118","v":92.896174863387969},{"$f":"191.3/Y118","v":96.03413654618474},{"$f":"348.3/Z118","v":82.146226415094333},{"$f":"345.5/AA118","v":82.164090368608797}]
[null,4,2011,92.1,91.5,90.9,90.5,91.1,91.3,91.2,91.3,91.3,92,92.3,91.1,92.2,92.2,null,{"$f":"216/S118","v":95.070422535211279},{"$f":"261.6/T118","v":90.51903114186851},{"$f":"292.7/U118","v":90.90062111801241},{"$f":"396.8/V118","v":95.637503012774161},{"$f":"187.5/W118","v":98.218962807752746},{"$f":"204/X118","v":92.896174863387969},{"$f":"191.8/Y118","v":96.285140562248998},{"$f":"376.1/Z118","v":88.702830188679243},{"$f":"371.1/AA118","v":88.252080856123669}]
[null,5,2011,92.6,91.9,91.3,90.8,91.4,91.8,91.5,91.7,91.7,92.4,92.8,91.5,92.7,92.7,null,{"$f":"215.7/S118","v":94.938380281690144},{"$f":"261.3/T118","v":90.415224913494811},{"$f":"294/U118","v":91.304347826086953},{"$f":"392.3/V118","v":94.552904314292604},{"$f":"187.5/W118","v":98.218962807752746},{"$f":"205.5/X118","v":93.579234972677583},{"$f":"193.3/Y118","v":97.03815261044177},{"$f":"382.4/Z118","v":90.188679245283012},{"$f":"377.5/AA118","v":89.77407847800238}]
[null,6,2011,92.9,92.1,91.9,91,91.7,92.3,92.1,92.2,92,92.7,93.2,92.2,92.8,93,null,{"$f":"216.1/S118","v":95.114436619718319},{"$f":"265.2/T118","v":91.764705882352928},{"$f":"294.4/U118","v":91.428571428571416},{"$f":"380.9/V118","v":91.805254278139302},{"$f":"188.8/W118","v":98.899947616553177},{"$f":"205.5/X118","v":93.579234972677583},{"$f":"194/Y118","v":97.389558232931734},{"$f":"367.3/Z118","v":86.627358490566039},{"$f":"362.3/AA118","v":86.159334126040434}]
[null,7,2011,93.5,93.1,92.6,92.9,93,93,92.9,93,92.8,93.4,94,93,93.7,93.4,null,{"$f":"219/S118","v":96.390845070422543},{"$f":"267.7/T118","v":92.62975778546712},{"$f":"296.2/U118","v":91.987577639751549},{"$f":"378.3/V118","v":91.178597252349959},{"$f":"189.2/W118","v":99.109481403876373},{"$f":"210.1/X118","v":95.673952641165741},{"$f":"193.9/Y118","v":97.339357429718874},{"$f":"363/Z118","v":85.613207547169807},{"$f":"357.9/AA118","v":85.112960760998803}]
[null,8,2011,93.7,93.2,92.8,93.3,93.3,93.3,93,93.2,93,93.6,94.1,93.2,93.8,93.8,null,{"$f":"219.7/S118","v":96.698943661971839},{"$f":"268.8/T118","v":93.010380622837374},{"$f":"296.9/U118","v":92.204968944099363},{"$f":"377.7/V118","v":91.033984092552416},{"$f":"189.3/W118","v":99.161864850707175},{"$f":"214.1/X118","v":97.495446265938057},{"$f":"194.3/Y118","v":97.540160642570285},{"$f":"368.9/Z118","v":87.004716981132063},{"$f":"363.9/AA118","v":86.539833531510098}]
[null,9,2011,94.1,93.6,93.1,93.6,93.7,93.5,93.2,93.5,93.3,93.9,94.1,93.5,94.3,94.1,null,{"$f":"220.2/S118","v":96.91901408450704},{"$f":"272.6/T118","v":94.325259515570934},{"$f":"294.9/U118","v":91.583850931677006},{"$f":"377.7/V118","v":91.033984092552416},{"$f":"189.1/W118","v":99.057097957045571},{"$f":"213.8/X118","v":97.358834244080143},{"$f":"194.3/Y118","v":97.540160642570285},{"$f":"368.9/Z118","v":87.004716981132063},{"$f":"363.9/AA118","v":86.539833531510098}]
[null,10,2011,94.5,94.1,93.7,94.3,94.3,94.2,93.8,94.1,93.7,94.4,94.7,94.1,94.8,94.7,null,{"$f":"221.6/S118","v":97.535211267605646},{"$f":"276.9/T118","v":95.813148788927322},{"$f":"296.3/U118","v":92.018633540372676},{"$f":"392.4/V118","v":94.577006507592188},{"$f":"187.6/W118","v":98.271346254583548},{"$f":"213.2/X118","v":97.085610200364286},{"$f":"193.9/Y118","v":97.339357429718874},{"$f":"382.8/Z118","v":90.283018867924525},{"$f":"377.9/AA118","v":89.869203329369796}]
[null,11,2011,94.6,94.4,93.9,94.7,94.5,94.6,94.2,94.4,94,94.7,94.8,94.4,94.9,94.8,null,{"$f":"223.2/S118","v":98.239436619718319},{"$f":"286.2/T118","v":99.031141868512108},{"$f":"303.7/U118","v":94.31677018633539},{"$f":"413.1/V118","v":99.566160520607383},{"$f":"187.7/W118","v":98.323729701414351},{"$f":"213.4/X118","v":97.17668488160291},{"$f":"194.3/Y118","v":97.540160642570285},{"$f":"397.1/Z118","v":93.655660377358487},{"$f":"392.3/AA118","v":93.29369797859691}]
[null,12,2011,94.8,94.6,94.1,94.9,94.9,94.8,94.3,94.8,94.2,94.9,94.9,94.5,95.2,95.1,null,{"$f":"223.6/S118","v":98.41549295774648},{"$f":"286.5/T118","v":99.134948096885807},{"$f":"311.1/U118","v":96.614906832298132},{"$f":"419.9/V118","v":101.2051096649795},{"$f":"188.4/W118","v":98.690413829229968},{"$f":"213.7/X118","v":97.313296903460824},{"$f":"195.1/Y118","v":97.941767068273094},{"$f":"409.4/Z118","v":96.556603773584897},{"$f":"411.1/AA118","v":97.764565992865641}]
[null,1,2012,95.2,95,94.2,95.6,95.4,95,94.9,95,94.6,95.6,95.5,95.1,95.9,95.5,null,{"$f":"224.5/S118","v":98.811619718309871},{"$f":"287.7/T118","v":99.550173010380618},{"$f":"312/U118","v":96.894409937888199},{"$f":"409.3/V118","v":98.650277175222953},{"$f":"188.6/W118","v":98.795180722891558},{"$f":"213.7/X118","v":97.313296903460824},{"$f":"194.9/Y118","v":97.841365461847388},{"$f":"407.4/Z118","v":96.084905660377345},{"$f":"402.7/AA118","v":95.766944114149823}]
[null,2,2012,95.6,95.4,95,96.1,96.1,95.5,95.5,95.6,95.6,96.1,96.1,95.7,96.5,96.1,null,{"$f":"226.6/S118","v":99.735915492957758},{"$f":"290.5/T118","v":100.51903114186851},{"$f":"318/U118","v":98.757763975155271},{"$f":"409/V118","v":98.577970595324174},{"$f":"189.4/W118","v":99.214248297537978},{"$f":"214.7/X118","v":97.768670309653899},{"$f":"195.3/Y118","v":98.0421686746988},{"$f":"407.4/Z118","v":96.084905660377345},{"$f":"402.3/AA118","v":95.671819262782407}]
[null,3,2012,96.7,96.5,96.7,96.9,97.1,96.6,96.3,96.7,97,97.2,97,96.5,97.2,97,null,{"$f":"228.2/S118","v":100.44014084507043},{"$f":"290.5/T118","v":100.51903114186851},{"$f":"317.3/U118","v":98.540372670807457},{"$f":"414.2/V118","v":99.831284646902859},{"$f":"188.2/W118","v":98.585646935568349},{"$f":"214.4/X118","v":97.632058287795985},{"$f":"194.8/Y118","v":97.791164658634543},{"$f":"411.4/Z118","v":97.028301886792448},{"$f":"406.7/AA118","v":96.71819262782401}]
[null,4,2012,97.1,96.9,97.2,97.1,97.5,97.1,96.6,97.1,97.3,97.6,97.4,96.9,97.7,97.4,null,{"$f":"227.9/S118","v":100.30809859154931},{"$f":"290.4/T118","v":100.48442906574394},{"$f":"317.1/U118","v":98.478260869565219},{"$f":"422.2/V118","v":101.75946011087008},{"$f":"188.6/W118","v":98.795180722891558},{"$f":"218/X118","v":99.271402550091068},{"$f":"198.6/Y118","v":99.698795180722882},{"$f":"431.6/Z118","v":101.79245283018868},{"$f":"425.5/AA118","v":101.18906064209274}]
[null,5,2012,97.3,97.1,97.4,97.1,97.4,97.2,96.9,97.2,97.4,97.7,97.4,97,97.6,97.4,null,{"$f":"226.9/S118","v":99.867957746478879},{"$f":"288.9/T118","v":99.965397923875415},{"$f":"323/U118","v":100.31055900621118},{"$f":"426.6/V118","v":102.81995661605207},{"$f":"190.3/W118","v":99.6856993190152},{"$f":"218.8/X118","v":99.635701275045534},{"$f":"199.4/Y118","v":100.10040160642571},{"$f":"435.6/Z118","v":102.73584905660377},{"$f":"429.5/AA118","v":102.14030915576694}]
[null,6,2012,97.5,97.5,97.6,97.1,97.4,97.4,97.6,97.4,97.4,97.6,97.9,97.4,97.8,97.2,null,{"$f":"226.8/S118","v":99.823943661971839},{"$f":"289.1/T118","v":100.03460207612457},{"$f":"324/U118","v":100.62111801242236},{"$f":"410.3/V118","v":98.891299108218846},{"$f":"190.8/W118","v":99.947616553169198},{"$f":"219.1/X118","v":99.772313296903448},{"$f":"199.9/Y118","v":100.35140562248996},{"$f":"425.7/Z118","v":100.40094339622641},{"$f":"421.1/AA118","v":100.14268727705114}]
[null,7,2012,97.9,98,97.9,98.1,97.7,97.6,97.9,97.8,97.7,98,98.2,97.7,98.3,97.7,null,{"$f":"227.1/S118","v":99.95598591549296},{"$f":"289.9/T118","v":100.3114186851211},{"$f":"325.3/U118","v":101.02484472049689},{"$f":"378.6/V118","v":91.250903832248738},{"$f":"191/W118","v":100.0523834468308},{"$f":"220.2/X118","v":100.27322404371583},{"$f":"200/Y118","v":100.40160642570281},{"$f":"401.1/Z118","v":94.59905660377359},{"$f":"394.3/AA118","v":93.769322235434004}]
[null,8,2012,98,98.2,98,98.3,98,97.8,98,97.9,98,98.2,98.4,98,98.3,97.9,null,{"$f":"227.9/S118","v":100.30809859154931},{"$f":"290/T118","v":100.34602076124567},{"$f":"324.2/U118","v":100.68322981366458},{"$f":"388/V118","v":93.516510002410214},{"$f":"191.5/W118","v":100.3143006809848},{"$f":"219.1/X118","v":99.772313296903448},{"$f":"200.5/Y118","v":100.65261044176707},{"$f":"406.6/Z118","v":95.896226415094347},{"$f":"399.9/AA118","v":95.101070154577883}]
[null,9,2012,98.9,98.8,98.8,99.2,98.8,98.7,98.9,98.8,99.1,99,99.1,98.8,99.2,99,null,{"$f":"227.5/S118","v":100.13204225352113},{"$f":"289.8/T118","v":100.27681660899654},{"$f":"323.5/U118","v":100.46583850931677},{"$f":"412.7/V118","v":99.469751747409006},{"$f":"192.5/W118","v":100.83813514929282},{"$f":"223.2/X118","v":101.63934426229507},{"$f":"200.6/Y118","v":100.70281124497991},{"$f":"434/Z118","v":102.35849056603773},{"$f":"427.5/AA118","v":101.66468489892985}]
[null,10,2012,99.4,99.4,99.4,99.7,99.5,99.4,99.5,99.4,99.7,99.6,99.7,99.6,99.6,99.6,null,{"$f":"226.8/S118","v":99.823943661971839},{"$f":"285.9/T118","v":98.927335640138395},{"$f":"324/U118","v":100.62111801242236},{"$f":"433/V118","v":104.36249698722584},{"$f":"192.5/W118","v":100.83813514929282},{"$f":"224.1/X118","v":102.04918032786884},{"$f":"201.4/Y118","v":101.10441767068274},{"$f":"436.4/Z118","v":102.92452830188678},{"$f":"443.5/AA118","v":105.46967895362663}]
[null,11,2012,99.6,99.8,99.6,100,99.8,99.6,99.7,99.7,99.8,99.8,99.9,99.8,99.8,99.8,null,{"$f":"227.5/S118","v":100.13204225352113},{"$f":"285.9/T118","v":98.927335640138395},{"$f":"326.4/U118","v":101.36645962732918},{"$f":"439.3/V118","v":105.88093516510003},{"$f":"193.2/W118","v":101.20481927710843},{"$f":"225.1/X118","v":102.50455373406191},{"$f":"202.1/Y118","v":101.45582329317268},{"$f":"446.3/Z118","v":105.25943396226415},{"$f":"447.5/AA118","v":106.42092746730083},null,null,null,null,null,null,null,null,null,null,"Whole Sale Total",null,null,null,"Whole Sale Inland",null,null,null,"Whole Sale Coastal"]
[null,12,2012,100,100,100,100,100,100,100,100,100,100,100,100,100,100,null,{"$f":"228.2/S118","v":100.44014084507043},{"$f":"289/T118","v":100},{"$f":"329.3/U118","v":102.26708074534162},{"$f":"435.9/V118","v":105.06146059291395},{"$f":"193.7/W118","v":101.46673651126244},{"$f":"225.3/X118","v":102.59562841530054},{"$f":"202.6/Y118","v":101.70682730923694},{"$f":"444.4/Z118","v":104.81132075471697},{"$f":"445.5/AA118","v":105.94530321046373},null,"Conversion   ^",null,null,null,null,null,null,null,null,"Month","Old","New",null,"Month","Old","New",null,"Month","Old","New"]
[null,1,2013,100.2,100.1,100.3,100.5,100.4,100.1,100.5,100.1,100.2,100.3,100.4,100.4,100.4,100.5,null,101.8,103.2,104.4,103,102.3,103.1,102.4,102.2,103.4,null,"New indices V"]
[null,2,2013,100.8,101.2,101.3,100.9,101.2,101.2,102,101.3,101.2,101.7,101.8,101.5,101.4,101.3,null,102.2,104.8,105.1,104.3,102.5,103.1,102.4,103.9,105]
[null,3,2013,102.2,102,102.4,101.8,102.4,102.8,102.9,102.6,102.4,103.2,103,102.6,102.1,102.8,null,103.1,104.5,104.9,108.6,103.6,103.5,103.6,109.3,110.6]
[null,4,2013,102.5,102.2,102.8,102.1,102.7,102.9,103,102.9,102.6,103.6,103.3,102.9,102.3,103,null,103.9,106.3,105.6,104.7,103.7,103.6,103.6,104.3,105.3]
[null,5,2013,102.2,102.1,102.5,101.8,102.6,102.5,102.5,102.5,102.5,103.3,102.9,102.5,102.1,103,null,104.2,107.2,107.1,101.5,104.5,104.2,103.9,103.9,104.9]
[null,6,2013,102.5,102.5,102.9,101.9,103.3,102.9,102.7,102.8,102.7,103.8,103.4,102.9,102.3,103.4,null,104.9,107.3,108.3,103.2,105.4,104.6,104.7,111,112.4]
[null,7,2013,103.4,103.4,104.9,103.3,104.3,104.2,104,104.1,103.8,105,104.3,104,103.2,104.3,null,105.4,107.3,109.4,106.4,107.1,106.9,106.1,114.1,115.5]
[null,8,2013,103.7,103.7,105,103.7,104.6,104.6,104.4,104.5,104.1,105.2,104.6,104.3,103.4,104.7,null,105.6,107.1,109.1,109.8,108.1,107.4,106.6,115.3,116.7]
[null,9,2013,104.6,104.1,105.6,104.3,105.3,105,105.1,104.8,104.6,105.7,104.8,104.9,104,105.3,null,105.1,107.1,108.4,111.5,108.6,107.6,107,115.2,116.6]
[null,10,2013,104.9,104.3,105.7,104.5,105.7,105,105.3,104.9,105,105.9,105.1,105,104.2,105.4,null,105.2,107.2,108.5,110.7,109.5,108.2,107.6,113.8,115.1]
[null,11,2013,104.9,104.5,105.7,104.8,105.9,104.9,105.6,104.9,104.9,105.8,105,105.1,104.2,105.6,null,105.1,107.1,107.8,110.4,109.9,108.6,108.1,114.7,116.1]
[null,12,2013,105,104.9,106.2,105.2,106.2,105.2,105.9,105.3,105.5,106.3,105.5,105.3,104.5,105.9,null,105.1,107,108,112.7,110.1,108.7,108.4,114.7,116.1]
[null,1,2014,105.9,105.4,106.6,105.9,106.8,105.9,106.6,106,106.2,107,106.2,106,105.2,106.9,null,105.9,108.1,109.1,116,110.7,108.8,108.4,117.6,119.1]
[null,2,2014,106.7,106.6,108.2,106.7,107.8,107,108.2,107.2,107.3,108.4,107.7,107.4,106.3,107.8,null,106,111.3,112.8,119.1,112.3,115.8,109,120.1,121.7]
[null,3,2014,108.2,108.1,109.3,108,109.2,108.6,109.5,108.8,108.6,110,109,108.8,107.3,109,null,107.1,112.1,114.3,118.9,112.1,116.2,109.5,122.6,124.3]
[null,4,2014,108.6,108.5,109.4,108.4,109.7,109.1,109.9,109.4,109.1,110.6,109.5,109.2,107.8,109.4,null,107.5,112.6,114.2,116.4,112.9,117.5,111.4,121.7,123.2]
[null,5,2014,108.9,108.8,109.6,108.8,109.9,109.4,110.3,109.6,109.3,110.7,109.6,109.3,108.2,109.8,null,107.7,112.4,113.6,114.5,113.4,117.7,111.8,119,120.3]
[null,6,2014,109.2,109.4,110.1,109.2,110.2,109.5,110.2,109.9,109.9,111.2,110,109.5,108.7,109.8,null,108,112.4,114.1,114,113.6,116.7,110.9,116.9,118]
[null,7,2014,110.1,110.5,111.3,111.2,110.8,110.9,110.7,111,110.5,112.1,110.6,110.5,109.1,110.6,null,108,112,115.1,113.6,113.7,116.3,110.6,118.2,119.4]
[null,8,2014,110.5,110.8,111.5,111.4,111.2,111,111.2,111.2,111,112.4,111,110.9,109.7,111,null,108,112,114,112.2,113.9,117.2,110.7,117.6,118.9]
[null,9,2014,110.9,110.6,111.4,111.3,111.2,110.9,111,111.1,110.8,112.3,111,110.7,109.7,111,null,108.7,113.2,114.1,110.6,113.9,117.2,110.6,115.3,116.4]
[null,10,2014,111.3,110.8,111.6,111.4,111.5,111,111.3,111.2,110.8,112.5,111.2,110.8,110,111,null,108.8,113.2,114.4,104.2,113.3,117.1,109.4,114.2,115.2]
[null,11,2014,111.4,111,111.6,111.3,111.6,110.8,111.3,111.1,110.9,112.4,111.1,111,110.1,110.9,null,108.5,114,113.7,97.9,113.6,117.1,109.4,106.4,109.4]
[null,12,2014,111.3,110.9,111.3,111,111.3,110.5,111.1,110.8,110.5,112.3,110.8,110.6,109.7,110.6,null,108.1,114,110.5,89.3,113.6,117.1,109.4,101.3,104.4]
[null,1,2015,111.2,110.8,111.1,111,111.5,110,110.9,110.5,110.6,112,110.7,110.2,109.9,110.6,null,106.1,111.3,107.2,78.5,114.8,118,110.1,94.6,97.5]
[null,2,2015,111.6,111.5,112.1,111.5,112.2,110.5,112.1,111.1,111.21,112.7,111.9,111.1,110.6,111.2,null,105.5,111.9,102.4,72.599999999999994,115.4,118.2,110.5,85.2,87.5]
[null,3,2015,113.3,112.7,113.5,112.9,113.9,112.2,113.5,112.7,112.5,114.5,113.5,112.6,111.7,112.7,null,105.2,111.3,104.3,79.900000000000006,115.5,118.2,110.5,92,94.7]
[null,4,2015,114.2,113.7,114.5,114,115,113.4,114.4,113.8,113.8,115.6,114.4,113.8,112.8,113.9,null,102.2,107.4,102.6,84,115.7,116.3,108.8,103.3,106.5]
[null,5,2015,114.4,113.8,114.8,114.2,115.3,113.7,114.6,114,114,116,114.7,114.1,113,114,null,100.7,105.6,101.8,85,115.9,116.3,108.7,102.8,106.7,null,"fjo checked"]
[null,6,2015,114.8,114.3,115.4,115,115.8,114,114.9,114.5,114.3,116.5,115.1,114.7,113.8,114.7,null,100.9,105.3,103,88.1,115.9,116.6,108.4,107.6,114,null,"fjo checked"]
[null,7,2015,115.9,115.5,117.2,116.3,116.8,115.7,116.2,116,115.4,117.8,116.1,116,114.5,115.6,null,100.7,105.4,101.3,87.3,116.1,117.2,107.8,108,114.4,null,"fjo checked"]
[null,8,2015,115.9,115.6,117.3,116.3,116.9,115.5,116.3,115.9,115.6,117.8,116.2,116,114.6,115.7,null,101.1,106,101.2,81.8,116.3,117.8,108.1,101,106.8,null,"fjo checked"]
[null,9,2015,116.4,115.7,117.3,116.4,116.8,115.3,116.2,115.9,115.3,117.8,116.3,115.8,114.4,115.9,null,100.6,105.7,98.1,78.8,117.4,118.3,108.9,96,101.4,null,"fjo checked"]
[null,10,2015,116.8,116,117.5,116.6,116.9,115.6,116.4,116.1,115.4,118,116.7,116,114.4,116,null,100.9,105.7,95.6,82.8,119.3,119.5,109.7,101.5,106.7,null,"fjo checked"]
[null,11,2015,117,116.1,117.4,116.6,117.1,115.4,116.5,116,115.6,118,116.8,116.1,114.8,116.2,null,100.9,105.6,95.9,82.1,119.4,120.2,110.1,100.6,105.8,null,"fjo checked"]
[null,12,2015,117.4,116.3,117.7,117.2,117.7,115.7,117,116.3,116.1,118.4,117.2,116.4,115.1,116.7,null,100.6,106,97.6,81.900000000000006,119.4,120.3,110.2,100.4,105.4,null,"fjo checked"]
[null,1,2016,118.1,117.2,118.4,117.7,119.1,116.1,117.7,117,117,119.3,118.1,117.5,116.5,117.6,null,103.4,108.3,96.8,75.8,125.4,124.3,113.5,93.4,97.8,null,"fjo checked"]
[null,2,2016,119.4,119.1,120.3,118.9,120.7,117.6,119.7,118.6,118.4,120.9,119.9,119,118.2,119,null,105.6,111.4,97.2,71,125.9,123.9,114.1,87.6,91.5,null,"fjo checked"]
[null,3,2016,{"$f":"'Table A Indices 2012=100'!D114","v":120.4},{"$f":"'Table A Indices 2012=100'!E114","v":120.1},{"$f":"'Table A Indices 2012=100'!F114","v":121.2},{"$f":"'Table A Indices 2012=100'!G114","v":119.7},{"$f":"'Table A Indices 2012=100'!H114","v":121.7},{"$f":"'Table A Indices 2012=100'!I114","v":118.5},{"$f":"'Table A Indices 2012=100'!J114","v":120.5},{"$f":"'Table A Indices 2012=100'!K114","v":119.5},{"$f":"'Table A Indices 2012=100'!L114","v":119},{"$f":"'Table A Indices 2012=100'!M114","v":121.6},{"$f":"'Table A Indices 2012=100'!N114","v":120.8},{"$f":"'Table A Indices 2012=100'!O114","v":119.8},{"$f":"'Table A Indices 2012=100'!P114","v":119},{"$f":"'Table A Indices 2012=100'!Q114","v":120.1},null,{"$f":"'Table A Indices 2012=100'!S114","v":105.8},{"$f":"'Table A Indices 2012=100'!T114","v":109.9},{"$f":"'Table A Indices 2012=100'!U114","v":95.6},"Discontinued",{"$f":"'Table A Indices 2012=100'!W114","v":127.2},{"$f":"'Table A Indices 2012=100'!X114","v":125.2},{"$f":"'Table A Indices 2012=100'!Y114","v":115.3},"Discontinued","Discontinued",null,"fjo checked"]
[]
[null,null,null,"DUE TO THE REVISON OF THE DIESEL INDICES THIS OLD TABLE A DISCONTINUED",null,null,null,null,null,null,null,null,null,null,null,null,null,null,"DUE TO THE REVISON OF THE DIESEL INDICES THIS OLD TABLE A DISCONTINUED",null,null,null,null,null,null,null,null,null,null,null,null,null,null,null,null,null,null,"2014-02-01",{"$f":"AM88/$AM$87-1","v":{"$error":"#DIV/0!"}},{"$f":"AN88/$AN$87-1","v":{"$error":"#DIV/0!"}}]
[null,null,null,null,null,null,null,null,null,null,null,null,null,null,null,null,null,null,null,null,null,null,null,null,null,null,null,null,null,null,null,null,null,null,null,null,null,"2014-09-01",{"$f":"AM95/$AM$87-1","v":{"$error":"#DIV/0!"}},{"$f":"AN95/$AN$87-1","v":{"$error":"#DIV/0!"}},null,null,{"$f":"AQ95/$AQ$88-1","v":{"$error":"#DIV/0!"}},{"$f":"AR95/$AR$88-1","v":{"$error":"#DIV/0!"}},null,null,{"$f":"AU95/$AU$88-1","v":{"$error":"#DIV/0!"}},{"$f":"AV95/$AV$88-1","v":{"$error":"#DIV/0!"}}]
[null,null,null,null,null,null,null,null,null,null,null,null,null,null,null,null,null,null,null,null,null,null,null,null,null,null,null,null,null,null,null,null,null,null,null,null,null,"2014-10-01",{"$error":"#DIV/0!"},{"$error":"#DIV/0!"},null,null,{"$error":"#DIV/0!"},{"$error":"#DIV/0!"},null,null,{"$error":"#DIV/0!"},{"$error":"#DIV/0!"}]
[null,null,null,null,null,null,null,null,null,null,null,null,null,null,null,null,null,null,null,null,null,null,null,null,null,null,null,null,null,null,null,null,null,null,null,null,null,"2014-11-01",{"$error":"#DIV/0!"},{"$error":"#DIV/0!"},null,null,{"$error":"#DIV/0!"},{"$error":"#DIV/0!"},null,null,{"$error":"#DIV/0!"},{"$error":"#DIV/0!"}]
[null,null,null,0.79176563740000006,0.78616352199999995,0.78802206460000002,0.77519379840000002,0.77579519009999998,0.8006405124,0.78554595439999997,0.79491255959999996,0.77279752700000004,0.78864353310000002,0.80385852089999998,0.78247261349999997,0.78740157479999995,0.79744816590000001,null,2.2719999999999998,2.89,3.22,4.149,1.909,2.1960000000000002,1.992,4.24,4.2050000000000001,null,null,null,null,null,null,null,null,null,null,"2014-12-01",{"$error":"#DIV/0!"},{"$error":"#DIV/0!"},null,null,{"$error":"#DIV/0!"},{"$error":"#DIV/0!"},null,null,{"$error":"#DIV/0!"},{"$error":"#DIV/0!"}]
[null,null,null,null,null,null,null,null,null,null,null,null,null,null,null,null,null,null,null,null,null,null,null,null,null,null,null,null,null,null,null,null,null,null,null,null,null,"2015-01-01",{"$error":"#DIV/0!"},{"$error":"#DIV/0!"},null,null,{"$error":"#DIV/0!"},{"$error":"#DIV/0!"},null,null,{"$error":"#DIV/0!"},{"$error":"#DIV/0!"}]
[null,null,null,null,null,null,null,null,null,null,null,null,null,null,null,null,null,null,null,null,null,null,null,null,null,null,null,null,null,null,null,null,null,null,null,null,null,"2015-02-01",{"$error":"#DIV/0!"},{"$error":"#DIV/0!"},null,null,{"$error":"#DIV/0!"},{"$error":"#DIV/0!"},null,null,{"$error":"#DIV/0!"},{"$error":"#DIV/0!"}]
[null,null,null,null,null,null,null,null,null,null,null,null,null,null,null,null,null,null,null,null,null,null,null,null,null,null,null,null,null,null,null,null,null,null,null,null,null,"2015-03-01",{"$error":"#DIV/0!"},{"$error":"#DIV/0!"},null,null,{"$error":"#DIV/0!"},{"$error":"#DIV/0!"},null,null,{"$error":"#DIV/0!"},{"$error":"#DIV/0!"}]
[null,null,null,null,null,null,null,null,null,null,null,null,null,null,null,null,null,null,null,null,null,null,null,null,null,null,null,null,null,null,null,null,null,null,null,null,null,"2015-04-01",{"$error":"#DIV/0!"},{"$error":"#DIV/0!"},null,null,{"$error":"#DIV/0!"},{"$error":"#DIV/0!"},null,null,{"$error":"#DIV/0!"},{"$error":"#DIV/0!"}]
[null,null,null,null,null,null,null,null,null,null,null,null,null,null,null,null,null,null,null,null,null,null,null,null,null,null,null,null,null,null,null,null,null,null,null,null,null,"2015-05-01",{"$error":"#DIV/0!"},{"$error":"#DIV/0!"},null,null,{"$error":"#DIV/0!"},{"$error":"#DIV/0!"},null,null,{"$error":"#DIV/0!"},{"$error":"#DIV/0!"}]
[null,null,null,null,null,null,null,null,null,null,null,null,null,null,null,null,null,null,null,null,null,null,null,null,null,null,null,null,null,null,null,null,null,null,null,null,null,"2015-06-01",{"$error":"#DIV/0!"},{"$error":"#DIV/0!"},null,null,{"$error":"#DIV/0!"},{"$error":"#DIV/0!"},null,null,{"$error":"#DIV/0!"},{"$error":"#DIV/0!"}]
[null,null,null,null,null,null,null,null,null,null,null,null,null,null,null,null,null,null,null,null,null,null,null,null,null,null,null,null,null,null,null,null,null,null,null,null,null,"2015-07-01",{"$error":"#DIV/0!"},{"$error":"#DIV/0!"},null,null,{"$error":"#DIV/0!"},{"$error":"#DIV/0!"},null,null,{"$error":"#DIV/0!"},{"$error":"#DIV/0!"}]
[null,null,null,null,null,null,null,null,null,null,null,null,null,null,null,null,null,null,null,null,null,null,null,null,null,null,null,null,null,null,null,null,null,null,null,null,null,"2015-08-01",{"$error":"#DIV/0!"},{"$error":"#DIV/0!"},null,null,{"$error":"#DIV/0!"},{"$error":"#DIV/0!"},null,null,{"$error":"#DIV/0!"},{"$error":"#DIV/0!"}]
[null,null,null,null,null,null,null,null,null,null,null,null,null,null,null,null,null,null,null,null,null,null,null,null,null,null,null,null,null,null,null,null,null,null,null,null,null,"2015-09-01",{"$error":"#DIV/0!"},{"$error":"#DIV/0!"},null,null,{"$error":"#DIV/0!"},{"$error":"#DIV/0!"},null,null,{"$error":"#DIV/0!"},{"$error":"#DIV/0!"}]
[null,null,null,null,null,null,null,null,null,null,null,null,null,null,null,null,null,null,null,null,null,null,null,null,null,null,null,null,null,null,null,null,null,null,null,null,null,"2015-10-01",{"$error":"#DIV/0!"},{"$error":"#DIV/0!"},null,null,{"$error":"#DIV/0!"},{"$error":"#DIV/0!"},null,null,{"$error":"#DIV/0!"},{"$error":"#DIV/0!"}]
[null,null,null,null,null,null,null,null,null,null,null,null,null,null,null,null,null,null,null,null,null,null,null,null,null,null,null,null,null,null,null,null,null,null,null,null,null,"2015-11-01",{"$error":"#DIV/0!"},{"$error":"#DIV/0!"},null,null,{"$error":"#DIV/0!"},{"$error":"#DIV/0!"},null,null,{"$error":"#DIV/0!"},{"$error":"#DIV/0!"}]
[null,null,null,null,null,null,null,null,null,null,null,null,null,null,null,null,null,null,null,null,null,null,null,null,null,null,null,null,null,null,null,null,null,null,null,null,null,"2015-12-01",{"$error":"#DIV/0!"},{"$error":"#DIV/0!"},null,null,{"$error":"#DIV/0!"},{"$error":"#DIV/0!"},null,null,{"$error":"#DIV/0!"},{"$error":"#DIV/0!"}]
[null,null,null,null,null,null,null,null,null,null,null,null,null,null,null,null,null,null,null,null,null,null,null,null,null,null,null,null,null,null,null,null,null,null,null,null,null,{"$f":"AL130+31","v":"2016-01-01"},{"$error":"#DIV/0!"},{"$error":"#DIV/0!"},null,null,{"$error":"#DIV/0!"},{"$error":"#DIV/0!"},null,null,{"$error":"#DIV/0!"},{"$error":"#DIV/0!"}]
[null,null,null,null,null,null,null,null,null,null,null,null,null,null,null,null,null,null,null,null,null,null,null,null,null,null,null,null,null,null,null,null,null,null,null,null,null,{"$f":"AL131+31","v":"2016-02-01"}]

{"sheet":"Discontinued - TABLE B","index":6,"n_rows":125,"n_cols":27,"rows_kept":125,"cut":false,"hidden":false,"merged":[[124,2,124,26],[4,6,4,8],[4,21,4,26],[116,2,116,16],[116,18,116,26],[123,2,123,26]]}
[null,null,"TABLE B - Indices 2008 = 100"]
[]
[null,null,"Refer to P0141 - Consumer Price Index (CPI): Additional Tables: Table 14 - Indices and percentage changes according to area",null,null,null,null,null,null,null,null,null,null,null,null,null,null,null,null,"Refer to P0142.1 - Producer Price Index (PPI): Table 11 and Table 12"]
[]
["2008=100",null,"Western Cape","          Eastern Cape",null,"Northern Cape","               KwaZulu Natal",null,null,null,"Gauteng",null,"North West","                   Free State",null,"Mpumalanga","Limpopo",null,"2008 = 100",null,null,"OLD DIESEL INDICES APPLICABLE UPTO FEB '16"]
[null,null," Cape Peninsula/","Port Elizabeth/","East London","Kimberly","Pietermaritzburg","Durban/","All Urban","Pretoria/","Witwatersrand/","Witwatersrand/","North West","FS Goldfields","Bloemfomtein","Nelspruit/","Polokwane",null,"Table 11","Table 12","Table 12","Table 12","Table 12","Table 12","Table 12","       Fuel Wholesale"]
[null,null,"City of Cape Town","Utenhage",null,null,null,"Pinetown","Areas","Centurion/","City of Johannesburg","Ekurhuleni","(Province)",null,null,"Witbank","(Pietersburg)",null,"Civil Engineering","Concrete Work","Roads & E/Works","Diesel","Civil Engineering","Concrete Work","Roads & E/Works","Table 12","Table 12"]
[null,null,null,null,null,null,null,null,null,"Akasia",null,null,null,null,null,null,null,null,"Material","Material","Material","Fuel","Plant","Plant","Plant","Witwatersrand","Coast"]
[null,"Date"]
[1,2008,95.5,95.5,94.9,94.9,95.5,95,null,95.4,95.2,95.6,95,95.5,95.5,95.5,95.8,null,184.1,null,null,304.10000000000002,153.69999999999999,null,null,287.7,284.3]
[2,2008,96,96,95.3,95.3,96.2,95.5,null,96.1,95.9,96.2,95.7,96.1,96.1,96.1,96.7,null,186.8,null,null,321.60000000000002,161.4,null,null,290.5,287.10000000000002]
[3,2008,97.5,97.3,96.8,96.4,97.3,96.6,null,97.7,97.6,97.7,97.1,97.6,97.6,97.1,97.8,null,187.8,null,null,367.6,161.4,null,null,321.39999999999998,318.3]
[4,2008,98.3,97.9,97.7,97.5,98,97.5,null,98.3,98.1,98.2,97.9,98.2,98.2,97.9,98.3,null,191,null,null,424.9,161.4,null,null,372.6,369.5]
[5,2008,98.8,98.7,98.5,98.1,98.6,98.3,null,98.9,98.7,99.1,98.6,98.9,98.9,98.4,99.2,null,199,null,null,471,168.3,null,null,400.4,397.9]
[6,2008,99.8,99.9,100.3,99.4,100.1,100.1,null,100.1,100.4,100.5,100,99.8,99.8,99.9,100.2,null,201.8,null,null,519.9,168.3,null,null,428.5,426.3]
[7,2008,101.2,101.2,101.6,101.7,101.2,101.9,null,101.3,101.5,102,101.1,101,101,101.3,101.4,null,203.9,null,null,511.9,168.3,null,null,453.5,451.5]
[8,2008,101.8,101.8,102.4,102.7,101.8,102.5,null,101.5,102.1,102.3,102.1,101.7,101.7,101.6,101.8,null,217.3,null,null,419.9,175.4,null,null,447.1,444.7]
[9,2008,102.6,102.9,103,103.1,102.6,102.8,null,102.5,102.5,102,103,102.6,102.6,102.8,102,null,218.8,null,null,394.3,175.4,null,null,390,387.1]
[10,2008,102.9,103.2,103.2,103.6,102.8,103.2,null,102.8,102.6,102.4,103.2,102.8,102.8,103.1,102.3,null,219.6,null,null,377.4,175.4,null,null,367.8,364.7]
[11,2008,102.9,103.2,103.3,103.7,103,103.2,null,102.9,102.7,102.3,103.3,102.9,102.9,103.3,102.5,null,219.2,null,null,336.8,184.8,null,null,358.2,355.1]
[12,2008,102.8,102.6,103.2,103.5,102.9,103.3,null,102.5,102.6,101.8,103.2,102.9,102.9,103,102,null,216.6,null,null,274.3,184.8,null,null,326.10000000000002,322.7]
[1,2009,102.9,102.8,102.7,103.6,103.4,104.2,null,103,102.8,101.9,103.3,103.2,103.2,103.8,102,null,219.7,null,null,286.5,184.8,null,null,259.39999999999998,255.5]
[2,2009,103.8,104.1,104.1,104.5,104.4,105,null,104.4,104.1,103.3,104.6,104.3,104.3,105.3,103.8,null,215.7,null,null,271.3,193,null,null,257.39999999999998,253.9]
[3,2009,105.5,105.4,105.4,106,105.9,106.2,null,105.8,105.5,104.9,106.5,105.7,105.7,106.6,105.3,null,214.8,null,null,253.5,193,null,null,242.4,238.3]
[4,2009,105.9,105.9,106,106.4,106.4,106.7,null,106.4,106.1,105.4,106.6,106.3,106.3,107.1,105.5,null,213.3,null,null,250.2,193,null,null,258.2,254.3]
[5,2009,106.2,106.2,106.5,106.8,106.9,107,null,106.8,106.5,105.6,107,106.7,106.7,107.8,105.8,null,209,null,null,251.1,189.2,null,null,261.39999999999998,257.5]
[6,2009,106.7,106.4,106.8,107.2,107.2,107.1,null,106.9,107.2,105.9,107.1,107,107,108.4,106.5,null,208.9,null,null,256.8,189.2,null,null,256.3,253.1]
[7,2009,107.9,108.2,108.1,108.7,108,108,null,108.7,107.9,107.8,108.3,108.2,108.2,109.6,107.5,null,211.3,null,null,266.2,189.2,null,null,272.10000000000002,269.10000000000002]
[8,2009,108.2,108.6,108.3,109.2,108.1,108.2,null,108.9,108.5,108.1,108.7,108.4,108.4,110.2,107.6,null,210.1,null,null,262.10000000000002,190.9,null,null,264.2,261.10000000000002]
[9,2009,108.8,108.8,109,109.6,108.4,108.5,null,109.4,108.8,108.4,108.8,108.8,108.8,110.4,108,null,209.8,null,null,272.60000000000002,190.9,null,null,277.7,274.7]
[10,2009,108.9,108.8,108.9,109.7,108.4,108.4,null,109.3,108.8,108.2,108.7,108.7,108.7,110.4,108.1,null,209.5,null,null,257.7,190.9,null,null,265,261.89999999999998]
[11,2009,109,108.8,108.8,109.6,108.3,108.4,null,109.4,108.8,108.2,108.6,108.7,108.7,110.4,108,null,209.8,null,null,262.2,188.1,null,null,268.89999999999998,265.89999999999998]
[12,2009,109.7,109,109.1,109.6,108.4,108.7,null,109.8,108.5,108.8,108.8,108.9,108.9,110.7,108.2,null,209.8,null,null,275.39999999999998,188.1,null,null,278.89999999999998,275.89999999999998]
[1,2010,110,109.2,109.2,109.9,108.9,109.2,null,110.2,108.8,109.2,109.1,109.2,109.2,111.1,108.3,null,212.5,null,null,269.10000000000002,188.1,null,null,273.3,270.3]
[2,2010,110.4,110,110,110.2,109.4,109.5,null,110.9,109.5,109.8,110,109.9,109.9,111.9,109.2,null,213,null,null,276.39999999999998,188,null,null,277.3,274.3]
[3,2010,111.7,111,111,110.8,110.4,110.4,null,111.9,110.5,110.9,110.7,110.9,110.9,112.7,109.9,null,213,null,null,280.39999999999998,188.9,null,null,278.89999999999998,275.89999999999998]
[4,2010,112,111.2,111.4,111.3,110.3,110.5,null,112.1,110.7,111.1,110.9,111.4,111.4,112.8,109.9,null,212.8,null,null,296.5,188.9,null,null,298.3,295.5]
[5,2010,112.1,111.4,111.3,111.5,110.7,110.7,null,112.2,110.8,111.2,111.2,111.4,111.4,113,110.3,null,215.4,null,null,304.39999999999998,187.6,null,null,309.8,306.7]
[6,2010,112,111.7,111.4,111.1,110.9,110.7,null,112.5,111,110.9,111.1,111.5,111.5,113.2,110.4,null,216.7,null,null,300.5,187.4,null,null,303.89999999999998,301.10000000000002]
[7,2010,112.5,112.5,112,112.7,111.9,110.9,null,113.2,111.5,112.2,111.6,112.5,112.5,113.2,110.9,null,214.1,null,null,296,187.2,null,null,297.89999999999998,295.10000000000002]
[8,2010,112.5,112.4,112,112.8,112.1,110.9,null,113.1,111.7,112.1,111.7,112.7,112.7,114,111,null,212.6,null,null,293.10000000000002,186.7,null,null,292.7,289.89999999999998]
[9,2010,112.6,112.7,112,113,112.7,110.7,null,113.5,111.7,112,111.8,113.3,113.3,114.2,111.4,null,212.6,null,null,290.60000000000002,186.7,null,null,292.7,289.89999999999998]
[10,2010,112.8,112.8,112.3,113.3,112.6,110.9,null,113.6,111.9,112.3,111.9,113.5,113.5,114.8,111.9,null,213.7,248.8,264.60000000000002,291.3,186.8,205.1,189.4,291.60000000000002,288.7]
[11,2010,112.9,113.1,112.3,113.3,112.8,111,null,113.9,112.1,112.5,112.2,113.6,113.6,114.6,112.1,null,212.9,248.7,264.7,299,187.5,205.4,190.1,301.5,298.7]
[12,2010,113.2,113.2,112.5,113.3,113.1,111.2,null,114,112.3,113,112.2,113.8,113.8,114.6,112.1,null,213.1,248.5,266.2,309.39999999999998,185.8,201.5,189.2,301.5,298.7]
[1,2011,113.7,113.8,112.9,114.2,113.7,111.7,null,114.1,112.7,113.6,113,114.6,114.6,115.3,113,null,215.4,250.3,266.7,321,184.2,201.9,189,311,307.89999999999998]
[2,2011,114.5,114.7,113.8,114.9,114.5,112.4,null,114.8,113.4,114.3,113.9,115.4,115.4,116.1,113.8,null,215.9,257.89999999999998,272.2,350.9,186.6,202.7,190.4,322.89999999999998,319.89999999999998]
[3,2011,116,116.1,115,116.4,115.5,113.5,null,116.1,114.6,115.9,115.2,116.9,116.9,116.9,115.4,null,217.4,261.5,283.10000000000002,374.2,187.3,204,191.3,348.3,345.5]
[4,2011,116.3,116.4,115.3,116.7,116.1,114,null,116.6,114.8,116.4,115.6,117.4,117.4,117.1,115.6,null,216,261.60000000000002,292.7,396.8,187.5,204,191.8,376.1,371.1]
[5,2011,116.9,116.9,115.9,117.1,116.5,114.7,null,117.2,115.4,117,116.1,117.8,117.8,117.7,116.3,null,215.7,261.3,294,392.3,187.5,205.5,193.3,382.4,377.5]
[6,2011,117.3,117.1,116.6,117.4,117.2,115.3,null,117.5,116,117.8,116.9,118.2,118.2,117.8,116.6,null,216.1,265.2,294.39999999999998,380.9,188.8,205.5,194,367.3,362.3]
[7,2011,118.1,118.4,117.5,119.9,118.2,116.2,null,118.4,116.9,118.9,117.8,119.9,119.9,119,117.1,null,219,267.7,296.2,378.3,189.2,210.1,193.9,363,357.9]
[8,2011,118.4,118.6,117.7,120.3,118.4,116.5,null,118.7,117,119.1,118.2,120.2,120.2,119.1,117.6,null,219.7,268.8,296.89999999999998,377.7,189.3,214.1,194.3,368.9,363.9]
[9,2011,118.9,119.1,118.1,120.8,118.7,116.8,null,119.1,117.1,119.5,118.4,120.8,120.8,119.7,118,null,220.2,272.60000000000002,294.89999999999998,377.7,189.1,213.8,194.3,368.9,363.9]
[10,2011,119.4,119.7,118.9,121.7,119.4,117.7,null,119.7,117.8,120.2,119.3,121.5,121.5,120.4,118.8,null,221.6,276.89999999999998,296.3,392.4,187.6,213.2,193.9,382.8,377.9]
[11,2011,119.5,120.1,119.2,122.1,119.9,118.1,null,120.1,117.9,120.6,119.4,121.8,121.8,120.5,118.9,null,223.2,286.2,303.7,413.1,187.7,213.4,194.3,397.1,392.3]
[12,2011,119.7,120.3,119.4,122.4,120.1,118.4,null,120.3,118,120.8,119.7,122.3,122.3,120.9,119.2,null,223.6,286.5,311.10000000000002,419.9,188.4,213.7,195.1,409.4,411.1]
[1,2012,120.2,120.8,119.6,123.3,120.8,118.6,null,121.2,118.8,121.5,119.5,123,123,121.8,119.7,null,224.5,287.7,312,409.3,188.6,213.7,194.9,407.4,402.7]
[2,2012,120.8,121.4,120.6,124,121.6,119.3,null,121.8,119.5,122.3,121.2,123.9,123.9,122.5,120.5,null,226.6,290.5,318,409,189.4,214.7,195.3,407.4,402.3]
[3,2012,122.1,122.8,122.7,125,122.6,120.7,null,123.3,120.7,123.3,122.7,125.1,125.1,123.4,121.6,null,228.2,290.5,317.3,414.2,188.2,214.4,194.8,411.4,406.7]
[4,2012,122.7,123.3,123.3,125.2,123,121.3,null,123.8,121.2,123.8,123.1,125.7,125.7,124.1,122.1,null,227.9,290.39999999999998,317.10000000000002,422.2,188.6,218,198.6,431.6,425.5]
[5,2012,122.9,123.5,123.6,125.3,123.3,121.4,null,123.9,121.2,124,123,125.6,125.6,124,122.1,null,226.9,288.89999999999998,323,426.6,190.3,218.8,199.4,435.6,429.5]
[6,2012,123.2,124,123.8,125.2,124.2,121.7,null,123.7,121.8,124.5,123.8,125.6,125.6,124.2,121.9,null,226.8,289.10000000000002,324,410.3,190.8,219.1,199.9,425.7,421.1]
[7,2012,123.6,124.7,124.2,126.5,124.6,121.9,null,124.3,122.2,124.8,123.9,125.9,125.9,124.8,122.5,null,227.1,289.89999999999998,325.3,378.6,191,220.2,200,401.1,394.3]
[8,2012,123.8,124.9,124.4,126.8,124.7,122.1,null,124.5,122.4,125.3,124.5,126.3,126.3,124.9,122.8,null,227.9,290,324.2,388,191.5,219.1,200.5,406.6,399.9]
[9,2012,124.9,125.7,125.4,128,125.9,123.3,null,125.5,123.3,126.3,126.2,127.3,127.3,126,124.1,null,227.5,289.8,323.5,412.7,192.5,223.2,200.6,434,427.5]
[10,2012,125.5,126.5,126.1,128.6,126.7,124.1,null,126.3,124,127.3,127.1,128.19999999999999,128.19999999999999,126.5,124.9,null,226.8,285.89999999999998,324,433,192.5,224.1,201.4,436.4,443.5]
[11,2012,125.8,126.9,126.4,129,126.9,124.4,null,126.6,124.3,127.5,127.3,128.6,128.6,126.8,125.1,null,227.5,285.89999999999998,326.39999999999998,439.3,193.2,225.1,202.1,446.3,447.5]
[12,2012,126.3,127.2,126.9,129,127.3,124.9,null,126.8,124.4,127.8,127.4,128.9,128.9,127,125.4,null,228.2,289,329.3,435.9,193.7,225.3,202.6,444.4,445.5]
["Dec 2012=100",null,null,null,null,null,null,null,null,null,null,null,null,null,null,null,null,null,"Dec 2012 = 100"]
[null,null,null,"Refer to P0141 - Consumer Price Index: Aditional tables:",null,null,null,null,null,null,null,null,null,null,null,null,null,null,null,"Refer to P0151 - Contract Price Adjustment Provisions(CPAP): ",null,null,null,null,null,"       Fuel Wholesale"]
[null,null,null,"Table 14 - CPI all items, according to area",null,null,null,null,null,null,null,null,null,null,null,null,null,null,null,"Work Groups and Selected Materials Indices: Table 3 and Table 4"]
["STATSSA",null,null,"(Divide new indices by conversion factors provided by STATSSA)",null,null,null,null,null,null,null,null,null,null,null,null,null,null,null,"(Multiply new indices by conversion factors provided by STATSSA)"]
["Conversion ",null,0.79176563740000006,0.78616352199999995,0.78802206460000002,0.77519379840000002,0.78554595439999997,0.8006405124,null,0.78864353310000002,0.80385852089999998,0.78247261349999997,0.78492935639999994,0.77579519009999998,0.77579519009999998,0.78740157479999995,0.79744816590000001,null,2.2719999999999998,2.89,3.22,4.149,1.909,2.1960000000000002,1.992,4.24,4.2050000000000001]
["Factors"]
[null,null,null,null,null,null,null,null,null,null,null,null,null,null,null,null,null,null,"Table 3","Table 4","Table 4","Table 4","Table 4","Table 4","Table 4","Table 4","Table 4"]
[1,2013,{"$f":"100.2/C120","v":126.55259999541879},{"$f":"100.1/D120","v":127.32720000203723},{"$f":"100.2/E120","v":127.15380000287368},{"$f":"100.5/F120","v":129.64500000829727},{"$f":"100.5/G120","v":127.93650000624331},{"$f":"100.1/H120","v":125.02490000155031},null,{"$f":"100.3/J120","v":127.18040000371366},{"$f":"100.4/K120","v":124.89760000004996},128.31119999319952,127.90959999314406,129.41559999496573,129.41559999496573,127.50800000051005,{"$f":"100.5/Q120","v":126.02699999513536},null,{"$f":"+S120*101.8","v":231.28959999999998},{"$f":"+T120*103.2","v":298.24800000000005},{"$f":"+U120*104.4","v":336.16800000000006},{"$f":"+V120*103","v":427.34699999999998},{"$f":"+W120*102.3","v":195.29069999999999},{"$f":"+X120*103.1","v":226.4076},{"$f":"+Y120*102.4","v":203.98080000000002},{"$f":"+Z120*102.2","v":433.32800000000003},{"$f":"+AA120*103.4","v":434.79700000000003}]
[2,2013,{"$f":"100.8/C120","v":127.31039999539135},{"$f":"101.2/D120","v":128.72640000205965},{"$f":"101.3/E120","v":128.54970000290521},{"$f":"100.9/F120","v":130.16100000833032},{"$f":"102/G120","v":129.84600000633648},{"$f":"101.2/H120","v":126.39880000156735},null,{"$f":"101.7/J120","v":128.95560000376551},{"$f":"101.8/K120","v":126.63920000005065},{"$f":"101.5/L120","v":129.716999993125},{"$f":"101.2/M120","v":128.92879999308943},{"$f":"101.2/N120","v":130.44679999492564},{"$f":"101.2/O120","v":130.44679999492564},{"$f":"101.4/P120","v":128.77800000051514},{"$f":"101.3/Q120","v":127.03019999509662},null,{"$f":"+S120*102.2","v":232.19839999999999},{"$f":"+T120*104.8","v":302.87200000000001},{"$f":"+U120*105.1","v":338.42200000000003},{"$f":"+V120*104.3","v":432.7407},{"$f":"+W120*102.5","v":195.67250000000001},{"$f":"+X120*103.1","v":226.4076},{"$f":"+Y120*102.4","v":203.98080000000002},{"$f":"+Z120*103.9","v":440.53600000000006},{"$f":"+AA120*105","v":441.52500000000003}]
[3,2013,{"$f":"102.2/C120","v":129.07859999532735},{"$f":"102/D120","v":129.74400000207592},{"$f":"102.4/E120","v":129.94560000293677},{"$f":"101.8/F120","v":131.32200000840459},{"$f":"102.9/G120","v":130.99170000639242},{"$f":"102.8/H120","v":128.39720000159213},null,{"$f":"103.2/J120","v":130.85760000382103},{"$f":"103/K120","v":128.13200000005125},{"$f":"102.6/L120","v":131.12279999305048},{"$f":"101.9/M120","v":129.82059999304164},{"$f":"102.4/N120","v":131.99359999486546},{"$f":"102.4/O120","v":131.99359999486546},{"$f":"102.1/P120","v":129.66700000051867},{"$f":"102.8/Q120","v":128.91119999502402},null,{"$f":"+S120*103.1","v":234.24319999999997},{"$f":"+T120*104.5","v":302.005},{"$f":"+U120*104.9","v":337.77800000000002},{"$f":"+V120*108.6","v":450.58139999999997},{"$f":"+W120*103.6","v":197.7724},{"$f":"+X120*103.5","v":227.28600000000003},{"$f":"+Y120*103.6","v":206.37119999999999},{"$f":"+Z120*109.3","v":463.43200000000002},{"$f":"+AA120*110.6","v":465.07299999999998}]
[4,2013,{"$f":"'Discontinued - OLDTABLE A'!D77/'Discontinued - TABLE B'!C120","v":129.45749999531364},{"$f":"'Discontinued - OLDTABLE A'!E77/'Discontinued - TABLE B'!D120","v":129.99840000207999},{"$f":"'Discontinued - OLDTABLE A'!F77/'Discontinued - TABLE B'!E120","v":130.45320000294822},{"$f":"'Discontinued - OLDTABLE A'!G77/'Discontinued - TABLE B'!F120","v":131.70900000842937},{"$f":"'Discontinued - OLDTABLE A'!J77/'Discontinued - TABLE B'!G120","v":131.11900000639861},{"$f":"'Discontinued - OLDTABLE A'!I77/'Discontinued - TABLE B'!H120","v":128.52210000159369},null,{"$f":"'Discontinued - OLDTABLE A'!M77/'Discontinued - TABLE B'!J120","v":131.36480000383585},{"$f":"'Discontinued - OLDTABLE A'!N77/'Discontinued - TABLE B'!K120","v":128.50520000005139},{"$f":"'Discontinued - OLDTABLE A'!O77/'Discontinued - TABLE B'!L120","v":131.50619999303018},{"$f":"'Discontinued - OLDTABLE A'!L77/'Discontinued - TABLE B'!M120","v":130.71239999299382},{"$f":"'Discontinued - OLDTABLE A'!H77/'Discontinued - TABLE B'!N120","v":132.38029999485042},{"$f":"'Discontinued - OLDTABLE A'!H77/'Discontinued - TABLE B'!O120","v":132.38029999485042},{"$f":"'Discontinued - OLDTABLE A'!P77/'Discontinued - TABLE B'!P120","v":129.92100000051968},{"$f":"'Discontinued - OLDTABLE A'!Q77/'Discontinued - TABLE B'!Q120","v":129.16199999501436},null,{"$f":"S120*'Discontinued - OLDTABLE A'!S77","v":236.0608},{"$f":"T120*'Discontinued - OLDTABLE A'!T77","v":307.20699999999999},{"$f":"U120*'Discontinued - OLDTABLE A'!U77","v":340.03199999999998},{"$f":"V120*'Discontinued - OLDTABLE A'!V77","v":434.40030000000002},{"$f":"W120*'Discontinued - OLDTABLE A'!W77","v":197.9633},{"$f":"X120*'Discontinued - OLDTABLE A'!X77","v":227.50560000000002},{"$f":"Y120*'Discontinued - OLDTABLE A'!Y77","v":206.37119999999999},{"$f":"Z120*'Discontinued - OLDTABLE A'!Z77","v":442.23200000000003},{"$f":"AA120*'Discontinued - OLDTABLE A'!AA77","v":442.78649999999999}]
[5,2013,{"$f":"'Discontinued - OLDTABLE A'!D78/'Discontinued - TABLE B'!C120","v":129.07859999532735},{"$f":"'Discontinued - OLDTABLE A'!E78/'Discontinued - TABLE B'!D120","v":129.87120000207793},{"$f":"'Discontinued - OLDTABLE A'!F78/'Discontinued - TABLE B'!E120","v":130.07250000293965},{"$f":"'Discontinued - OLDTABLE A'!G78/'Discontinued - TABLE B'!F120","v":131.32200000840459},{"$f":"'Discontinued - OLDTABLE A'!J78/'Discontinued - TABLE B'!G120","v":130.48250000636756},{"$f":"'Discontinued - OLDTABLE A'!I78/'Discontinued - TABLE B'!H120","v":128.02250000158747},null,{"$f":"'Discontinued - OLDTABLE A'!M78/'Discontinued - TABLE B'!J120","v":130.98440000382473},{"$f":"'Discontinued - OLDTABLE A'!N78/'Discontinued - TABLE B'!K120","v":128.00760000005121},{"$f":"'Discontinued - OLDTABLE A'!O78/'Discontinued - TABLE B'!L120","v":130.99499999305726},{"$f":"'Discontinued - OLDTABLE A'!L78/'Discontinued - TABLE B'!M120","v":130.58499999300065},{"$f":"'Discontinued - OLDTABLE A'!H78/'Discontinued - TABLE B'!N120","v":132.2513999948554},{"$f":"'Discontinued - OLDTABLE A'!H78/'Discontinued - TABLE B'!O120","v":132.2513999948554},{"$f":"'Discontinued - OLDTABLE A'!P78/'Discontinued - TABLE B'!P120","v":129.66700000051867},{"$f":"'Discontinued - OLDTABLE A'!Q78/'Discontinued - TABLE B'!Q120","v":129.16199999501436},null,{"$f":"S120*'Discontinued - OLDTABLE A'!S78","v":236.74239999999998},{"$f":"T120*'Discontinued - OLDTABLE A'!T78","v":309.80800000000005},{"$f":"U120*'Discontinued - OLDTABLE A'!U78","v":344.86200000000002},{"$f":"V120*'Discontinued - OLDTABLE A'!V78","v":421.12349999999998},{"$f":"W120*'Discontinued - OLDTABLE A'!W78","v":199.4905},{"$f":"X120*'Discontinued - OLDTABLE A'!X78","v":228.82320000000001},{"$f":"Y120*'Discontinued - OLDTABLE A'!Y78","v":206.96880000000002},{"$f":"Z120*'Discontinued - OLDTABLE A'!Z78","v":440.53600000000006},{"$f":"AA120*'Discontinued - OLDTABLE A'!AA78","v":441.10450000000003}]
[6,2013,{"$f":"'Discontinued - OLDTABLE A'!D79/'Discontinued - TABLE B'!C$120","v":129.45749999531364},{"$f":"'Discontinued - OLDTABLE A'!E79/'Discontinued - TABLE B'!D$120","v":130.38000000208609},{"$f":"'Discontinued - OLDTABLE A'!F79/'Discontinued - TABLE B'!E$120","v":130.58010000295113},{"$f":"'Discontinued - OLDTABLE A'!G79/'Discontinued - TABLE B'!F$120","v":131.45100000841288},{"$f":"'Discontinued - OLDTABLE A'!J79/'Discontinued - TABLE B'!G$120","v":130.73710000637999},{"$f":"'Discontinued - OLDTABLE A'!I79/'Discontinued - TABLE B'!H$120","v":128.52210000159369},null,{"$f":"'Discontinued - OLDTABLE A'!M79/'Discontinued - TABLE B'!J$120","v":131.61840000384325},{"$f":"'Discontinued - OLDTABLE A'!N79/'Discontinued - TABLE B'!K$120","v":128.62960000005145},{"$f":"'Discontinued - OLDTABLE A'!O79/'Discontinued - TABLE B'!L$120","v":131.50619999303018},{"$f":"'Discontinued - OLDTABLE A'!L79/'Discontinued - TABLE B'!M$120","v":130.839799992987},{"$f":"'Discontinued - OLDTABLE A'!H79/'Discontinued - TABLE B'!N$120","v":133.15369999482033},{"$f":"'Discontinued - OLDTABLE A'!H79/'Discontinued - TABLE B'!O$120","v":133.15369999482033},{"$f":"'Discontinued - OLDTABLE A'!P79/'Discontinued - TABLE B'!P$120","v":129.92100000051968},{"$f":"'Discontinued - OLDTABLE A'!Q79/'Discontinued - TABLE B'!Q$120","v":129.663599994995},null,{"$f":"S$120*'Discontinued - OLDTABLE A'!S79","v":238.33279999999999},{"$f":"T$120*'Discontinued - OLDTABLE A'!T79","v":310.09699999999998},{"$f":"U$120*'Discontinued - OLDTABLE A'!U79","v":348.726},{"$f":"V$120*'Discontinued - OLDTABLE A'!V79","v":428.17680000000001},{"$f":"W$120*'Discontinued - OLDTABLE A'!W79","v":201.20860000000002},{"$f":"X$120*'Discontinued - OLDTABLE A'!X79","v":229.70160000000001},{"$f":"Y$120*'Discontinued - OLDTABLE A'!Y79","v":208.5624},{"$f":"Z$120*'Discontinued - OLDTABLE A'!Z79","v":470.64000000000004},{"$f":"AA$120*'Discontinued - OLDTABLE A'!AA79","v":472.64200000000005}]
[7,2013,{"$f":"'Discontinued - OLDTABLE A'!D80/'Discontinued - TABLE B'!C$120","v":130.59419999527248},{"$f":"'Discontinued - OLDTABLE A'!E80/'Discontinued - TABLE B'!D$120","v":131.5248000021044},{"$f":"'Discontinued - OLDTABLE A'!F80/'Discontinued - TABLE B'!E$120","v":133.11810000300846},{"$f":"'Discontinued - OLDTABLE A'!G80/'Discontinued - TABLE B'!F$120","v":133.25700000852845},{"$f":"'Discontinued - OLDTABLE A'!J80/'Discontinued - TABLE B'!G$120","v":132.39200000646073},{"$f":"'Discontinued - OLDTABLE A'!I80/'Discontinued - TABLE B'!H$120","v":130.14580000161382},null,{"$f":"'Discontinued - OLDTABLE A'!M80/'Discontinued - TABLE B'!J$120","v":133.14000000388768},{"$f":"'Discontinued - OLDTABLE A'!N80/'Discontinued - TABLE B'!K$120","v":129.7492000000519},{"$f":"'Discontinued - OLDTABLE A'!O80/'Discontinued - TABLE B'!L$120","v":132.91199999295566},{"$f":"'Discontinued - OLDTABLE A'!L80/'Discontinued - TABLE B'!M$120","v":132.24119999291187},{"$f":"'Discontinued - OLDTABLE A'!H80/'Discontinued - TABLE B'!N$120","v":134.44269999477018},{"$f":"'Discontinued - OLDTABLE A'!H80/'Discontinued - TABLE B'!O$120","v":134.44269999477018},{"$f":"'Discontinued - OLDTABLE A'!P80/'Discontinued - TABLE B'!P$120","v":131.06400000052426},{"$f":"'Discontinued - OLDTABLE A'!Q80/'Discontinued - TABLE B'!Q$120","v":130.7921999949514},null,{"$f":"S$120*'Discontinued - OLDTABLE A'!S80","v":239.46879999999999},{"$f":"T$120*'Discontinued - OLDTABLE A'!T80","v":310.09699999999998},{"$f":"U$120*'Discontinued - OLDTABLE A'!U80","v":352.26800000000003},{"$f":"V$120*'Discontinued - OLDTABLE A'!V80","v":441.45360000000005},{"$f":"W$120*'Discontinued - OLDTABLE A'!W80","v":204.4539},{"$f":"X$120*'Discontinued - OLDTABLE A'!X80","v":234.75240000000002},{"$f":"Y$120*'Discontinued - OLDTABLE A'!Y80","v":211.35119999999998},{"$f":"Z$120*'Discontinued - OLDTABLE A'!Z80","v":483.78399999999999},{"$f":"AA$120*'Discontinued - OLDTABLE A'!AA80","v":485.67750000000001}]
[8,2013,{"$f":"'Discontinued - OLDTABLE A'!D81/'Discontinued - TABLE B'!C$120","v":130.97309999525876},{"$f":"'Discontinued - OLDTABLE A'!E81/'Discontinued - TABLE B'!D$120","v":131.9064000021105},{"$f":"'Discontinued - OLDTABLE A'!F81/'Discontinued - TABLE B'!E$120","v":133.24500000301134},{"$f":"'Discontinued - OLDTABLE A'!G81/'Discontinued - TABLE B'!F$120","v":133.77300000856147},{"$f":"'Discontinued - OLDTABLE A'!J81/'Discontinued - TABLE B'!G$120","v":132.9012000064856},{"$f":"'Discontinued - OLDTABLE A'!I81/'Discontinued - TABLE B'!H$120","v":130.64540000162},null,{"$f":"'Discontinued - OLDTABLE A'!M81/'Discontinued - TABLE B'!J$120","v":133.3936000038951},{"$f":"'Discontinued - OLDTABLE A'!N81/'Discontinued - TABLE B'!K$120","v":130.12240000005204},{"$f":"'Discontinued - OLDTABLE A'!O81/'Discontinued - TABLE B'!L$120","v":133.29539999293536},{"$f":"'Discontinued - OLDTABLE A'!L81/'Discontinued - TABLE B'!M$120","v":132.62339999289139},{"$f":"'Discontinued - OLDTABLE A'!H81/'Discontinued - TABLE B'!N$120","v":134.82939999475514},{"$f":"'Discontinued - OLDTABLE A'!H81/'Discontinued - TABLE B'!O$120","v":134.82939999475514},{"$f":"'Discontinued - OLDTABLE A'!P81/'Discontinued - TABLE B'!P$120","v":131.31800000052527},{"$f":"'Discontinued - OLDTABLE A'!Q81/'Discontinued - TABLE B'!Q$120","v":131.29379999493207},null,{"$f":"S$120*'Discontinued - OLDTABLE A'!S81","v":239.92319999999995},{"$f":"T$120*'Discontinued - OLDTABLE A'!T81","v":309.51900000000001},{"$f":"U$120*'Discontinued - OLDTABLE A'!U81","v":351.30200000000002},{"$f":"V$120*'Discontinued - OLDTABLE A'!V81","v":455.56020000000001},{"$f":"W$120*'Discontinued - OLDTABLE A'!W81","v":206.3629},{"$f":"X$120*'Discontinued - OLDTABLE A'!X81","v":235.85040000000004},{"$f":"Y$120*'Discontinued - OLDTABLE A'!Y81","v":212.34719999999999},{"$f":"Z$120*'Discontinued - OLDTABLE A'!Z81","v":488.87200000000001},{"$f":"AA$120*'Discontinued - OLDTABLE A'!AA81","v":490.7235}]
[9,2013,{"$f":"'Discontinued - OLDTABLE A'!D82/'Discontinued - TABLE B'!C$120","v":132.1097999952176},{"$f":"'Discontinued - OLDTABLE A'!E82/'Discontinued - TABLE B'!D$120","v":132.41520000211864},{"$f":"'Discontinued - OLDTABLE A'!F82/'Discontinued - TABLE B'!E$120","v":134.00640000302855},{"$f":"'Discontinued - OLDTABLE A'!G82/'Discontinued - TABLE B'!F$120","v":134.54700000861101},{"$f":"'Discontinued - OLDTABLE A'!J82/'Discontinued - TABLE B'!G$120","v":133.79230000652908},{"$f":"'Discontinued - OLDTABLE A'!I82/'Discontinued - TABLE B'!H$120","v":131.14500000162619},null,{"$f":"'Discontinued - OLDTABLE A'!M82/'Discontinued - TABLE B'!J$120","v":134.02760000391362},{"$f":"'Discontinued - OLDTABLE A'!N82/'Discontinued - TABLE B'!K$120","v":130.37120000005214},{"$f":"'Discontinued - OLDTABLE A'!O82/'Discontinued - TABLE B'!L$120","v":134.0621999928947},{"$f":"'Discontinued - OLDTABLE A'!L82/'Discontinued - TABLE B'!M$120","v":133.26039999285723},{"$f":"'Discontinued - OLDTABLE A'!H82/'Discontinued - TABLE B'!N$120","v":135.73169999472003},{"$f":"'Discontinued - OLDTABLE A'!H82/'Discontinued - TABLE B'!O$120","v":135.73169999472003},{"$f":"'Discontinued - OLDTABLE A'!P82/'Discontinued - TABLE B'!P$120","v":132.08000000052832},{"$f":"'Discontinued - OLDTABLE A'!Q82/'Discontinued - TABLE B'!Q$120","v":132.04619999490302},null,{"$f":"S$120*'Discontinued - OLDTABLE A'!S82","v":238.78719999999996},{"$f":"T$120*'Discontinued - OLDTABLE A'!T82","v":309.51900000000001},{"$f":"U$120*'Discontinued - OLDTABLE A'!U82","v":349.04800000000006},{"$f":"V$120*'Discontinued - OLDTABLE A'!V82","v":462.61349999999999},{"$f":"W$120*'Discontinued - OLDTABLE A'!W82","v":207.31739999999999},{"$f":"X$120*'Discontinued - OLDTABLE A'!X82","v":236.28960000000001},{"$f":"Y$120*'Discontinued - OLDTABLE A'!Y82","v":213.14400000000001},{"$f":"Z$120*'Discontinued - OLDTABLE A'!Z82","v":488.44800000000004},{"$f":"AA$120*'Discontinued - OLDTABLE A'!AA82","v":490.303}]
[10,2013,{"$f":"'Discontinued - OLDTABLE A'!D83/'Discontinued - TABLE B'!C$120","v":132.48869999520392},{"$f":"'Discontinued - OLDTABLE A'!E83/'Discontinued - TABLE B'!D$120","v":132.66960000212271},{"$f":"'Discontinued - OLDTABLE A'!F83/'Discontinued - TABLE B'!E$120","v":134.13330000303142},{"$f":"'Discontinued - OLDTABLE A'!G83/'Discontinued - TABLE B'!F$120","v":134.8050000086275},{"$f":"'Discontinued - OLDTABLE A'!J83/'Discontinued - TABLE B'!G$120","v":134.04690000654148},{"$f":"'Discontinued - OLDTABLE A'!I83/'Discontinued - TABLE B'!H$120","v":131.14500000162619},null,{"$f":"'Discontinued - OLDTABLE A'!M83/'Discontinued - TABLE B'!J$120","v":134.28120000392101},{"$f":"'Discontinued - OLDTABLE A'!N83/'Discontinued - TABLE B'!K$120","v":130.74440000005228},{"$f":"'Discontinued - OLDTABLE A'!O83/'Discontinued - TABLE B'!L$120","v":134.18999999288795},{"$f":"'Discontinued - OLDTABLE A'!L83/'Discontinued - TABLE B'!M$120","v":133.76999999282992},{"$f":"'Discontinued - OLDTABLE A'!H83/'Discontinued - TABLE B'!N$120","v":136.2472999947},{"$f":"'Discontinued - OLDTABLE A'!H83/'Discontinued - TABLE B'!O$120","v":136.2472999947},{"$f":"'Discontinued - OLDTABLE A'!P83/'Discontinued - TABLE B'!P$120","v":132.33400000052936},{"$f":"'Discontinued - OLDTABLE A'!Q83/'Discontinued - TABLE B'!Q$120","v":132.17159999489817},null,{"$f":"S$120*'Discontinued - OLDTABLE A'!S83","v":239.01439999999999},{"$f":"T$120*'Discontinued - OLDTABLE A'!T83","v":309.80800000000005},{"$f":"U$120*'Discontinued - OLDTABLE A'!U83","v":349.37},{"$f":"V$120*'Discontinued - OLDTABLE A'!V83","v":459.29430000000002},{"$f":"W$120*'Discontinued - OLDTABLE A'!W83","v":209.03550000000001},{"$f":"X$120*'Discontinued - OLDTABLE A'!X83","v":237.60720000000003},{"$f":"Y$120*'Discontinued - OLDTABLE A'!Y83","v":214.33919999999998},{"$f":"Z$120*'Discontinued - OLDTABLE A'!Z83","v":482.512},{"$f":"AA$120*'Discontinued - OLDTABLE A'!AA83","v":483.99549999999999}]
[11,2013,{"$f":"'Discontinued - OLDTABLE A'!D84/'Discontinued - TABLE B'!C$120","v":132.48869999520392},{"$f":"'Discontinued - OLDTABLE A'!E84/'Discontinued - TABLE B'!D$120","v":132.9240000021268},{"$f":"'Discontinued - OLDTABLE A'!F84/'Discontinued - TABLE B'!E$120","v":134.13330000303142},{"$f":"'Discontinued - OLDTABLE A'!G84/'Discontinued - TABLE B'!F$120","v":135.19200000865229},{"$f":"'Discontinued - OLDTABLE A'!J84/'Discontinued - TABLE B'!G$120","v":134.42880000656012},{"$f":"'Discontinued - OLDTABLE A'!I84/'Discontinued - TABLE B'!H$120","v":131.02010000162466},null,{"$f":"'Discontinued - OLDTABLE A'!M84/'Discontinued - TABLE B'!J$120","v":134.15440000391729},{"$f":"'Discontinued - OLDTABLE A'!N84/'Discontinued - TABLE B'!K$120","v":130.62000000005224},{"$f":"'Discontinued - OLDTABLE A'!O84/'Discontinued - TABLE B'!L$120","v":134.31779999288116},{"$f":"'Discontinued - OLDTABLE A'!L84/'Discontinued - TABLE B'!M$120","v":133.64259999283678},{"$f":"'Discontinued - OLDTABLE A'!H84/'Discontinued - TABLE B'!N$120","v":136.50509999468997},{"$f":"'Discontinued - OLDTABLE A'!H84/'Discontinued - TABLE B'!O$120","v":136.50509999468997},{"$f":"'Discontinued - OLDTABLE A'!P84/'Discontinued - TABLE B'!P$120","v":132.33400000052936},{"$f":"'Discontinued - OLDTABLE A'!Q84/'Discontinued - TABLE B'!Q$120","v":132.42239999488848},null,{"$f":"S$120*'Discontinued - OLDTABLE A'!S84","v":238.78719999999996},{"$f":"T$120*'Discontinued - OLDTABLE A'!T84","v":309.51900000000001},{"$f":"U$120*'Discontinued - OLDTABLE A'!U84","v":347.11599999999999},{"$f":"V$120*'Discontinued - OLDTABLE A'!V84","v":458.0496},{"$f":"W$120*'Discontinued - OLDTABLE A'!W84","v":209.79910000000001},{"$f":"X$120*'Discontinued - OLDTABLE A'!X84","v":238.48560000000001},{"$f":"Y$120*'Discontinued - OLDTABLE A'!Y84","v":215.33519999999999},{"$f":"Z$120*'Discontinued - OLDTABLE A'!Z84","v":486.32800000000003},{"$f":"AA$120*'Discontinued - OLDTABLE A'!AA84","v":488.20049999999998}]
[12,2013,{"$f":"'Discontinued - OLDTABLE A'!D85/'Discontinued - TABLE B'!C$120","v":132.61499999519933},{"$f":"'Discontinued - OLDTABLE A'!E85/'Discontinued - TABLE B'!D$120","v":133.43280000213494},{"$f":"'Discontinued - OLDTABLE A'!F85/'Discontinued - TABLE B'!E$120","v":134.76780000304575},{"$f":"'Discontinued - OLDTABLE A'!G85/'Discontinued - TABLE B'!F$120","v":135.7080000086853},{"$f":"'Discontinued - OLDTABLE A'!J85/'Discontinued - TABLE B'!G$120","v":134.81070000657877},{"$f":"'Discontinued - OLDTABLE A'!I85/'Discontinued - TABLE B'!H$120","v":131.39480000162931},null,{"$f":"'Discontinued - OLDTABLE A'!M85/'Discontinued - TABLE B'!J$120","v":134.78840000393581},{"$f":"'Discontinued - OLDTABLE A'!N85/'Discontinued - TABLE B'!K$120","v":131.24200000005251},{"$f":"'Discontinued - OLDTABLE A'!O85/'Discontinued - TABLE B'!L$120","v":134.57339999286762},{"$f":"'Discontinued - OLDTABLE A'!L85/'Discontinued - TABLE B'!M$120","v":134.40699999279579},{"$f":"'Discontinued - OLDTABLE A'!H85/'Discontinued - TABLE B'!N$120","v":136.89179999467493},{"$f":"'Discontinued - OLDTABLE A'!H85/'Discontinued - TABLE B'!O$120","v":136.89179999467493},{"$f":"'Discontinued - OLDTABLE A'!P85/'Discontinued - TABLE B'!P$120","v":132.71500000053086},{"$f":"'Discontinued - OLDTABLE A'!Q85/'Discontinued - TABLE B'!Q$120","v":132.79859999487397},null,{"$f":"S$120*'Discontinued - OLDTABLE A'!S85","v":238.78719999999996},{"$f":"T$120*'Discontinued - OLDTABLE A'!T85","v":309.23},{"$f":"U$120*'Discontinued - OLDTABLE A'!U85","v":347.76000000000005},{"$f":"V$120*'Discontinued - OLDTABLE A'!V85","v":467.59230000000002},{"$f":"W$120*'Discontinued - OLDTABLE A'!W85","v":210.18089999999998},{"$f":"X$120*'Discontinued - OLDTABLE A'!X85","v":238.70520000000002},{"$f":"Y$120*'Discontinued - OLDTABLE A'!Y85","v":215.93280000000001},{"$f":"Z$120*'Discontinued - OLDTABLE A'!Z85","v":486.32800000000003},{"$f":"AA$120*'Discontinued - OLDTABLE A'!AA85","v":488.20049999999998}]
[1,2014,{"$f":"'Discontinued - OLDTABLE A'!D86/'Discontinued - TABLE B'!C$120","v":133.75169999515819},{"$f":"'Discontinued - OLDTABLE A'!E86/'Discontinued - TABLE B'!D$120","v":134.06880000214511},{"$f":"'Discontinued - OLDTABLE A'!F86/'Discontinued - TABLE B'!E$120","v":135.2754000030572},{"$f":"'Discontinued - OLDTABLE A'!G86/'Discontinued - TABLE B'!F$120","v":136.6110000087431},{"$f":"'Discontinued - OLDTABLE A'!J86/'Discontinued - TABLE B'!G$120","v":135.70180000662225},{"$f":"'Discontinued - OLDTABLE A'!I86/'Discontinued - TABLE B'!H$120","v":132.26910000164014},null,{"$f":"'Discontinued - OLDTABLE A'!M86/'Discontinued - TABLE B'!J$120","v":135.67600000396175},{"$f":"'Discontinued - OLDTABLE A'!N86/'Discontinued - TABLE B'!K$120","v":132.11280000005286},{"$f":"'Discontinued - OLDTABLE A'!O86/'Discontinued - TABLE B'!L$120","v":135.46799999282021},{"$f":"'Discontinued - OLDTABLE A'!L86/'Discontinued - TABLE B'!M$120","v":135.298799992748},{"$f":"'Discontinued - OLDTABLE A'!H86/'Discontinued - TABLE B'!N$120","v":137.66519999464484},{"$f":"'Discontinued - OLDTABLE A'!H86/'Discontinued - TABLE B'!O$120","v":137.66519999464484},{"$f":"'Discontinued - OLDTABLE A'!P86/'Discontinued - TABLE B'!P$120","v":133.60400000053443},{"$f":"'Discontinued - OLDTABLE A'!Q86/'Discontinued - TABLE B'!Q$120","v":134.05259999482558},null,{"$f":"S$120*'Discontinued - OLDTABLE A'!S86","v":240.60479999999998},{"$f":"T$120*'Discontinued - OLDTABLE A'!T86","v":312.40899999999999},{"$f":"U$120*'Discontinued - OLDTABLE A'!U86","v":351.30200000000002},{"$f":"V$120*'Discontinued - OLDTABLE A'!V86","v":481.28399999999999},{"$f":"W$120*'Discontinued - OLDTABLE A'!W86","v":211.3263},{"$f":"X$120*'Discontinued - OLDTABLE A'!X86","v":238.9248},{"$f":"Y$120*'Discontinued - OLDTABLE A'!Y86","v":215.93280000000001},{"$f":"Z$120*'Discontinued - OLDTABLE A'!Z86","v":498.62400000000002},{"$f":"AA$120*'Discontinued - OLDTABLE A'!AA86","v":500.81549999999999}]
[2,2014,{"$f":"'Discontinued - OLDTABLE A'!D87/'Discontinued - TABLE B'!C$120","v":134.76209999512162},{"$f":"'Discontinued - OLDTABLE A'!E87/'Discontinued - TABLE B'!D$120","v":135.59520000216952},{"$f":"'Discontinued - OLDTABLE A'!F87/'Discontinued - TABLE B'!E$120","v":137.30580000310312},{"$f":"'Discontinued - OLDTABLE A'!G87/'Discontinued - TABLE B'!F$120","v":137.64300000880914},{"$f":"'Discontinued - OLDTABLE A'!J87/'Discontinued - TABLE B'!G$120","v":137.73860000672164},{"$f":"'Discontinued - OLDTABLE A'!I87/'Discontinued - TABLE B'!H$120","v":133.64300000165719},null,{"$f":"'Discontinued - OLDTABLE A'!M87/'Discontinued - TABLE B'!J$120","v":137.45120000401357},{"$f":"'Discontinued - OLDTABLE A'!N87/'Discontinued - TABLE B'!K$120","v":133.97880000005361},{"$f":"'Discontinued - OLDTABLE A'!O87/'Discontinued - TABLE B'!L$120","v":137.25719999272539},{"$f":"'Discontinued - OLDTABLE A'!L87/'Discontinued - TABLE B'!M$120","v":136.70019999267288},{"$f":"'Discontinued - OLDTABLE A'!H87/'Discontinued - TABLE B'!N$120","v":138.95419999459469},{"$f":"'Discontinued - OLDTABLE A'!H87/'Discontinued - TABLE B'!O$120","v":138.95419999459469},{"$f":"'Discontinued - OLDTABLE A'!P87/'Discontinued - TABLE B'!P$120","v":135.00100000054002},{"$f":"'Discontinued - OLDTABLE A'!Q87/'Discontinued - TABLE B'!Q$120","v":135.18119999478199},null,{"$f":"S$120*'Discontinued - OLDTABLE A'!S87","v":240.83199999999997},{"$f":"T$120*'Discontinued - OLDTABLE A'!T87","v":321.65699999999998},{"$f":"U$120*'Discontinued - OLDTABLE A'!U87","v":363.21600000000001},{"$f":"V$120*'Discontinued - OLDTABLE A'!V87","v":494.14589999999998},{"$f":"W$120*'Discontinued - OLDTABLE A'!W87","v":214.38069999999999},{"$f":"X$120*'Discontinued - OLDTABLE A'!X87","v":254.29680000000002},{"$f":"Y$120*'Discontinued - OLDTABLE A'!Y87","v":217.12799999999999},{"$f":"Z$120*'Discontinued - OLDTABLE A'!Z87","v":509.22399999999999},{"$f":"AA$120*'Discontinued - OLDTABLE A'!AA87","v":511.74850000000004}]
[3,2014,{"$f":"'Discontinued - OLDTABLE A'!D88/'Discontinued - TABLE B'!C$120","v":136.65659999505303},{"$f":"'Discontinued - OLDTABLE A'!E88/'Discontinued - TABLE B'!D$120","v":137.50320000220006},{"$f":"'Discontinued - OLDTABLE A'!F88/'Discontinued - TABLE B'!E$120","v":138.70170000313465},{"$f":"'Discontinued - OLDTABLE A'!G88/'Discontinued - TABLE B'!F$120","v":139.32000000891648},{"$f":"'Discontinued - OLDTABLE A'!J88/'Discontinued - TABLE B'!G$120","v":139.39350000680241},{"$f":"'Discontinued - OLDTABLE A'!I88/'Discontinued - TABLE B'!H$120","v":135.64140000168194},null,{"$f":"'Discontinued - OLDTABLE A'!M88/'Discontinued - TABLE B'!J$120","v":139.48000000407282},{"$f":"'Discontinued - OLDTABLE A'!N88/'Discontinued - TABLE B'!K$120","v":135.59600000005423},{"$f":"'Discontinued - OLDTABLE A'!O88/'Discontinued - TABLE B'!L$120","v":139.04639999263054},{"$f":"'Discontinued - OLDTABLE A'!L88/'Discontinued - TABLE B'!M$120","v":138.3563999925841},{"$f":"'Discontinued - OLDTABLE A'!H88/'Discontinued - TABLE B'!N$120","v":140.75879999452448},{"$f":"'Discontinued - OLDTABLE A'!H88/'Discontinued - TABLE B'!O$120","v":140.75879999452448},{"$f":"'Discontinued - OLDTABLE A'!P88/'Discontinued - TABLE B'!P$120","v":136.27100000054509},{"$f":"'Discontinued - OLDTABLE A'!Q88/'Discontinued - TABLE B'!Q$120","v":136.68599999472391},null,{"$f":"S$120*'Discontinued - OLDTABLE A'!S88","v":243.33119999999997},{"$f":"T$120*'Discontinued - OLDTABLE A'!T88","v":323.96899999999999},{"$f":"U$120*'Discontinued - OLDTABLE A'!U88","v":368.04599999999999},{"$f":"V$120*'Discontinued - OLDTABLE A'!V88","v":493.31610000000001},{"$f":"W$120*'Discontinued - OLDTABLE A'!W88","v":213.99889999999999},{"$f":"X$120*'Discontinued - OLDTABLE A'!X88","v":255.17520000000002},{"$f":"Y$120*'Discontinued - OLDTABLE A'!Y88","v":218.124},{"$f":"Z$120*'Discontinued - OLDTABLE A'!Z88","v":519.82399999999996},{"$f":"AA$120*'Discontinued - OLDTABLE A'!AA88","v":522.68150000000003}]
[4,2014,{"$f":"'Discontinued - OLDTABLE A'!D89/'Discontinued - TABLE B'!C$120","v":137.16179999503473},{"$f":"'Discontinued - OLDTABLE A'!E89/'Discontinued - TABLE B'!D$120","v":138.0120000022082},{"$f":"'Discontinued - OLDTABLE A'!F89/'Discontinued - TABLE B'!E$120","v":138.82860000313752},{"$f":"'Discontinued - OLDTABLE A'!G89/'Discontinued - TABLE B'!F$120","v":139.8360000089495},{"$f":"'Discontinued - OLDTABLE A'!J89/'Discontinued - TABLE B'!G$120","v":139.90270000682727},{"$f":"'Discontinued - OLDTABLE A'!I89/'Discontinued - TABLE B'!H$120","v":136.26590000168969},null,{"$f":"'Discontinued - OLDTABLE A'!M89/'Discontinued - TABLE B'!J$120","v":140.24080000409501},{"$f":"'Discontinued - OLDTABLE A'!N89/'Discontinued - TABLE B'!K$120","v":136.2180000000545},{"$f":"'Discontinued - OLDTABLE A'!O89/'Discontinued - TABLE B'!L$120","v":139.55759999260346},{"$f":"'Discontinued - OLDTABLE A'!L89/'Discontinued - TABLE B'!M$120","v":138.99339999254997},{"$f":"'Discontinued - OLDTABLE A'!H89/'Discontinued - TABLE B'!N$120","v":141.40329999449941},{"$f":"'Discontinued - OLDTABLE A'!H89/'Discontinued - TABLE B'!O$120","v":141.40329999449941},{"$f":"'Discontinued - OLDTABLE A'!P89/'Discontinued - TABLE B'!P$120","v":136.90600000054764},{"$f":"'Discontinued - OLDTABLE A'!Q89/'Discontinued - TABLE B'!Q$120","v":137.18759999470456},null,{"$f":"S$120*'Discontinued - OLDTABLE A'!S89","v":244.23999999999998},{"$f":"T$120*'Discontinued - OLDTABLE A'!T89","v":325.41399999999999},{"$f":"U$120*'Discontinued - OLDTABLE A'!U89","v":367.72400000000005},{"$f":"V$120*'Discontinued - OLDTABLE A'!V89","v":482.9436},{"$f":"W$120*'Discontinued - OLDTABLE A'!W89","v":215.52610000000001},{"$f":"X$120*'Discontinued - OLDTABLE A'!X89","v":258.03000000000003},{"$f":"Y$120*'Discontinued - OLDTABLE A'!Y89","v":221.90880000000001},{"$f":"Z$120*'Discontinued - OLDTABLE A'!Z89","v":516.00800000000004},{"$f":"AA$120*'Discontinued - OLDTABLE A'!AA89","v":518.05600000000004}]
[5,2014,{"$f":"'Discontinued - OLDTABLE A'!D90/'Discontinued - TABLE B'!C$120","v":137.54069999502101},{"$f":"'Discontinued - OLDTABLE A'!E90/'Discontinued - TABLE B'!D$120","v":138.3936000022143},{"$f":"'Discontinued - OLDTABLE A'!F90/'Discontinued - TABLE B'!E$120","v":139.08240000314325},{"$f":"'Discontinued - OLDTABLE A'!G90/'Discontinued - TABLE B'!F$120","v":140.35200000898251},{"$f":"'Discontinued - OLDTABLE A'!J90/'Discontinued - TABLE B'!G$120","v":140.41190000685211},{"$f":"'Discontinued - OLDTABLE A'!I90/'Discontinued - TABLE B'!H$120","v":136.64060000169434},null,{"$f":"'Discontinued - OLDTABLE A'!M90/'Discontinued - TABLE B'!J$120","v":140.36760000409873},{"$f":"'Discontinued - OLDTABLE A'!N90/'Discontinued - TABLE B'!K$120","v":136.34240000005454},{"$f":"'Discontinued - OLDTABLE A'!O90/'Discontinued - TABLE B'!L$120","v":139.68539999259667},{"$f":"'Discontinued - OLDTABLE A'!L90/'Discontinued - TABLE B'!M$120","v":139.24819999253631},{"$f":"'Discontinued - OLDTABLE A'!H90/'Discontinued - TABLE B'!N$120","v":141.6610999944894},{"$f":"'Discontinued - OLDTABLE A'!H90/'Discontinued - TABLE B'!O$120","v":141.6610999944894},{"$f":"'Discontinued - OLDTABLE A'!P90/'Discontinued - TABLE B'!P$120","v":137.41400000054966},{"$f":"'Discontinued - OLDTABLE A'!Q90/'Discontinued - TABLE B'!Q$120","v":137.6891999946852},null,{"$f":"S$120*'Discontinued - OLDTABLE A'!S90","v":244.69439999999997},{"$f":"T$120*'Discontinued - OLDTABLE A'!T90","v":324.83600000000001},{"$f":"U$120*'Discontinued - OLDTABLE A'!U90","v":365.79200000000003},{"$f":"V$120*'Discontinued - OLDTABLE A'!V90","v":475.06049999999999},{"$f":"W$120*'Discontinued - OLDTABLE A'!W90","v":216.48060000000001},{"$f":"X$120*'Discontinued - OLDTABLE A'!X90","v":258.4692},{"$f":"Y$120*'Discontinued - OLDTABLE A'!Y90","v":222.7056},{"$f":"Z$120*'Discontinued - OLDTABLE A'!Z90","v":504.56},{"$f":"AA$120*'Discontinued - OLDTABLE A'!AA90","v":505.86149999999998}]
[6,2014,{"$f":"'Discontinued - OLDTABLE A'!D91/'Discontinued - TABLE B'!C$120","v":137.9195999950073},{"$f":"'Discontinued - OLDTABLE A'!E91/'Discontinued - TABLE B'!D$120","v":139.15680000222653},{"$f":"'Discontinued - OLDTABLE A'!F91/'Discontinued - TABLE B'!E$120","v":139.7169000031576},{"$f":"'Discontinued - OLDTABLE A'!G91/'Discontinued - TABLE B'!F$120","v":140.86800000901556},{"$f":"'Discontinued - OLDTABLE A'!J91/'Discontinued - TABLE B'!G$120","v":140.28460000684589},{"$f":"'Discontinued - OLDTABLE A'!I91/'Discontinued - TABLE B'!H$120","v":136.7655000016959},null,{"$f":"'Discontinued - OLDTABLE A'!M91/'Discontinued - TABLE B'!J$120","v":141.00160000411725},{"$f":"'Discontinued - OLDTABLE A'!N91/'Discontinued - TABLE B'!K$120","v":136.84000000005474},{"$f":"'Discontinued - OLDTABLE A'!O91/'Discontinued - TABLE B'!L$120","v":139.94099999258313},{"$f":"'Discontinued - OLDTABLE A'!L91/'Discontinued - TABLE B'!M$120","v":140.01259999249535},{"$f":"'Discontinued - OLDTABLE A'!H91/'Discontinued - TABLE B'!N$120","v":142.04779999447436},{"$f":"'Discontinued - OLDTABLE A'!H91/'Discontinued - TABLE B'!O$120","v":142.04779999447436},{"$f":"'Discontinued - OLDTABLE A'!P91/'Discontinued - TABLE B'!P$120","v":138.04900000055221},{"$f":"'Discontinued - OLDTABLE A'!Q91/'Discontinued - TABLE B'!Q$120","v":137.6891999946852},null,{"$f":"S$120*'Discontinued - OLDTABLE A'!S91","v":245.37599999999998},{"$f":"T$120*'Discontinued - OLDTABLE A'!T91","v":324.83600000000001},{"$f":"U$120*'Discontinued - OLDTABLE A'!U91","v":367.40199999999999},{"$f":"V$120*'Discontinued - OLDTABLE A'!V91","v":472.98599999999999},{"$f":"W$120*'Discontinued - OLDTABLE A'!W91","v":216.86239999999998},{"$f":"X$120*'Discontinued - OLDTABLE A'!X91","v":256.27320000000003},{"$f":"Y$120*'Discontinued - OLDTABLE A'!Y91","v":220.9128},{"$f":"Z$120*'Discontinued - OLDTABLE A'!Z91","v":495.65600000000006},{"$f":"AA$120*'Discontinued - OLDTABLE A'!AA91","v":496.19}]
[7,2014,{"$f":"'Discontinued - OLDTABLE A'!D92/'Discontinued - TABLE B'!C$120","v":139.05629999496614},{"$f":"'Discontinued - OLDTABLE A'!E92/'Discontinued - TABLE B'!D$120","v":140.55600000224891},{"$f":"'Discontinued - OLDTABLE A'!F92/'Discontinued - TABLE B'!E$120","v":141.23970000319201},{"$f":"'Discontinued - OLDTABLE A'!G92/'Discontinued - TABLE B'!F$120","v":143.44800000918067},{"$f":"'Discontinued - OLDTABLE A'!J92/'Discontinued - TABLE B'!G$120","v":140.92110000687697},{"$f":"'Discontinued - OLDTABLE A'!I92/'Discontinued - TABLE B'!H$120","v":138.51410000171759},null,{"$f":"'Discontinued - OLDTABLE A'!M92/'Discontinued - TABLE B'!J$120","v":142.14280000415056},{"$f":"'Discontinued - OLDTABLE A'!N92/'Discontinued - TABLE B'!K$120","v":137.58640000005502},{"$f":"'Discontinued - OLDTABLE A'!O92/'Discontinued - TABLE B'!L$120","v":141.21899999251539},{"$f":"'Discontinued - OLDTABLE A'!L92/'Discontinued - TABLE B'!M$120","v":140.77699999245436},{"$f":"'Discontinued - OLDTABLE A'!H92/'Discontinued - TABLE B'!N$120","v":142.82119999444424},{"$f":"'Discontinued - OLDTABLE A'!H92/'Discontinued - TABLE B'!O$120","v":142.82119999444424},{"$f":"'Discontinued - OLDTABLE A'!P92/'Discontinued - TABLE B'!P$120","v":138.55700000055424},{"$f":"'Discontinued - OLDTABLE A'!Q92/'Discontinued - TABLE B'!Q$120","v":138.69239999464648},null,{"$f":"S$120*'Discontinued - OLDTABLE A'!S92","v":245.37599999999998},{"$f":"T$120*'Discontinued - OLDTABLE A'!T92","v":323.68},{"$f":"U$120*'Discontinued - OLDTABLE A'!U92","v":370.62200000000001},{"$f":"V$120*'Discontinued - OLDTABLE A'!V92","v":471.32639999999998},{"$f":"W$120*'Discontinued - OLDTABLE A'!W92","v":217.05330000000001},{"$f":"X$120*'Discontinued - OLDTABLE A'!X92","v":255.3948},{"$f":"Y$120*'Discontinued - OLDTABLE A'!Y92","v":220.31519999999998},{"$f":"Z$120*'Discontinued - OLDTABLE A'!Z92","v":501.16800000000006},{"$f":"AA$120*'Discontinued - OLDTABLE A'!AA92","v":502.07700000000006}]
[8,2014,{"$f":"'Discontinued - OLDTABLE A'!D93/'Discontinued - TABLE B'!C$120","v":139.56149999494787},{"$f":"'Discontinued - OLDTABLE A'!E93/'Discontinued - TABLE B'!D$120","v":140.93760000225501},{"$f":"'Discontinued - OLDTABLE A'!F93/'Discontinued - TABLE B'!E$120","v":141.49350000319774},{"$f":"'Discontinued - OLDTABLE A'!G93/'Discontinued - TABLE B'!F$120","v":143.7060000091972},{"$f":"'Discontinued - OLDTABLE A'!J93/'Discontinued - TABLE B'!G$120","v":141.55760000690802},{"$f":"'Discontinued - OLDTABLE A'!I93/'Discontinued - TABLE B'!H$120","v":138.63900000171913},null,{"$f":"'Discontinued - OLDTABLE A'!M93/'Discontinued - TABLE B'!J$120","v":142.52320000416168},{"$f":"'Discontinued - OLDTABLE A'!N93/'Discontinued - TABLE B'!K$120","v":138.08400000005523},{"$f":"'Discontinued - OLDTABLE A'!O93/'Discontinued - TABLE B'!L$120","v":141.73019999248831},{"$f":"'Discontinued - OLDTABLE A'!L93/'Discontinued - TABLE B'!M$120","v":141.41399999242023},{"$f":"'Discontinued - OLDTABLE A'!H93/'Discontinued - TABLE B'!N$120","v":143.33679999442421},{"$f":"'Discontinued - OLDTABLE A'!H93/'Discontinued - TABLE B'!O$120","v":143.33679999442421},{"$f":"'Discontinued - OLDTABLE A'!P93/'Discontinued - TABLE B'!P$120","v":139.31900000055728},{"$f":"'Discontinued - OLDTABLE A'!Q93/'Discontinued - TABLE B'!Q$120","v":139.19399999462712},null,{"$f":"S$120*'Discontinued - OLDTABLE A'!S93","v":245.37599999999998},{"$f":"T$120*'Discontinued - OLDTABLE A'!T93","v":323.68},{"$f":"U$120*'Discontinued - OLDTABLE A'!U93","v":367.08000000000004},{"$f":"V$120*'Discontinued - OLDTABLE A'!V93","v":465.51780000000002},{"$f":"W$120*'Discontinued - OLDTABLE A'!W93","v":217.43510000000001},{"$f":"X$120*'Discontinued - OLDTABLE A'!X93","v":257.37120000000004},{"$f":"Y$120*'Discontinued - OLDTABLE A'!Y93","v":220.51439999999999},{"$f":"Z$120*'Discontinued - OLDTABLE A'!Z93","v":498.62400000000002},{"$f":"AA$120*'Discontinued - OLDTABLE A'!AA93","v":499.97450000000003}]
[9,2014,{"$f":"'Discontinued - OLDTABLE A'!D94/'Discontinued - TABLE B'!C$120","v":140.06669999492959},{"$f":"'Discontinued - OLDTABLE A'!E94/'Discontinued - TABLE B'!D$120","v":140.68320000225094},{"$f":"'Discontinued - OLDTABLE A'!F94/'Discontinued - TABLE B'!E$120","v":141.36660000319489},{"$f":"'Discontinued - OLDTABLE A'!G94/'Discontinued - TABLE B'!F$120","v":143.57700000918891},{"$f":"'Discontinued - OLDTABLE A'!J94/'Discontinued - TABLE B'!G$120","v":141.30300000689559},{"$f":"'Discontinued - OLDTABLE A'!I94/'Discontinued - TABLE B'!H$120","v":138.51410000171759},null,{"$f":"'Discontinued - OLDTABLE A'!M94/'Discontinued - TABLE B'!J$120","v":142.39640000415798},{"$f":"'Discontinued - OLDTABLE A'!N94/'Discontinued - TABLE B'!K$120","v":138.08400000005523},{"$f":"'Discontinued - OLDTABLE A'!O94/'Discontinued - TABLE B'!L$120","v":141.47459999250185},{"$f":"'Discontinued - OLDTABLE A'!L94/'Discontinued - TABLE B'!M$120","v":141.15919999243388},{"$f":"'Discontinued - OLDTABLE A'!H94/'Discontinued - TABLE B'!N$120","v":143.33679999442421},{"$f":"'Discontinued - OLDTABLE A'!H94/'Discontinued - TABLE B'!O$120","v":143.33679999442421},{"$f":"'Discontinued - OLDTABLE A'!P94/'Discontinued - TABLE B'!P$120","v":139.31900000055728},{"$f":"'Discontinued - OLDTABLE A'!Q94/'Discontinued - TABLE B'!Q$120","v":139.19399999462712},null,{"$f":"S$120*'Discontinued - OLDTABLE A'!S94","v":246.96639999999999},{"$f":"T$120*'Discontinued - OLDTABLE A'!T94","v":327.14800000000002},{"$f":"U$120*'Discontinued - OLDTABLE A'!U94","v":367.40199999999999},{"$f":"V$120*'Discontinued - OLDTABLE A'!V94","v":458.87939999999998},{"$f":"W$120*'Discontinued - OLDTABLE A'!W94","v":217.43510000000001},{"$f":"X$120*'Discontinued - OLDTABLE A'!X94","v":257.37120000000004},{"$f":"Y$120*'Discontinued - OLDTABLE A'!Y94","v":220.31519999999998},{"$f":"Z$120*'Discontinued - OLDTABLE A'!Z94","v":488.87200000000001},{"$f":"AA$120*'Discontinued - OLDTABLE A'!AA94","v":489.46200000000005}]
[10,2014,{"$f":"'Discontinued - OLDTABLE A'!D95/'Discontinued - TABLE B'!C$120","v":140.57189999491129},{"$f":"'Discontinued - OLDTABLE A'!E95/'Discontinued - TABLE B'!D$120","v":140.93760000225501},{"$f":"'Discontinued - OLDTABLE A'!F95/'Discontinued - TABLE B'!E$120","v":141.62040000320061},{"$f":"'Discontinued - OLDTABLE A'!G95/'Discontinued - TABLE B'!F$120","v":143.7060000091972},{"$f":"'Discontinued - OLDTABLE A'!J95/'Discontinued - TABLE B'!G$120","v":141.68490000691423},{"$f":"'Discontinued - OLDTABLE A'!I95/'Discontinued - TABLE B'!H$120","v":138.63900000171913},null,{"$f":"'Discontinued - OLDTABLE A'!M95/'Discontinued - TABLE B'!J$120","v":142.65000000416538},{"$f":"'Discontinued - OLDTABLE A'!N95/'Discontinued - TABLE B'!K$120","v":138.33280000005533},{"$f":"'Discontinued - OLDTABLE A'!O95/'Discontinued - TABLE B'!L$120","v":141.60239999249507},{"$f":"'Discontinued - OLDTABLE A'!L95/'Discontinued - TABLE B'!M$120","v":141.15919999243388},{"$f":"'Discontinued - OLDTABLE A'!H95/'Discontinued - TABLE B'!N$120","v":143.72349999440917},{"$f":"'Discontinued - OLDTABLE A'!H95/'Discontinued - TABLE B'!O$120","v":143.72349999440917},{"$f":"'Discontinued - OLDTABLE A'!P95/'Discontinued - TABLE B'!P$120","v":139.70000000055882},{"$f":"'Discontinued - OLDTABLE A'!Q95/'Discontinued - TABLE B'!Q$120","v":139.19399999462712},null,{"$f":"S$120*'Discontinued - OLDTABLE A'!S95","v":247.19359999999998},{"$f":"T$120*'Discontinued - OLDTABLE A'!T95","v":327.14800000000002},{"$f":"U$120*'Discontinued - OLDTABLE A'!U95","v":368.36800000000005},{"$f":"V$120*'Discontinued - OLDTABLE A'!V95","v":432.32580000000002},{"$f":"W$120*'Discontinued - OLDTABLE A'!W95","v":216.28970000000001},{"$f":"X$120*'Discontinued - OLDTABLE A'!X95","v":257.15160000000003},{"$f":"Y$120*'Discontinued - OLDTABLE A'!Y95","v":217.9248},{"$f":"Z$120*'Discontinued - OLDTABLE A'!Z95","v":484.20800000000003},{"$f":"AA$120*'Discontinued - OLDTABLE A'!AA95","v":484.416}]
[11,2014,{"$f":"'Discontinued - OLDTABLE A'!D96/'Discontinued - TABLE B'!C$120","v":140.69819999490673},{"$f":"'Discontinued - OLDTABLE A'!E96/'Discontinued - TABLE B'!D$120","v":141.19200000225908},{"$f":"'Discontinued - OLDTABLE A'!F96/'Discontinued - TABLE B'!E$120","v":141.62040000320061},{"$f":"'Discontinued - OLDTABLE A'!G96/'Discontinued - TABLE B'!F$120","v":143.57700000918891},{"$f":"'Discontinued - OLDTABLE A'!J96/'Discontinued - TABLE B'!G$120","v":141.68490000691423},{"$f":"'Discontinued - OLDTABLE A'!I96/'Discontinued - TABLE B'!H$120","v":138.38920000171603},null,{"$f":"'Discontinued - OLDTABLE A'!M96/'Discontinued - TABLE B'!J$120","v":142.52320000416168},{"$f":"'Discontinued - OLDTABLE A'!N96/'Discontinued - TABLE B'!K$120","v":138.20840000005529},{"$f":"'Discontinued - OLDTABLE A'!O96/'Discontinued - TABLE B'!L$120","v":141.85799999248152},{"$f":"'Discontinued - OLDTABLE A'!L96/'Discontinued - TABLE B'!M$120","v":141.28659999242706},{"$f":"'Discontinued - OLDTABLE A'!H96/'Discontinued - TABLE B'!N$120","v":143.85239999440415},{"$f":"'Discontinued - OLDTABLE A'!H96/'Discontinued - TABLE B'!O$120","v":143.85239999440415},{"$f":"'Discontinued - OLDTABLE A'!P96/'Discontinued - TABLE B'!P$120","v":139.82700000055931},{"$f":"'Discontinued - OLDTABLE A'!Q96/'Discontinued - TABLE B'!Q$120","v":139.06859999463197},null,{"$f":"S$120*'Discontinued - OLDTABLE A'!S96","v":246.51199999999997},{"$f":"T$120*'Discontinued - OLDTABLE A'!T96","v":329.46000000000004},{"$f":"U$120*'Discontinued - OLDTABLE A'!U96","v":366.11400000000003},{"$f":"V$120*'Discontinued - OLDTABLE A'!V96","v":406.18710000000004},{"$f":"W$120*'Discontinued - OLDTABLE A'!W96","v":216.86239999999998},{"$f":"X$120*'Discontinued - OLDTABLE A'!X96","v":257.15160000000003},{"$f":"Y$120*'Discontinued - OLDTABLE A'!Y96","v":217.9248},{"$f":"Z$120*'Discontinued - OLDTABLE A'!Z96","v":451.13600000000002},{"$f":"AA$120*'Discontinued - OLDTABLE A'!AA96","v":460.02700000000004}]
[12,2014,{"$f":"'Discontinued - OLDTABLE A'!D97/'Discontinued - TABLE B'!C$120","v":140.57189999491129},{"$f":"'Discontinued - OLDTABLE A'!E97/'Discontinued - TABLE B'!D$120","v":141.06480000225704},{"$f":"'Discontinued - OLDTABLE A'!F97/'Discontinued - TABLE B'!E$120","v":141.23970000319201},{"$f":"'Discontinued - OLDTABLE A'!G97/'Discontinued - TABLE B'!F$120","v":143.19000000916415},{"$f":"'Discontinued - OLDTABLE A'!J97/'Discontinued - TABLE B'!G$120","v":141.4303000069018},{"$f":"'Discontinued - OLDTABLE A'!I97/'Discontinued - TABLE B'!H$120","v":138.01450000171138},null,{"$f":"'Discontinued - OLDTABLE A'!M97/'Discontinued - TABLE B'!J$120","v":142.39640000415798},{"$f":"'Discontinued - OLDTABLE A'!N97/'Discontinued - TABLE B'!K$120","v":137.83520000005512},{"$f":"'Discontinued - OLDTABLE A'!O97/'Discontinued - TABLE B'!L$120","v":141.34679999250861},{"$f":"'Discontinued - OLDTABLE A'!L97/'Discontinued - TABLE B'!M$120","v":140.77699999245436},{"$f":"'Discontinued - OLDTABLE A'!H97/'Discontinued - TABLE B'!N$120","v":143.4656999944192},{"$f":"'Discontinued - OLDTABLE A'!H97/'Discontinued - TABLE B'!O$120","v":143.4656999944192},{"$f":"'Discontinued - OLDTABLE A'!P97/'Discontinued - TABLE B'!P$120","v":139.31900000055728},{"$f":"'Discontinued - OLDTABLE A'!Q97/'Discontinued - TABLE B'!Q$120","v":138.69239999464648},null,{"$f":"S$120*'Discontinued - OLDTABLE A'!S97","v":245.60319999999996},{"$f":"T$120*'Discontinued - OLDTABLE A'!T97","v":329.46000000000004},{"$f":"U$120*'Discontinued - OLDTABLE A'!U97","v":355.81},{"$f":"V$120*'Discontinued - OLDTABLE A'!V97","v":370.50569999999999},{"$f":"W$120*'Discontinued - OLDTABLE A'!W97","v":216.86239999999998},{"$f":"X$120*'Discontinued - OLDTABLE A'!X97","v":257.15160000000003},{"$f":"Y$120*'Discontinued - OLDTABLE A'!Y97","v":217.9248},{"$f":"Z$120*'Discontinued - OLDTABLE A'!Z97","v":429.512},{"$f":"AA$120*'Discontinued - OLDTABLE A'!AA97","v":439.00200000000001}]
[1,2015,{"$f":"'Discontinued - OLDTABLE A'!D98/'Discontinued - TABLE B'!C$120","v":140.44559999491585},{"$f":"'Discontinued - OLDTABLE A'!E98/'Discontinued - TABLE B'!D$120","v":140.93760000225501},{"$f":"'Discontinued - OLDTABLE A'!F98/'Discontinued - TABLE B'!E$120","v":140.98590000318626},{"$f":"'Discontinued - OLDTABLE A'!G98/'Discontinued - TABLE B'!F$120","v":143.19000000916415},{"$f":"'Discontinued - OLDTABLE A'!J98/'Discontinued - TABLE B'!G$120","v":141.1757000068894},{"$f":"'Discontinued - OLDTABLE A'!I98/'Discontinued - TABLE B'!H$120","v":137.39000000170364},null,{"$f":"'Discontinued - OLDTABLE A'!M98/'Discontinued - TABLE B'!J$120","v":142.01600000414686},{"$f":"'Discontinued - OLDTABLE A'!N98/'Discontinued - TABLE B'!K$120","v":137.71080000005509},{"$f":"'Discontinued - OLDTABLE A'!O98/'Discontinued - TABLE B'!L$120","v":140.83559999253572},{"$f":"'Discontinued - OLDTABLE A'!L98/'Discontinued - TABLE B'!M$120","v":140.90439999244754},{"$f":"'Discontinued - OLDTABLE A'!H98/'Discontinued - TABLE B'!N$120","v":143.72349999440917},{"$f":"'Discontinued - OLDTABLE A'!H98/'Discontinued - TABLE B'!O$120","v":143.72349999440917},{"$f":"'Discontinued - OLDTABLE A'!P98/'Discontinued - TABLE B'!P$120","v":139.5730000005583},{"$f":"'Discontinued - OLDTABLE A'!Q98/'Discontinued - TABLE B'!Q$120","v":138.69239999464648},null,{"$f":"S$120*'Discontinued - OLDTABLE A'!S98","v":241.05919999999998},{"$f":"T$120*'Discontinued - OLDTABLE A'!T98","v":321.65699999999998},{"$f":"U$120*'Discontinued - OLDTABLE A'!U98","v":345.18400000000003},{"$f":"V$120*'Discontinued - OLDTABLE A'!V98","v":325.69650000000001},{"$f":"W$120*'Discontinued - OLDTABLE A'!W98","v":219.1532},{"$f":"X$120*'Discontinued - OLDTABLE A'!X98","v":259.12800000000004},{"$f":"Y$120*'Discontinued - OLDTABLE A'!Y98","v":219.3192},{"$f":"Z$120*'Discontinued - OLDTABLE A'!Z98","v":401.10399999999998},{"$f":"AA$120*'Discontinued - OLDTABLE A'!AA98","v":409.98750000000001}]
[2,2015,{"$f":"'Discontinued - OLDTABLE A'!D99/'Discontinued - TABLE B'!C$120","v":140.95079999489755},{"$f":"'Discontinued - OLDTABLE A'!E99/'Discontinued - TABLE B'!D$120","v":141.82800000226925},{"$f":"'Discontinued - OLDTABLE A'!F99/'Discontinued - TABLE B'!E$120","v":142.25490000321494},{"$f":"'Discontinued - OLDTABLE A'!G99/'Discontinued - TABLE B'!F$120","v":143.83500000920543},{"$f":"'Discontinued - OLDTABLE A'!J99/'Discontinued - TABLE B'!G$120","v":142.70330000696393},{"$f":"'Discontinued - OLDTABLE A'!I99/'Discontinued - TABLE B'!H$120","v":138.01450000171138},null,{"$f":"'Discontinued - OLDTABLE A'!M99/'Discontinued - TABLE B'!J$120","v":142.90360000417277},{"$f":"'Discontinued - OLDTABLE A'!N99/'Discontinued - TABLE B'!K$120","v":139.2036000000557},{"$f":"'Discontinued - OLDTABLE A'!O99/'Discontinued - TABLE B'!L$120","v":141.98579999247474},{"$f":"'Discontinued - OLDTABLE A'!L99/'Discontinued - TABLE B'!M$120","v":141.68153999240587},{"$f":"'Discontinued - OLDTABLE A'!H99/'Discontinued - TABLE B'!N$120","v":144.62579999437406},{"$f":"'Discontinued - OLDTABLE A'!H99/'Discontinued - TABLE B'!O$120","v":144.62579999437406},{"$f":"'Discontinued - OLDTABLE A'!P99/'Discontinued - TABLE B'!P$120","v":140.46200000056186},{"$f":"'Discontinued - OLDTABLE A'!Q99/'Discontinued - TABLE B'!Q$120","v":139.44479999461743},null,{"$f":"S$120*'Discontinued - OLDTABLE A'!S99","v":239.69599999999997},{"$f":"T$120*'Discontinued - OLDTABLE A'!T99","v":323.39100000000002},{"$f":"U$120*'Discontinued - OLDTABLE A'!U99","v":329.72800000000007},{"$f":"V$120*'Discontinued - OLDTABLE A'!V99","v":301.2174},{"$f":"W$120*'Discontinued - OLDTABLE A'!W99","v":220.29860000000002},{"$f":"X$120*'Discontinued - OLDTABLE A'!X99","v":259.56720000000001},{"$f":"Y$120*'Discontinued - OLDTABLE A'!Y99","v":220.11599999999999},{"$f":"Z$120*'Discontinued - OLDTABLE A'!Z99","v":361.24800000000005},{"$f":"AA$120*'Discontinued - OLDTABLE A'!AA99","v":367.9375}]
[3,2015,{"$f":"'Discontinued - OLDTABLE A'!D100/'Discontinued - TABLE B'!C$120","v":143.09789999481984},{"$f":"'Discontinued - OLDTABLE A'!E100/'Discontinued - TABLE B'!D$120","v":143.35440000229369},{"$f":"'Discontinued - OLDTABLE A'!F100/'Discontinued - TABLE B'!E$120","v":144.0315000032551},{"$f":"'Discontinued - OLDTABLE A'!G100/'Discontinued - TABLE B'!F$120","v":145.64100000932103},{"$f":"'Discontinued - OLDTABLE A'!J100/'Discontinued - TABLE B'!G$120","v":144.48550000705089},{"$f":"'Discontinued - OLDTABLE A'!I100/'Discontinued - TABLE B'!H$120","v":140.1378000017377},null,{"$f":"'Discontinued - OLDTABLE A'!M100/'Discontinued - TABLE B'!J$120","v":145.18600000423942},{"$f":"'Discontinued - OLDTABLE A'!N100/'Discontinued - TABLE B'!K$120","v":141.19400000005649},{"$f":"'Discontinued - OLDTABLE A'!O100/'Discontinued - TABLE B'!L$120","v":143.90279999237316},{"$f":"'Discontinued - OLDTABLE A'!L100/'Discontinued - TABLE B'!M$120","v":143.3249999923178},{"$f":"'Discontinued - OLDTABLE A'!H100/'Discontinued - TABLE B'!N$120","v":146.81709999428884},{"$f":"'Discontinued - OLDTABLE A'!H100/'Discontinued - TABLE B'!O$120","v":146.81709999428884},{"$f":"'Discontinued - OLDTABLE A'!P100/'Discontinued - TABLE B'!P$120","v":141.85900000056745},{"$f":"'Discontinued - OLDTABLE A'!Q100/'Discontinued - TABLE B'!Q$120","v":141.32579999454484},null,{"$f":"S$120*'Discontinued - OLDTABLE A'!S100","v":239.01439999999999},{"$f":"T$120*'Discontinued - OLDTABLE A'!T100","v":321.65699999999998},{"$f":"U$120*'Discontinued - OLDTABLE A'!U100","v":335.846},{"$f":"V$120*'Discontinued - OLDTABLE A'!V100","v":331.50510000000003},{"$f":"W$120*'Discontinued - OLDTABLE A'!W100","v":220.48949999999999},{"$f":"X$120*'Discontinued - OLDTABLE A'!X100","v":259.56720000000001},{"$f":"Y$120*'Discontinued - OLDTABLE A'!Y100","v":220.11599999999999},{"$f":"Z$120*'Discontinued - OLDTABLE A'!Z100","v":390.08000000000004},{"$f":"AA$120*'Discontinued - OLDTABLE A'!AA100","v":398.21350000000001}]
[4,2015,{"$f":"'Discontinued - OLDTABLE A'!D101/'Discontinued - TABLE B'!C$120","v":144.2345999947787},{"$f":"'Discontinued - OLDTABLE A'!E101/'Discontinued - TABLE B'!D$120","v":144.62640000231403},{"$f":"'Discontinued - OLDTABLE A'!F101/'Discontinued - TABLE B'!E$120","v":145.30050000328379},{"$f":"'Discontinued - OLDTABLE A'!G101/'Discontinued - TABLE B'!F$120","v":147.06000000941182},{"$f":"'Discontinued - OLDTABLE A'!J101/'Discontinued - TABLE B'!G$120","v":145.63120000710683},{"$f":"'Discontinued - OLDTABLE A'!I101/'Discontinued - TABLE B'!H$120","v":141.63660000175631},null,{"$f":"'Discontinued - OLDTABLE A'!M101/'Discontinued - TABLE B'!J$120","v":146.58080000428015},{"$f":"'Discontinued - OLDTABLE A'!N101/'Discontinued - TABLE B'!K$120","v":142.31360000005694},{"$f":"'Discontinued - OLDTABLE A'!O101/'Discontinued - TABLE B'!L$120","v":145.43639999229188},{"$f":"'Discontinued - OLDTABLE A'!L101/'Discontinued - TABLE B'!M$120","v":144.98119999222902},{"$f":"'Discontinued - OLDTABLE A'!H101/'Discontinued - TABLE B'!N$120","v":148.23499999423368},{"$f":"'Discontinued - OLDTABLE A'!H101/'Discontinued - TABLE B'!O$120","v":148.23499999423368},{"$f":"'Discontinued - OLDTABLE A'!P101/'Discontinued - TABLE B'!P$120","v":143.25600000057304},{"$f":"'Discontinued - OLDTABLE A'!Q101/'Discontinued - TABLE B'!Q$120","v":142.83059999448673},null,{"$f":"S$120*'Discontinued - OLDTABLE A'!S101","v":232.19839999999999},{"$f":"T$120*'Discontinued - OLDTABLE A'!T101","v":310.38600000000002},{"$f":"U$120*'Discontinued - OLDTABLE A'!U101","v":330.37200000000001},{"$f":"V$120*'Discontinued - OLDTABLE A'!V101","v":348.51600000000002},{"$f":"W$120*'Discontinued - OLDTABLE A'!W101","v":220.87130000000002},{"$f":"X$120*'Discontinued - OLDTABLE A'!X101","v":255.3948},{"$f":"Y$120*'Discontinued - OLDTABLE A'!Y101","v":216.7296},{"$f":"Z$120*'Discontinued - OLDTABLE A'!Z101","v":437.99200000000002},{"$f":"AA$120*'Discontinued - OLDTABLE A'!AA101","v":447.83249999999998}]
[5,2015,{"$f":"'Discontinued - OLDTABLE A'!D102/'Discontinued - TABLE B'!C$120","v":144.48719999476955},{"$f":"'Discontinued - OLDTABLE A'!E102/'Discontinued - TABLE B'!D$120","v":144.75360000231606},{"$f":"'Discontinued - OLDTABLE A'!F102/'Discontinued - TABLE B'!E$120","v":145.68120000329239},{"$f":"'Discontinued - OLDTABLE A'!G102/'Discontinued - TABLE B'!F$120","v":147.31800000942835},{"$f":"'Discontinued - OLDTABLE A'!J102/'Discontinued - TABLE B'!G$120","v":145.88580000711923},{"$f":"'Discontinued - OLDTABLE A'!I102/'Discontinued - TABLE B'!H$120","v":142.01130000176093},null,{"$f":"'Discontinued - OLDTABLE A'!M102/'Discontinued - TABLE B'!J$120","v":147.08800000429497},{"$f":"'Discontinued - OLDTABLE A'!N102/'Discontinued - TABLE B'!K$120","v":142.68680000005708},{"$f":"'Discontinued - OLDTABLE A'!O102/'Discontinued - TABLE B'!L$120","v":145.81979999227156},{"$f":"'Discontinued - OLDTABLE A'!L102/'Discontinued - TABLE B'!M$120","v":145.23599999221537},{"$f":"'Discontinued - OLDTABLE A'!H102/'Discontinued - TABLE B'!N$120","v":148.62169999421863},{"$f":"'Discontinued - OLDTABLE A'!H102/'Discontinued - TABLE B'!O$120","v":148.62169999421863},{"$f":"'Discontinued - OLDTABLE A'!P102/'Discontinued - TABLE B'!P$120","v":143.51000000057405},{"$f":"'Discontinued - OLDTABLE A'!Q102/'Discontinued - TABLE B'!Q$120","v":142.95599999448189},null,{"$f":"S$120*'Discontinued - OLDTABLE A'!S102","v":228.79039999999998},{"$f":"T$120*'Discontinued - OLDTABLE A'!T102","v":305.18399999999997},{"$f":"U$120*'Discontinued - OLDTABLE A'!U102","v":327.79599999999999},{"$f":"V$120*'Discontinued - OLDTABLE A'!V102","v":352.66500000000002},{"$f":"W$120*'Discontinued - OLDTABLE A'!W102","v":221.25310000000002},{"$f":"X$120*'Discontinued - OLDTABLE A'!X102","v":255.3948},{"$f":"Y$120*'Discontinued - OLDTABLE A'!Y102","v":216.53040000000001},{"$f":"Z$120*'Discontinued - OLDTABLE A'!Z102","v":435.87200000000001},{"$f":"AA$120*'Discontinued - OLDTABLE A'!AA102","v":448.67350000000005}]
[6,2015,{"$f":"'Discontinued - OLDTABLE A'!D103/'Discontinued - TABLE B'!C$120","v":144.99239999475125},{"$f":"'Discontinued - OLDTABLE A'!E103/'Discontinued - TABLE B'!D$120","v":145.38960000232623},{"$f":"'Discontinued - OLDTABLE A'!F103/'Discontinued - TABLE B'!E$120","v":146.44260000330959},{"$f":"'Discontinued - OLDTABLE A'!G103/'Discontinued - TABLE B'!F$120","v":148.35000000949441},{"$f":"'Discontinued - OLDTABLE A'!J103/'Discontinued - TABLE B'!G$120","v":146.26770000713788},{"$f":"'Discontinued - OLDTABLE A'!I103/'Discontinued - TABLE B'!H$120","v":142.38600000176558},null,{"$f":"'Discontinued - OLDTABLE A'!M103/'Discontinued - TABLE B'!J$120","v":147.72200000431349},{"$f":"'Discontinued - OLDTABLE A'!N103/'Discontinued - TABLE B'!K$120","v":143.18440000005728},{"$f":"'Discontinued - OLDTABLE A'!O103/'Discontinued - TABLE B'!L$120","v":146.58659999223093},{"$f":"'Discontinued - OLDTABLE A'!L103/'Discontinued - TABLE B'!M$120","v":145.61819999219486},{"$f":"'Discontinued - OLDTABLE A'!H103/'Discontinued - TABLE B'!N$120","v":149.26619999419356},{"$f":"'Discontinued - OLDTABLE A'!H103/'Discontinued - TABLE B'!O$120","v":149.26619999419356},{"$f":"'Discontinued - OLDTABLE A'!P103/'Discontinued - TABLE B'!P$120","v":144.52600000057811},{"$f":"'Discontinued - OLDTABLE A'!Q103/'Discontinued - TABLE B'!Q$120","v":143.83379999444801},null,{"$f":"S$120*'Discontinued - OLDTABLE A'!S103","v":229.2448},{"$f":"T$120*'Discontinued - OLDTABLE A'!T103","v":304.31700000000001},{"$f":"U$120*'Discontinued - OLDTABLE A'!U103","v":331.66},{"$f":"V$120*'Discontinued - OLDTABLE A'!V103","v":365.52689999999996},{"$f":"W$120*'Discontinued - OLDTABLE A'!W103","v":221.25310000000002},{"$f":"X$120*'Discontinued - OLDTABLE A'!X103","v":256.05360000000002},{"$f":"Y$120*'Discontinued - OLDTABLE A'!Y103","v":215.93280000000001},{"$f":"Z$120*'Discontinued - OLDTABLE A'!Z103","v":456.22399999999999},{"$f":"AA$120*'Discontinued - OLDTABLE A'!AA103","v":479.37}]
[7,2015,{"$f":"'Discontinued - OLDTABLE A'!D104/'Discontinued - TABLE B'!C$120","v":146.38169999470097},{"$f":"'Discontinued - OLDTABLE A'!E104/'Discontinued - TABLE B'!D$120","v":146.91600000235067},{"$f":"'Discontinued - OLDTABLE A'!F104/'Discontinued - TABLE B'!E$120","v":148.72680000336123},{"$f":"'Discontinued - OLDTABLE A'!G104/'Discontinued - TABLE B'!F$120","v":150.02700000960172},{"$f":"'Discontinued - OLDTABLE A'!J104/'Discontinued - TABLE B'!G$120","v":147.92260000721862},{"$f":"'Discontinued - OLDTABLE A'!I104/'Discontinued - TABLE B'!H$120","v":144.50930000179193},null,{"$f":"'Discontinued - OLDTABLE A'!M104/'Discontinued - TABLE B'!J$120","v":149.37040000436161},{"$f":"'Discontinued - OLDTABLE A'!N104/'Discontinued - TABLE B'!K$120","v":144.42840000005776},{"$f":"'Discontinued - OLDTABLE A'!O104/'Discontinued - TABLE B'!L$120","v":148.24799999214287},{"$f":"'Discontinued - OLDTABLE A'!L104/'Discontinued - TABLE B'!M$120","v":147.01959999211977},{"$f":"'Discontinued - OLDTABLE A'!H104/'Discontinued - TABLE B'!N$120","v":150.55519999414341},{"$f":"'Discontinued - OLDTABLE A'!H104/'Discontinued - TABLE B'!O$120","v":150.55519999414341},{"$f":"'Discontinued - OLDTABLE A'!P104/'Discontinued - TABLE B'!P$120","v":145.41500000058167},{"$f":"'Discontinued - OLDTABLE A'!Q104/'Discontinued - TABLE B'!Q$120","v":144.96239999440445},null,{"$f":"S$120*'Discontinued - OLDTABLE A'!S104","v":228.79039999999998},{"$f":"T$120*'Discontinued - OLDTABLE A'!T104","v":304.60600000000005},{"$f":"U$120*'Discontinued - OLDTABLE A'!U104","v":326.18600000000004},{"$f":"V$120*'Discontinued - OLDTABLE A'!V104","v":362.20769999999999},{"$f":"W$120*'Discontinued - OLDTABLE A'!W104","v":221.63489999999999},{"$f":"X$120*'Discontinued - OLDTABLE A'!X104","v":257.37120000000004},{"$f":"Y$120*'Discontinued - OLDTABLE A'!Y104","v":214.73759999999999},{"$f":"Z$120*'Discontinued - OLDTABLE A'!Z104","v":457.92},{"$f":"AA$120*'Discontinued - OLDTABLE A'!AA104","v":481.05200000000002}]
[8,2015,{"$f":"'Discontinued - OLDTABLE A'!D105/'Discontinued - TABLE B'!C$120","v":146.38169999470097},{"$f":"'Discontinued - OLDTABLE A'!E105/'Discontinued - TABLE B'!D$120","v":147.04320000235271},{"$f":"'Discontinued - OLDTABLE A'!F105/'Discontinued - TABLE B'!E$120","v":148.85370000336408},{"$f":"'Discontinued - OLDTABLE A'!G105/'Discontinued - TABLE B'!F$120","v":150.02700000960172},{"$f":"'Discontinued - OLDTABLE A'!J105/'Discontinued - TABLE B'!G$120","v":148.04990000722484},{"$f":"'Discontinued - OLDTABLE A'!I105/'Discontinued - TABLE B'!H$120","v":144.25950000178881},null,{"$f":"'Discontinued - OLDTABLE A'!M105/'Discontinued - TABLE B'!J$120","v":149.37040000436161},{"$f":"'Discontinued - OLDTABLE A'!N105/'Discontinued - TABLE B'!K$120","v":144.55280000005783},{"$f":"'Discontinued - OLDTABLE A'!O105/'Discontinued - TABLE B'!L$120","v":148.24799999214287},{"$f":"'Discontinued - OLDTABLE A'!L105/'Discontinued - TABLE B'!M$120","v":147.27439999210608},{"$f":"'Discontinued - OLDTABLE A'!H105/'Discontinued - TABLE B'!N$120","v":150.68409999413839},{"$f":"'Discontinued - OLDTABLE A'!H105/'Discontinued - TABLE B'!O$120","v":150.68409999413839},{"$f":"'Discontinued - OLDTABLE A'!P105/'Discontinued - TABLE B'!P$120","v":145.54200000058216},{"$f":"'Discontinued - OLDTABLE A'!Q105/'Discontinued - TABLE B'!Q$120","v":145.0877999943996},null,{"$f":"S$120*'Discontinued - OLDTABLE A'!S105","v":229.69919999999996},{"$f":"T$120*'Discontinued - OLDTABLE A'!T105","v":306.34000000000003},{"$f":"U$120*'Discontinued - OLDTABLE A'!U105","v":325.86400000000003},{"$f":"V$120*'Discontinued - OLDTABLE A'!V105","v":339.38819999999998},{"$f":"W$120*'Discontinued - OLDTABLE A'!W105","v":222.01669999999999},{"$f":"X$120*'Discontinued - OLDTABLE A'!X105","v":258.68880000000001},{"$f":"Y$120*'Discontinued - OLDTABLE A'!Y105","v":215.33519999999999},{"$f":"Z$120*'Discontinued - OLDTABLE A'!Z105","v":428.24},{"$f":"AA$120*'Discontinued - OLDTABLE A'!AA105","v":449.09399999999999}]
[9,2015,{"$f":"'Discontinued - OLDTABLE A'!D106/'Discontinued - TABLE B'!C$120","v":147.01319999467813},{"$f":"'Discontinued - OLDTABLE A'!E106/'Discontinued - TABLE B'!D$120","v":147.17040000235474},{"$f":"'Discontinued - OLDTABLE A'!F106/'Discontinued - TABLE B'!E$120","v":148.85370000336408},{"$f":"'Discontinued - OLDTABLE A'!G106/'Discontinued - TABLE B'!F$120","v":150.15600000960998},{"$f":"'Discontinued - OLDTABLE A'!J106/'Discontinued - TABLE B'!G$120","v":147.92260000721862},{"$f":"'Discontinued - OLDTABLE A'!I106/'Discontinued - TABLE B'!H$120","v":144.00970000178572},null,{"$f":"'Discontinued - OLDTABLE A'!M106/'Discontinued - TABLE B'!J$120","v":149.37040000436161},{"$f":"'Discontinued - OLDTABLE A'!N106/'Discontinued - TABLE B'!K$120","v":144.67720000005787},{"$f":"'Discontinued - OLDTABLE A'!O106/'Discontinued - TABLE B'!L$120","v":147.99239999215641},{"$f":"'Discontinued - OLDTABLE A'!L106/'Discontinued - TABLE B'!M$120","v":146.89219999212659},{"$f":"'Discontinued - OLDTABLE A'!H106/'Discontinued - TABLE B'!N$120","v":150.55519999414341},{"$f":"'Discontinued - OLDTABLE A'!H106/'Discontinued - TABLE B'!O$120","v":150.55519999414341},{"$f":"'Discontinued - OLDTABLE A'!P106/'Discontinued - TABLE B'!P$120","v":145.28800000058118},{"$f":"'Discontinued - OLDTABLE A'!Q106/'Discontinued - TABLE B'!Q$120","v":145.33859999438994},null,{"$f":"S$120*'Discontinued - OLDTABLE A'!S106","v":228.56319999999997},{"$f":"T$120*'Discontinued - OLDTABLE A'!T106","v":305.47300000000001},{"$f":"U$120*'Discontinued - OLDTABLE A'!U106","v":315.88200000000001},{"$f":"V$120*'Discontinued - OLDTABLE A'!V106","v":326.94119999999998},{"$f":"W$120*'Discontinued - OLDTABLE A'!W106","v":224.11660000000001},{"$f":"X$120*'Discontinued - OLDTABLE A'!X106","v":259.78680000000003},{"$f":"Y$120*'Discontinued - OLDTABLE A'!Y106","v":216.92880000000002},{"$f":"Z$120*'Discontinued - OLDTABLE A'!Z106","v":407.04},{"$f":"AA$120*'Discontinued - OLDTABLE A'!AA106","v":426.38700000000006}]
[10,2015,{"$f":"'Discontinued - OLDTABLE A'!D107/'Discontinued - TABLE B'!C$120","v":147.51839999465983},{"$f":"'Discontinued - OLDTABLE A'!E107/'Discontinued - TABLE B'!D$120","v":147.55200000236084},{"$f":"'Discontinued - OLDTABLE A'!F107/'Discontinued - TABLE B'!E$120","v":149.10750000336984},{"$f":"'Discontinued - OLDTABLE A'!G107/'Discontinued - TABLE B'!F$120","v":150.41400000962648},{"$f":"'Discontinued - OLDTABLE A'!J107/'Discontinued - TABLE B'!G$120","v":148.17720000723105},{"$f":"'Discontinued - OLDTABLE A'!I107/'Discontinued - TABLE B'!H$120","v":144.38440000179037},null,{"$f":"'Discontinued - OLDTABLE A'!M107/'Discontinued - TABLE B'!J$120","v":149.62400000436901},{"$f":"'Discontinued - OLDTABLE A'!N107/'Discontinued - TABLE B'!K$120","v":145.17480000005807},{"$f":"'Discontinued - OLDTABLE A'!O107/'Discontinued - TABLE B'!L$120","v":148.24799999214287},{"$f":"'Discontinued - OLDTABLE A'!L107/'Discontinued - TABLE B'!M$120","v":147.01959999211977},{"$f":"'Discontinued - OLDTABLE A'!H107/'Discontinued - TABLE B'!N$120","v":150.68409999413839},{"$f":"'Discontinued - OLDTABLE A'!H107/'Discontinued - TABLE B'!O$120","v":150.68409999413839},{"$f":"'Discontinued - OLDTABLE A'!P107/'Discontinued - TABLE B'!P$120","v":145.28800000058118},{"$f":"'Discontinued - OLDTABLE A'!Q107/'Discontinued - TABLE B'!Q$120","v":145.46399999438509},null,{"$f":"S$120*'Discontinued - OLDTABLE A'!S107","v":229.2448},{"$f":"T$120*'Discontinued - OLDTABLE A'!T107","v":305.47300000000001},{"$f":"U$120*'Discontinued - OLDTABLE A'!U107","v":307.83199999999999},{"$f":"V$120*'Discontinued - OLDTABLE A'!V107","v":343.53719999999998},{"$f":"W$120*'Discontinued - OLDTABLE A'!W107","v":227.74369999999999},{"$f":"X$120*'Discontinued - OLDTABLE A'!X107","v":262.42200000000003},{"$f":"Y$120*'Discontinued - OLDTABLE A'!Y107","v":218.5224},{"$f":"Z$120*'Discontinued - OLDTABLE A'!Z107","v":430.36},{"$f":"AA$120*'Discontinued - OLDTABLE A'!AA107","v":448.67350000000005}]
[11,2015,{"$f":"'Discontinued - OLDTABLE A'!D108/'Discontinued - TABLE B'!C$120","v":147.77099999465068},{"$f":"'Discontinued - OLDTABLE A'!E108/'Discontinued - TABLE B'!D$120","v":147.67920000236288},{"$f":"'Discontinued - OLDTABLE A'!F108/'Discontinued - TABLE B'!E$120","v":148.98060000336696},{"$f":"'Discontinued - OLDTABLE A'!G108/'Discontinued - TABLE B'!F$120","v":150.41400000962648},{"$f":"'Discontinued - OLDTABLE A'!J108/'Discontinued - TABLE B'!G$120","v":148.30450000723727},{"$f":"'Discontinued - OLDTABLE A'!I108/'Discontinued - TABLE B'!H$120","v":144.13460000178728},null,{"$f":"'Discontinued - OLDTABLE A'!M108/'Discontinued - TABLE B'!J$120","v":149.62400000436901},{"$f":"'Discontinued - OLDTABLE A'!N108/'Discontinued - TABLE B'!K$120","v":145.29920000005811},{"$f":"'Discontinued - OLDTABLE A'!O108/'Discontinued - TABLE B'!L$120","v":148.37579999213608},{"$f":"'Discontinued - OLDTABLE A'!L108/'Discontinued - TABLE B'!M$120","v":147.27439999210608},{"$f":"'Discontinued - OLDTABLE A'!H108/'Discontinued - TABLE B'!N$120","v":150.94189999412836},{"$f":"'Discontinued - OLDTABLE A'!H108/'Discontinued - TABLE B'!O$120","v":150.94189999412836},{"$f":"'Discontinued - OLDTABLE A'!P108/'Discontinued - TABLE B'!P$120","v":145.79600000058318},{"$f":"'Discontinued - OLDTABLE A'!Q108/'Discontinued - TABLE B'!Q$120","v":145.7147999943754},null,{"$f":"S$120*'Discontinued - OLDTABLE A'!S108","v":229.2448},{"$f":"T$120*'Discontinued - OLDTABLE A'!T108","v":305.18399999999997},{"$f":"U$120*'Discontinued - OLDTABLE A'!U108","v":308.79800000000006},{"$f":"V$120*'Discontinued - OLDTABLE A'!V108","v":340.63290000000001},{"$f":"W$120*'Discontinued - OLDTABLE A'!W108","v":227.93460000000002},{"$f":"X$120*'Discontinued - OLDTABLE A'!X108","v":263.95920000000001},{"$f":"Y$120*'Discontinued - OLDTABLE A'!Y108","v":219.3192},{"$f":"Z$120*'Discontinued - OLDTABLE A'!Z108","v":426.54399999999998},{"$f":"AA$120*'Discontinued - OLDTABLE A'!AA108","v":444.88900000000001}]
[12,2015,{"$f":"'Discontinued - OLDTABLE A'!D109/'Discontinued - TABLE B'!C$120","v":148.27619999463241},{"$f":"'Discontinued - OLDTABLE A'!E109/'Discontinued - TABLE B'!D$120","v":147.93360000236694},{"$f":"'Discontinued - OLDTABLE A'!F109/'Discontinued - TABLE B'!E$120","v":149.36130000337556},{"$f":"'Discontinued - OLDTABLE A'!G109/'Discontinued - TABLE B'!F$120","v":151.18800000967605},{"$f":"'Discontinued - OLDTABLE A'!J109/'Discontinued - TABLE B'!G$120","v":148.94100000726831},{"$f":"'Discontinued - OLDTABLE A'!I109/'Discontinued - TABLE B'!H$120","v":144.50930000179193},null,{"$f":"'Discontinued - OLDTABLE A'!M109/'Discontinued - TABLE B'!J$120","v":150.13120000438383},{"$f":"'Discontinued - OLDTABLE A'!N109/'Discontinued - TABLE B'!K$120","v":145.79680000005831},{"$f":"'Discontinued - OLDTABLE A'!O109/'Discontinued - TABLE B'!L$120","v":148.75919999211578},{"$f":"'Discontinued - OLDTABLE A'!L109/'Discontinued - TABLE B'!M$120","v":147.91139999207195},{"$f":"'Discontinued - OLDTABLE A'!H109/'Discontinued - TABLE B'!N$120","v":151.71529999409827},{"$f":"'Discontinued - OLDTABLE A'!H109/'Discontinued - TABLE B'!O$120","v":151.71529999409827},{"$f":"'Discontinued - OLDTABLE A'!P109/'Discontinued - TABLE B'!P$120","v":146.17700000058471},{"$f":"'Discontinued - OLDTABLE A'!Q109/'Discontinued - TABLE B'!Q$120","v":146.34179999435122},null,{"$f":"S$120*'Discontinued - OLDTABLE A'!S109","v":228.56319999999997},{"$f":"T$120*'Discontinued - OLDTABLE A'!T109","v":306.34000000000003},{"$f":"U$120*'Discontinued - OLDTABLE A'!U109","v":314.27199999999999},{"$f":"V$120*'Discontinued - OLDTABLE A'!V109","v":339.80310000000003},{"$f":"W$120*'Discontinued - OLDTABLE A'!W109","v":227.93460000000002},{"$f":"X$120*'Discontinued - OLDTABLE A'!X109","v":264.17880000000002},{"$f":"Y$120*'Discontinued - OLDTABLE A'!Y109","v":219.51840000000001},{"$f":"Z$120*'Discontinued - OLDTABLE A'!Z109","v":425.69600000000003},{"$f":"AA$120*'Discontinued - OLDTABLE A'!AA109","v":443.20700000000005}]
[1,2016,{"$f":"'Discontinued - OLDTABLE A'!D110/'Discontinued - TABLE B'!C$120","v":149.16029999460039},{"$f":"'Discontinued - OLDTABLE A'!E110/'Discontinued - TABLE B'!D$120","v":149.07840000238528},{"$f":"'Discontinued - OLDTABLE A'!F110/'Discontinued - TABLE B'!E$120","v":150.24960000339564},{"$f":"'Discontinued - OLDTABLE A'!G110/'Discontinued - TABLE B'!F$120","v":151.83300000971732},{"$f":"'Discontinued - OLDTABLE A'!J110/'Discontinued - TABLE B'!G$120","v":149.83210000731182},{"$f":"'Discontinued - OLDTABLE A'!I110/'Discontinued - TABLE B'!H$120","v":145.00890000179811},null,{"$f":"'Discontinued - OLDTABLE A'!M110/'Discontinued - TABLE B'!J$120","v":151.27240000441714},{"$f":"'Discontinued - OLDTABLE A'!N110/'Discontinued - TABLE B'!K$120","v":146.91640000005876},{"$f":"'Discontinued - OLDTABLE A'!O110/'Discontinued - TABLE B'!L$120","v":150.16499999204126},{"$f":"'Discontinued - OLDTABLE A'!L110/'Discontinued - TABLE B'!M$120","v":149.05799999201051},{"$f":"'Discontinued - OLDTABLE A'!H110/'Discontinued - TABLE B'!N$120","v":153.51989999402807},{"$f":"'Discontinued - OLDTABLE A'!H110/'Discontinued - TABLE B'!O$120","v":153.51989999402807},{"$f":"'Discontinued - OLDTABLE A'!P110/'Discontinued - TABLE B'!P$120","v":147.95500000059184},{"$f":"'Discontinued - OLDTABLE A'!Q110/'Discontinued - TABLE B'!Q$120","v":147.47039999430763},null,{"$f":"S$120*'Discontinued - OLDTABLE A'!S110","v":234.9248},{"$f":"T$120*'Discontinued - OLDTABLE A'!T110","v":312.98700000000002},{"$f":"U$120*'Discontinued - OLDTABLE A'!U110","v":311.69600000000003},{"$f":"V$120*'Discontinued - OLDTABLE A'!V110","v":314.49419999999998},{"$f":"W$120*'Discontinued - OLDTABLE A'!W110","v":239.38860000000003},{"$f":"X$120*'Discontinued - OLDTABLE A'!X110","v":272.96280000000002},{"$f":"Y$120*'Discontinued - OLDTABLE A'!Y110","v":226.09200000000001},{"$f":"Z$120*'Discontinued - OLDTABLE A'!Z110","v":396.01600000000002},{"$f":"AA$120*'Discontinued - OLDTABLE A'!AA110","v":411.24899999999997}]
[2,2016,{"$f":"'Discontinued - OLDTABLE A'!D111/'Discontinued - TABLE B'!C$120","v":150.80219999454096},{"$f":"'Discontinued - OLDTABLE A'!E111/'Discontinued - TABLE B'!D$120","v":151.49520000242393},{"$f":"'Discontinued - OLDTABLE A'!F111/'Discontinued - TABLE B'!E$120","v":152.66070000345013},{"$f":"'Discontinued - OLDTABLE A'!G111/'Discontinued - TABLE B'!F$120","v":153.38100000981638},{"$f":"'Discontinued - OLDTABLE A'!J111/'Discontinued - TABLE B'!G$120","v":152.37810000743607},{"$f":"'Discontinued - OLDTABLE A'!I111/'Discontinued - TABLE B'!H$120","v":146.88240000182134},null,{"$f":"'Discontinued - OLDTABLE A'!M111/'Discontinued - TABLE B'!J$120","v":153.30120000447639},{"$f":"'Discontinued - OLDTABLE A'!N111/'Discontinued - TABLE B'!K$120","v":149.15560000005968},{"$f":"'Discontinued - OLDTABLE A'!O111/'Discontinued - TABLE B'!L$120","v":152.08199999193965},{"$f":"'Discontinued - OLDTABLE A'!L111/'Discontinued - TABLE B'!M$120","v":150.8415999919149},{"$f":"'Discontinued - OLDTABLE A'!H111/'Discontinued - TABLE B'!N$120","v":155.58229999394786},{"$f":"'Discontinued - OLDTABLE A'!H111/'Discontinued - TABLE B'!O$120","v":155.58229999394786},{"$f":"'Discontinued - OLDTABLE A'!P111/'Discontinued - TABLE B'!P$120","v":150.11400000060047},{"$f":"'Discontinued - OLDTABLE A'!Q111/'Discontinued - TABLE B'!Q$120","v":149.22599999423988},null,{"$f":"S$120*'Discontinued - OLDTABLE A'!S111","v":239.92319999999995},{"$f":"T$120*'Discontinued - OLDTABLE A'!T111","v":321.94600000000003},{"$f":"U$120*'Discontinued - OLDTABLE A'!U111","v":312.98400000000004},{"$f":"V$120*'Discontinued - OLDTABLE A'!V111","v":294.57900000000001},{"$f":"W$120*'Discontinued - OLDTABLE A'!W111","v":240.34310000000002},{"$f":"X$120*'Discontinued - OLDTABLE A'!X111","v":272.08440000000002},{"$f":"Y$120*'Discontinued - OLDTABLE A'!Y111","v":227.28719999999998},{"$f":"Z$120*'Discontinued - OLDTABLE A'!Z111","v":371.42399999999998},{"$f":"AA$120*'Discontinued - OLDTABLE A'!AA111","v":384.75749999999999}]
[3,2016,{"$f":"'Discontinued - OLDTABLE A'!D112/'Discontinued - TABLE B'!C$120","v":152.06519999449523},{"$f":"'Discontinued - OLDTABLE A'!E112/'Discontinued - TABLE B'!D$120","v":152.76720000244427},{"$f":"'Discontinued - OLDTABLE A'!F112/'Discontinued - TABLE B'!E$120","v":153.80280000347594},{"$f":"'Discontinued - OLDTABLE A'!G112/'Discontinued - TABLE B'!F$120","v":154.41300000988244},{"$f":"'Discontinued - OLDTABLE A'!J112/'Discontinued - TABLE B'!G$120","v":153.39650000748574},{"$f":"'Discontinued - OLDTABLE A'!I112/'Discontinued - TABLE B'!H$120","v":148.00650000183529},null,{"$f":"'Discontinued - OLDTABLE A'!M112/'Discontinued - TABLE B'!J$120","v":154.1888000045023},{"$f":"'Discontinued - OLDTABLE A'!N112/'Discontinued - TABLE B'!K$120","v":150.2752000000601},{"$f":"'Discontinued - OLDTABLE A'!O112/'Discontinued - TABLE B'!L$120","v":153.10439999188546},{"$f":"'Discontinued - OLDTABLE A'!L112/'Discontinued - TABLE B'!M$120","v":151.60599999187392},{"$f":"'Discontinued - OLDTABLE A'!H112/'Discontinued - TABLE B'!N$120","v":156.87129999389771},{"$f":"'Discontinued - OLDTABLE A'!H112/'Discontinued - TABLE B'!O$120","v":156.87129999389771},{"$f":"'Discontinued - OLDTABLE A'!P112/'Discontinued - TABLE B'!P$120","v":151.13000000060453},{"$f":"'Discontinued - OLDTABLE A'!Q112/'Discontinued - TABLE B'!Q$120","v":150.60539999418663},null,{"$f":"S$120*'Discontinued - OLDTABLE A'!S112","v":240.37759999999997},{"$f":"T$120*'Discontinued - OLDTABLE A'!T112","v":317.61100000000005},{"$f":"U$120*'Discontinued - OLDTABLE A'!U112","v":307.83199999999999},"Discontinued",{"$f":"W$120*'Discontinued - OLDTABLE A'!W112","v":242.82480000000001},{"$f":"X$120*'Discontinued - OLDTABLE A'!X112","v":274.93920000000003},{"$f":"Y$120*'Discontinued - OLDTABLE A'!Y112","v":229.67759999999998},"Discontinued","Discontinued"]
[]
[null,null,"DUE TO THE REVISON OF THE DIESEL INDICES THIS TABLE B DISCONTINUED",null,null,null,null,null,null,null,null,null,null,null,null,null,null,null,"DUE TO THE REVISON OF THE DIESEL INDICES THIS TABLE B DISCONTINUED"]
[]
[]
[null,null,0.79176563740000006,0.78616352199999995,0.78802206460000002,0.77519379840000002,0.78554595439999997,0.8006405124,null,0.78864353310000002,0.80385852089999998,0.78247261349999997,0.78492935639999994,0.77579519009999998,0.77579519009999998,0.78740157479999995,0.79744816590000001,null,2.2719999999999998,2.89,3.22,4.149,1.909,2.1960000000000002,1.992,4.24,4.2050000000000001]
[]
[]
[]
[null,null,"It is advised to consider that CPA calculations on the basis of 2008 = 100 basis, which may still be required, to be converted to 2012 = 100 basis. "]
[null,null,"The reason being that the conversation of new Diesel Indices (2012 = 100) to 2008 = 100 basis not possible."]

{"sheet":"No Longer Applicable - Table C","index":7,"n_rows":71,"n_cols":27,"rows_kept":71,"cut":false,"hidden":false,"merged":[[4,6,4,8]]}
[null,null,"TABLE \"C\" - Conversion of Old Indices into New 2012 = 100 Indices "]
[]
[null,null,"Refer to P0141 - Consumer Price Index (CPI): Additional Tables: Table 13 - Indices and percentage changes according to area",null,null,null,null,null,null,null,null,null,null,null,null,null,null,null,null,"Refer to P0142.1 - Producer Price Index (PPI): Table 11 and Table 12"]
[]
["2008=100",null,"Western Cape","          Eastern Cape",null,"Northern Cape","               KwaZulu Natal",null,null,null,"Gauteng",null,"North West","                   Free State",null,"Mpumalanga","Limpopo",null,"2000 = 100 - Converted to 2012 = 100"]
[null,null," Cape Peninsula/","Port Elizabeth/","East London","Kimberly","Pietermaritzburg","Durban/","All Urban","Pretoria/","Witwatersrand/","Witwatersrand/","North West","FS Goldfields","Bloemfomtein","Nelspruit/","Polokwane",null,"Table 11","Table 12","Table 12","Table 12","Table 12","Table 12","Table 12","       Fuel Wholesale"]
["Converted to",null,"City of Cape Town","Utenhage",null,null,null,"Pinetown","Areas","Centurion/","City of Johannesburg","Ekurhuleni","(Province)",null,null,"Witbank","(Pietersburg)",null,"Civil Engineering","Concrete Work","Roads & E/Works","Diesel","Civil Engineering","Concrete Work","Roads & E/Works","Table 12","Table 12"]
["2012 = 100",null,null,null,null,null,null,null,null,"Akasia",null,null,null,null,null,null,null,null,"Material","Material","Material","Fuel","Plant","Plant","Plant","Witwatersrand","Coast"]
[null,"Date"]
[1,2008,{"$f":"95.5*C71","v":75.613618371699999},{"$f":"95.5*D71","v":75.078616350999994},{"$f":"94.9*E71","v":74.783293930540012},{"$f":"94.9*F71","v":73.565891468160004},{"$f":"95.5*G71","v":75.01963864519999},{"$f":"95*H71","v":76.060848677999999},null,{"$f":"95.4*J71","v":75.236593057740009},{"$f":"95.2*K71","v":76.527331189679998},{"$f":"95.6*L71","v":74.804381850599995},{"$f":"95*M71","v":74.568288857999988},{"$f":"95.5*N71","v":74.088440730949998},{"$f":"95.5*O71","v":74.088440654549998},{"$f":"95.5*P71","v":75.196850393399998},{"$f":"95.8*Q71","v":76.395534293219995},null,{"$f":"184.1/S71","v":81.029929577464799},null,null,{"$f":"304.1/V71","v":73.294769824054001},{"$f":"153.7/W71","v":80.513357778941852},null,null,{"$f":"287.7/Z71","v":67.853773584905653},{"$f":"284.3/AA71","v":67.609988109393583}]
[2,2008,{"$f":"96*C71","v":76.009501190400002},{"$f":"96*D71","v":75.471698111999999},{"$f":"95.3*E71","v":75.09850275638},{"$f":"95.3*F71","v":73.875968987519997},{"$f":"96.2*G71","v":75.569520813279993},{"$f":"95.5*H71","v":76.461168934200003},null,{"$f":"96.1*J71","v":75.788643530909994},{"$f":"95.9*K71","v":77.090032154310009},{"$f":"96.2*L71","v":75.273865418699998},{"$f":"95.7*M71","v":75.117739407480002},{"$f":"96.1*N71","v":74.553917845490005},{"$f":"96.1*O71","v":74.553917768609992},{"$f":"96.1*P71","v":75.66929133827999},{"$f":"96.7*Q71","v":77.113237642530009},null,{"$f":"186.8/S71","v":82.218309859154942},null,null,{"$f":"321.6/V71","v":77.512653651482296},{"$f":"161.4/W71","v":84.546883184913568},null,null,{"$f":"290.5/Z71","v":68.514150943396217},{"$f":"287.1/AA71","v":68.275862068965523}]
[3,2008,{"$f":"97.5*C71","v":77.197149646500009},{"$f":"97.3*D71","v":76.493710690599997},{"$f":"96.8*E71","v":76.28053585328},{"$f":"96.4*F71","v":74.728682165760006},{"$f":"97.3*G71","v":76.433621363119997},{"$f":"96.6*H71","v":77.341873497839998},null,{"$f":"97.7*J71","v":77.050473183869997},{"$f":"97.6*K71","v":78.456591639839999},{"$f":"97.7*L71","v":76.447574338950005},{"$f":"97.1*M71","v":76.216640506439987},{"$f":"97.6*N71","v":75.717610631840003},{"$f":"97.6*O71","v":75.717610553759997},{"$f":"97.1*P71","v":76.456692913079991},{"$f":"97.8*Q71","v":77.990430625019997},null,{"$f":"187.8/S71","v":82.658450704225359},null,null,{"$f":"367.6/V71","v":88.599662569293812},{"$f":"161.4/W71","v":84.546883184913568},null,null,{"$f":"321.4/Z71","v":75.801886792452819},{"$f":"318.3/AA71","v":75.695600475624261}]
[4,2008,{"$f":"98.3*C71","v":77.830562156420001},{"$f":"97.9*D71","v":76.965408803800003},{"$f":"97.7*E71","v":76.989755711420003},{"$f":"97.5*F71","v":75.581395344000001},{"$f":"98*G71","v":76.9835035312},{"$f":"97.5*H71","v":78.062449959000006},null,{"$f":"98.3*J71","v":77.52365930373},{"$f":"98.1*K71","v":78.858520900289989},{"$f":"98.2*L71","v":76.838810645699994},{"$f":"97.9*M71","v":76.84458399156},{"$f":"98.2*N71","v":76.183087746380011},{"$f":"98.2*O71","v":76.183087667820004},{"$f":"97.9*P71","v":77.086614172919994},{"$f":"98.3*Q71","v":78.389154707969993},null,{"$f":"191/S71","v":84.066901408450718},null,null,{"$f":"424.9/V71","v":102.41021932995902},{"$f":"161.4/W71","v":84.546883184913568},null,null,{"$f":"372.6/Z71","v":87.877358490566039},{"$f":"369.5/AA71","v":87.871581450653977}]
[5,2008,{"$f":"98.8*C71","v":78.226444975120003},{"$f":"98.7*D71","v":77.594339621399996},{"$f":"98.5*E71","v":77.620173363100008},{"$f":"98.1*F71","v":76.046511623040004},{"$f":"98.6*G71","v":77.454831103839993},{"$f":"98.3*H71","v":78.702962368919998},null,{"$f":"98.9*J71","v":77.996845423590003},{"$f":"98.7*K71","v":79.340836012829996},{"$f":"99.1*L71","v":77.543035997849998},{"$f":"98.6*M71","v":77.394034541039986},{"$f":"98.9*N71","v":76.726144380010012},{"$f":"98.9*O71","v":76.726144300889999},{"$f":"98.4*P71","v":77.480314960320001},{"$f":"99.2*Q71","v":79.106858057280007},null,{"$f":"199/S71","v":87.588028169014095},null,null,{"$f":"471/V71","v":113.52133044107013},{"$f":"168.3/W71","v":88.161341016238879},null,null,{"$f":"400.4/Z71","v":94.433962264150935},{"$f":"397.9/AA71","v":94.625445897740775}]
[6,2008,{"$f":"99.8*C71","v":79.018210612520008},{"$f":"99.9*D71","v":78.537735847799993},{"$f":"100.3*E71","v":79.038613079379999},{"$f":"99.4*F71","v":77.05426356096001},{"$f":"100.1*G71","v":78.633150035439996},{"$f":"100.1*H71","v":80.144115291239999},null,{"$f":"100.1*J71","v":78.943217663309994},{"$f":"100.4*K71","v":80.70739549836},{"$f":"100.5*L71","v":78.63849765674999},{"$f":"100*M71","v":78.492935639999999},{"$f":"99.8*N71","v":77.424360051820003},{"$f":"99.8*O71","v":77.424359971979996},{"$f":"99.9*P71","v":78.661417322519995},{"$f":"100.2*Q71","v":79.904306223180001},null,{"$f":"201.8/S71","v":88.820422535211279},null,null,{"$f":"519.9/V71","v":125.30730296456977},{"$f":"168.3/W71","v":88.161341016238879},null,null,{"$f":"428.5/Z71","v":101.06132075471697},{"$f":"426.3/AA71","v":101.37931034482759}]
[7,2008,{"$f":"101.2*C71","v":80.126682504880009},{"$f":"101.2*D71","v":79.559748426399992},{"$f":"101.6*E71","v":80.06304176335999},{"$f":"101.7*F71","v":78.837209297279998},{"$f":"101.2*G71","v":79.49725058528},{"$f":"101.9*H71","v":81.585268213559999},null,{"$f":"101.3*J71","v":79.88958990303},{"$f":"101.5*K71","v":81.591639871349997},{"$f":"102*L71","v":79.812206576999998},{"$f":"101.1*M71","v":79.356357932039984},{"$f":"101*N71","v":78.355314280900004},{"$f":"101*O71","v":78.355314200099997},{"$f":"101.3*P71","v":79.76377952723999},{"$f":"101.4*Q71","v":80.86124402226001},null,{"$f":"203.9/S71","v":89.744718309859167},null,null,{"$f":"511.9/V71","v":123.37912750060255},{"$f":"168.3/W71","v":88.161341016238879},null,null,{"$f":"453.5/Z71","v":106.95754716981132},{"$f":"451.5/AA71","v":107.37217598097503}]
[8,2008,{"$f":"101.8*C71","v":80.601741887320003},{"$f":"101.8*D71","v":80.031446539599997},{"$f":"102.4*E71","v":80.69345941504001},{"$f":"102.7*F71","v":79.612403095680008},{"$f":"101.8*G71","v":79.968578157919993},{"$f":"102.5*H71","v":82.065652521000004},null,{"$f":"101.5*J71","v":80.047318609650006},{"$f":"102.1*K71","v":82.07395498388999},{"$f":"102.3*L71","v":80.046948361049999},{"$f":"102.1*M71","v":80.141287288439983},{"$f":"101.7*N71","v":78.898370914530005},{"$f":"101.7*O71","v":78.898370833170006},{"$f":"101.6*P71","v":79.999999999679986},{"$f":"101.8*Q71","v":81.180223288619999},null,{"$f":"217.3/S71","v":95.64260563380283},null,null,{"$f":"419.9/V71","v":101.2051096649795},{"$f":"175.4/W71","v":91.88056574122578},null,null,{"$f":"447.1/Z71","v":105.44811320754717},{"$f":"444.7/AA71","v":105.75505350772889}]
[9,2008,{"$f":"102.6*C71","v":81.235154397239995},{"$f":"102.9*D71","v":80.896226413799994},{"$f":"103*E71","v":81.166272653800007},{"$f":"103.1*F71","v":79.922480615040001},{"$f":"102.6*G71","v":80.597014921439992},{"$f":"102.8*H71","v":82.305844674719992},null,{"$f":"102.5*J71","v":80.835962142750006},{"$f":"102.5*K71","v":82.395498392250005},{"$f":"102*L71","v":79.812206576999998},{"$f":"103*M71","v":80.847723709199997},{"$f":"102.6*N71","v":79.596586586339996},{"$f":"102.6*O71","v":79.596586504259989},{"$f":"102.8*P71","v":80.944881889439998},{"$f":"102*Q71","v":81.3397129218},null,{"$f":"218.8/S71","v":96.302816901408463},null,null,{"$f":"394.3/V71","v":95.034948180284402},{"$f":"175.4/W71","v":91.88056574122578},null,null,{"$f":"390/Z71","v":91.981132075471692},{"$f":"387.1/AA71","v":92.057074910820461}]
[10,2008,{"$f":"102.9*C71","v":81.472684088460014},{"$f":"103.2*D71","v":81.132075470399997},{"$f":"103.2*E71","v":81.323877066720001},{"$f":"103.6*F71","v":80.310077514239993},{"$f":"102.8*G71","v":80.75412411232},{"$f":"103.2*H71","v":82.626100879679996},null,{"$f":"102.8*J71","v":81.072555202679993},{"$f":"102.6*K71","v":82.475884244339994},{"$f":"102.4*L71","v":80.1251956224},{"$f":"103.2*M71","v":81.004709580479997},{"$f":"102.8*N71","v":79.751745624519998},{"$f":"102.8*O71","v":79.751745542279991},{"$f":"103.1*P71","v":81.181102361879994},{"$f":"102.3*Q71","v":81.578947371569996},null,{"$f":"219.6/S71","v":96.654929577464799},null,null,{"$f":"377.4/V71","v":90.961677512653651},{"$f":"175.4/W71","v":91.88056574122578},null,null,{"$f":"367.8/Z71","v":86.745283018867923},{"$f":"364.7/AA71","v":86.730083234244944}]
[11,2008,{"$f":"102.9*C71","v":81.472684088460014},{"$f":"103.2*D71","v":81.132075470399997},{"$f":"103.3*E71","v":81.402679273179999},{"$f":"103.7*F71","v":80.387596894080005},{"$f":"103*G71","v":80.911233303199992},{"$f":"103.2*H71","v":82.626100879679996},null,{"$f":"102.9*J71","v":81.151419555990003},{"$f":"102.7*K71","v":82.556270096429998},{"$f":"102.3*L71","v":80.046948361049999},{"$f":"103.3*M71","v":81.083202516119997},{"$f":"102.9*N71","v":79.829325143610006},{"$f":"102.9*O71","v":79.829325061290007},{"$f":"103.3*P71","v":81.338582676839991},{"$f":"102.5*Q71","v":81.738437004749997},null,{"$f":"219.2/S71","v":96.478873239436624},null,null,{"$f":"336.8/V71","v":81.176187033020014},{"$f":"184.8/W71","v":96.804609743321109},null,null,{"$f":"358.2/Z71","v":84.481132075471692},{"$f":"355.1/AA71","v":84.447086801426877}]
[12,2008,{"$f":"102.8*C71","v":81.393507524720007},{"$f":"102.6*D71","v":80.660377357199991},{"$f":"103.2*E71","v":81.323877066720001},{"$f":"103.5*F71","v":80.232558134400008},{"$f":"102.9*G71","v":80.832678707759996},{"$f":"103.3*H71","v":82.706164930919996},null,{"$f":"102.5*J71","v":80.835962142750006},{"$f":"102.6*K71","v":82.475884244339994},{"$f":"101.8*L71","v":79.655712054299997},{"$f":"103.2*M71","v":81.004709580479997},{"$f":"102.9*N71","v":79.829325143610006},{"$f":"102.9*O71","v":79.829325061290007},{"$f":"103*P71","v":81.102362204399995},{"$f":"102*Q71","v":81.3397129218},null,{"$f":"216.6/S71","v":95.33450704225352},null,null,{"$f":"274.3/V71","v":66.112316220776094},{"$f":"184.8/W71","v":96.804609743321109},null,null,{"$f":"326.1/Z71","v":76.910377358490564},{"$f":"322.7/AA71","v":76.741973840665864}]
[1,2009,{"$f":"102.9*C71","v":81.472684088460014},{"$f":"102.8*D71","v":80.817610061599993},{"$f":"102.7*E71","v":80.929866034420002},{"$f":"103.6*F71","v":80.310077514239993},{"$f":"103.4*G71","v":81.225451684960007},{"$f":"104.2*H71","v":83.426741392080004},null,{"$f":"103*J71","v":81.230283909299999},{"$f":"102.8*K71","v":82.636655948520001},{"$f":"101.9*L71","v":79.733959315649997},{"$f":"103.3*M71","v":81.083202516119997},{"$f":"103.2*N71","v":80.062063700880003},{"$f":"103.2*O71","v":80.062063618319996},{"$f":"103.8*P71","v":81.732283464239998},{"$f":"102*Q71","v":81.3397129218},null,{"$f":"219.7/S71","v":96.698943661971839},null,null,{"$f":"286.5/V71","v":69.052783803326108},{"$f":"184.8/W71","v":96.804609743321109},null,null,{"$f":"259.4/Z71","v":61.179245283018858},{"$f":"255.5/AA71","v":60.760998810939356}]
[2,2009,{"$f":"103.8*C71","v":82.185273162119998},{"$f":"104.1*D71","v":81.839622640199991},{"$f":"104.1*E71","v":82.033096924860004},{"$f":"104.5*F71","v":81.007751932800005},{"$f":"104.4*G71","v":82.010997639359999},{"$f":"105*H71","v":84.067253801999996},null,{"$f":"104.4*J71","v":82.33438485564001},{"$f":"104.1*K71","v":83.681672025689991},{"$f":"103.3*L71","v":80.82942097454999},{"$f":"104.6*M71","v":82.103610679439996},{"$f":"104.3*N71","v":80.915438410869996},{"$f":"104.3*O71","v":80.915438327429996},{"$f":"105.3*P71","v":82.913385826439992},{"$f":"103.8*Q71","v":82.77511962042},null,{"$f":"215.7/S71","v":94.938380281690144},null,null,{"$f":"271.3/V71","v":65.38925042178839},{"$f":"193/W71","v":101.10005238344682},null,null,{"$f":"257.4/Z71","v":60.707547169811313},{"$f":"253.9/AA71","v":60.380499405469678}]
[3,2009,{"$f":"105.5*C71","v":83.531274745700003},{"$f":"105.4*D71","v":82.861635218800004},{"$f":"105.4*E71","v":83.05752560884001},{"$f":"106*F71","v":82.170542630400007},{"$f":"105.9*G71","v":83.189316570960003},{"$f":"106.2*H71","v":85.028022416880006},null,{"$f":"105.8*J71","v":83.438485801979994},{"$f":"105.5*K71","v":84.807073954949999},{"$f":"104.9*L71","v":82.081377156149998},{"$f":"106.5*M71","v":83.594976456599994},{"$f":"105.7*N71","v":82.001551678130014},{"$f":"105.7*O71","v":82.001551593569999},{"$f":"106.6*P71","v":83.937007873679988},{"$f":"105.3*Q71","v":83.971291869270004},null,{"$f":"214.8/S71","v":94.542253521126767},null,null,{"$f":"253.5/V71","v":61.099060014461315},{"$f":"193/W71","v":101.10005238344682},null,null,{"$f":"242.4/Z71","v":57.169811320754718},{"$f":"238.3/AA71","v":56.670630202140309}]
[4,2009,{"$f":"105.9*C71","v":83.847981000660013},{"$f":"105.9*D71","v":83.254716979799994},{"$f":"106*E71","v":83.530338847600007},{"$f":"106.4*F71","v":82.48062014976},{"$f":"106.4*G71","v":83.582089548159999},{"$f":"106.7*H71","v":85.428342673079996},null,{"$f":"106.4*J71","v":83.911671921840011},{"$f":"106.1*K71","v":85.289389067489992},{"$f":"105.4*L71","v":82.4726134629},{"$f":"106.6*M71","v":83.673469392239994},{"$f":"106.3*N71","v":82.467028792670007},{"$f":"106.3*O71","v":82.467028707629993},{"$f":"107.1*P71","v":84.330708661079996},{"$f":"105.5*Q71","v":84.130781502450006},null,{"$f":"213.3/S71","v":93.882042253521135},null,null,{"$f":"250.2/V71","v":60.303687635574832},{"$f":"193/W71","v":101.10005238344682},null,null,{"$f":"258.2/Z71","v":60.896226415094333},{"$f":"254.3/AA71","v":60.475624256837101}]
[5,2009,{"$f":"106.2*C71","v":84.085510691880003},{"$f":"106.2*D71","v":83.490566036399997},{"$f":"106.5*E71","v":83.924349879900006},{"$f":"106.8*F71","v":82.790697669120007},{"$f":"106.9*G71","v":83.974862525359995},{"$f":"107*H71","v":85.668534826799998},null,{"$f":"106.8*J71","v":84.227129335079994},{"$f":"106.5*K71","v":85.610932475849992},{"$f":"105.6*L71","v":82.629107985599987},{"$f":"107*M71","v":83.987441134799994},{"$f":"106.7*N71","v":82.777346869030012},{"$f":"106.7*O71","v":82.777346783669998},{"$f":"107.8*P71","v":84.881889763439986},{"$f":"105.8*Q71","v":84.370015952220001},null,{"$f":"209/S71","v":91.989436619718319},null,null,{"$f":"251.1/V71","v":60.520607375271148},{"$f":"189.2/W71","v":99.109481403876373},null,null,{"$f":"261.4/Z71","v":61.65094339622641},{"$f":"257.5/AA71","v":61.236623067776456}]
[6,2009,{"$f":"106.7*C71","v":84.481393510580006},{"$f":"106.4*D71","v":83.647798740799999},{"$f":"106.8*E71","v":84.160756499279998},{"$f":"107.2*F71","v":83.10077518848},{"$f":"107.2*G71","v":84.210526311679999},{"$f":"107.1*H71","v":85.748598878039999},null,{"$f":"106.9*J71","v":84.305993688390004},{"$f":"107.2*K71","v":86.173633440480003},{"$f":"105.9*L71","v":82.863849769650002},{"$f":"107.1*M71","v":84.065934070439994},{"$f":"107*N71","v":83.010085426300009},{"$f":"107*O71","v":83.010085340700002},{"$f":"108.4*P71","v":85.354330708319992},{"$f":"106.5*Q71","v":84.928229668349999},null,{"$f":"208.9/S71","v":91.945422535211279},null,null,{"$f":"256.8/V71","v":61.894432393347799},{"$f":"189.2/W71","v":99.109481403876373},null,null,{"$f":"256.3/Z71","v":60.448113207547166},{"$f":"253.1/AA71","v":60.190249702734839}]
[7,2009,{"$f":"107.9*C71","v":85.431512275460008},{"$f":"108.2*D71","v":85.062893080400002},{"$f":"108.1*E71","v":85.185185183260003},{"$f":"108.7*F71","v":84.263565886080002},{"$f":"108*G71","v":84.838963075199999},{"$f":"108*H71","v":86.469175339200007},null,{"$f":"108.7*J71","v":85.725552047969998},{"$f":"107.9*K71","v":86.73633440511},{"$f":"107.8*L71","v":84.350547735299997},{"$f":"108.3*M71","v":85.007849298119993},{"$f":"108.2*N71","v":83.94103965538001},{"$f":"108.2*O71","v":83.941039568820003},{"$f":"109.6*P71","v":86.29921259807999},{"$f":"107.5*Q71","v":85.725677834250007},null,{"$f":"211.3/S71","v":93.001760563380302},null,null,{"$f":"266.2/V71","v":64.160038563509275},{"$f":"189.2/W71","v":99.109481403876373},null,null,{"$f":"272.1/Z71","v":64.174528301886795},{"$f":"269.1/AA71","v":63.995243757431631}]
[8,2009,{"$f":"108.2*C71","v":85.669041966680012},{"$f":"108.6*D71","v":85.377358489199992},{"$f":"108.3*E71","v":85.342789596179998},{"$f":"109.2*F71","v":84.651162785280007},{"$f":"108.1*G71","v":84.917517670639995},{"$f":"108.2*H71","v":86.629303441680008},null,{"$f":"108.9*J71","v":85.883280754590004},{"$f":"108.5*K71","v":87.218649517649993},{"$f":"108.1*L71","v":84.585289519349999},{"$f":"108.7*M71","v":85.321821040679993},{"$f":"108.4*N71","v":84.096198693560012},{"$f":"108.4*O71","v":84.096198606840005},{"$f":"110.2*P71","v":86.771653542959996},{"$f":"107.6*Q71","v":85.805422650840001},null,{"$f":"210.1/S71","v":92.473591549295776},null,null,{"$f":"262.1/V71","v":63.171848638226081},{"$f":"190.9/W71","v":100},null,null,{"$f":"264.2/Z71","v":62.311320754716974},{"$f":"261.1/AA71","v":62.092746730083242}]
[9,2009,{"$f":"108.8*C71","v":86.144101349120007},{"$f":"108.8*D71","v":85.534591193599994},{"$f":"109*E71","v":85.894405041400006},{"$f":"109.6*F71","v":84.96124030464},{"$f":"108.4*G71","v":85.153181456959999},{"$f":"108.5*H71","v":86.869495595399997},null,{"$f":"109.4*J71","v":86.277602521140011},{"$f":"108.8*K71","v":87.45980707391999},{"$f":"108.4*L71","v":84.8200313034},{"$f":"108.8*M71","v":85.400313976319993},{"$f":"108.8*N71","v":84.406516769920003},{"$f":"108.8*O71","v":84.406516682879996},{"$f":"110.4*P71","v":86.929133857919993},{"$f":"108*Q71","v":86.124401917200004},null,{"$f":"209.8/S71","v":92.341549295774655},null,null,{"$f":"272.6/V71","v":65.702578934683061},{"$f":"190.9/W71","v":100},null,null,{"$f":"277.7/Z71","v":65.495283018867923},{"$f":"274.7/AA71","v":65.326991676575503}]
[10,2009,{"$f":"108.9*C71","v":86.223277912860013},{"$f":"108.8*D71","v":85.534591193599994},{"$f":"108.9*E71","v":85.815602834940009},{"$f":"109.7*F71","v":85.038759684479999},{"$f":"108.4*G71","v":85.153181456959999},{"$f":"108.4*H71","v":86.78943154416001},null,{"$f":"109.3*J71","v":86.198738167830001},{"$f":"108.8*K71","v":87.45980707391999},{"$f":"108.2*L71","v":84.663536780699999},{"$f":"108.7*M71","v":85.321821040679993},{"$f":"108.7*N71","v":84.328937250830009},{"$f":"108.7*O71","v":84.328937163869995},{"$f":"110.4*P71","v":86.929133857919993},{"$f":"108.1*Q71","v":86.204146733789997},null,{"$f":"209.5/S71","v":92.209507042253534},null,null,{"$f":"257.7/V71","v":62.111352133044107},{"$f":"190.9/W71","v":100},null,null,{"$f":"265/Z71","v":62.5},{"$f":"261.9/AA71","v":62.282996432818067}]
[11,2009,{"$f":"109*C71","v":86.302454476600005},{"$f":"108.8*D71","v":85.534591193599994},{"$f":"108.8*E71","v":85.736800628479997},{"$f":"109.6*F71","v":84.96124030464},{"$f":"108.3*G71","v":85.074626861519988},{"$f":"108.4*H71","v":86.78943154416001},null,{"$f":"109.4*J71","v":86.277602521140011},{"$f":"108.8*K71","v":87.45980707391999},{"$f":"108.2*L71","v":84.663536780699999},{"$f":"108.6*M71","v":85.243328105039993},{"$f":"108.7*N71","v":84.328937250830009},{"$f":"108.7*O71","v":84.328937163869995},{"$f":"110.4*P71","v":86.929133857919993},{"$f":"108*Q71","v":86.124401917200004},null,{"$f":"209.8/S71","v":92.341549295774655},null,null,{"$f":"262.2/V71","v":63.195950831525664},{"$f":"188.1/W71","v":98.53326348873756},null,null,{"$f":"268.9/Z71","v":63.419811320754711},{"$f":"265.9/AA71","v":63.234244946492268}]
[12,2009,{"$f":"109.7*C71","v":86.856690422780005},{"$f":"109*D71","v":85.691823897999996},{"$f":"109.1*E71","v":85.973207247860003},{"$f":"109.6*F71","v":84.96124030464},{"$f":"108.4*G71","v":85.153181456959999},{"$f":"108.7*H71","v":87.029623697879998},null,{"$f":"109.8*J71","v":86.593059934379994},{"$f":"108.5*K71","v":87.218649517649993},{"$f":"108.8*L71","v":85.133020348799988},{"$f":"108.8*M71","v":85.400313976319993},{"$f":"108.9*N71","v":84.484096289010012},{"$f":"108.9*O71","v":84.484096201889997},{"$f":"110.7*P71","v":87.165354330360003},{"$f":"108.2*Q71","v":86.283891550380005},null,{"$f":"209.8/S71","v":92.341549295774655},null,null,{"$f":"275.4/V71","v":66.377440347071584},{"$f":"188.1/W71","v":98.53326348873756},null,null,{"$f":"278.9/Z71","v":65.778301886792448},{"$f":"275.9/AA71","v":65.612366230677765}]
[1,2010,{"$f":"110*C71","v":87.094220114000009},{"$f":"109.2*D71","v":85.849056602399997},{"$f":"109.2*E71","v":86.05200945432},{"$f":"109.9*F71","v":85.193798444160009},{"$f":"108.9*G71","v":85.545954434159995},{"$f":"109.2*H71","v":87.429943954080002},null,{"$f":"110.2*J71","v":86.908517347620005},{"$f":"108.8*K71","v":87.45980707391999},{"$f":"109.2*L71","v":85.446009394200004},{"$f":"109.1*M71","v":85.635792783239992},{"$f":"109.2*N71","v":84.716834846280008},{"$f":"109.2*O71","v":84.716834758920001},{"$f":"111.1*P71","v":87.480314960279983},{"$f":"108.3*Q71","v":86.363636366969999},null,{"$f":"212.5/S71","v":93.529929577464799},null,null,{"$f":"269.1/V71","v":64.859002169197396},{"$f":"188.1/W71","v":98.53326348873756},null,null,{"$f":"273.3/Z71","v":64.45754716981132},{"$f":"270.3/AA71","v":64.280618311533885}]
[2,2010,{"$f":"110.4*C71","v":87.410926368960006},{"$f":"110*D71","v":86.477987419999991},{"$f":"110*E71","v":86.682427106000006},{"$f":"110.2*F71","v":85.426356583680004},{"$f":"109.4*G71","v":85.938727411360006},{"$f":"109.5*H71","v":87.670136107800005},null,{"$f":"110.9*J71","v":87.460567820790004},{"$f":"109.5*K71","v":88.022508038550001},{"$f":"109.8*L71","v":85.915492962299993},{"$f":"110*M71","v":86.342229203999992},{"$f":"109.9*N71","v":85.25989147991001},{"$f":"109.9*O71","v":85.259891391989996},{"$f":"111.9*P71","v":88.110236220120001},{"$f":"109.2*Q71","v":87.081339716279999},null,{"$f":"213/S71","v":93.750000000000014},null,null,{"$f":"276.4/V71","v":66.618462280067476},{"$f":"188/W71","v":98.480880041906758},null,null,{"$f":"277.3/Z71","v":65.40094339622641},{"$f":"274.3/AA71","v":65.231866825208087}]
[3,2010,{"$f":"111.7*C71","v":88.440221697580014},{"$f":"111*D71","v":87.264150942000001},{"$f":"111*E71","v":87.470449170600006},{"$f":"110.8*F71","v":85.891472862719993},{"$f":"110.4*G71","v":86.724273365759998},{"$f":"110.4*H71","v":88.390712568959998},null,{"$f":"111.9*J71","v":88.249211353890004},{"$f":"110.5*K71","v":88.826366559449994},{"$f":"110.9*L71","v":86.776212837149998},{"$f":"110.7*M71","v":86.891679753479991},{"$f":"110.9*N71","v":86.035686670810009},{"$f":"110.9*O71","v":86.035686582090008},{"$f":"112.7*P71","v":88.74015747995999},{"$f":"109.9*Q71","v":87.639553432410011},null,{"$f":"213/S71","v":93.750000000000014},null,null,{"$f":"280.4/V71","v":67.582550012051087},{"$f":"188.9/W71","v":98.952331063383966},null,null,{"$f":"278.9/Z71","v":65.778301886792448},{"$f":"275.9/AA71","v":65.612366230677765}]
[4,2010,{"$f":"112*C71","v":88.677751388800004},{"$f":"111.2*D71","v":87.421383646400002},{"$f":"111.4*E71","v":87.785657996440008},{"$f":"111.3*F71","v":86.279069761919999},{"$f":"110.3*G71","v":86.645718770319988},{"$f":"110.5*H71","v":88.470776620199999},null,{"$f":"112.1*J71","v":88.406940060509996},{"$f":"110.7*K71","v":88.987138263630001},{"$f":"111.1*L71","v":86.932707359849985},{"$f":"110.9*M71","v":87.048665624760005},{"$f":"111.4*N71","v":86.423584266260008},{"$f":"111.4*O71","v":86.42358417714},{"$f":"112.8*P71","v":88.818897637439989},{"$f":"109.9*Q71","v":87.639553432410011},null,{"$f":"212.8/S71","v":93.661971830985934},null,null,{"$f":"296.5/V71","v":71.463003133285127},{"$f":"188.9/W71","v":98.952331063383966},null,null,{"$f":"298.3/Z71","v":70.353773584905653},{"$f":"295.5/AA71","v":70.273483947681328}]
[5,2010,{"$f":"112.1*C71","v":88.756927952539996},{"$f":"111.4*D71","v":87.578616350800004},{"$f":"111.3*E71","v":87.706855789979997},{"$f":"111.5*F71","v":86.43410852160001},{"$f":"110.7*G71","v":86.959937152080002},{"$f":"110.7*H71","v":88.63090472268},null,{"$f":"112.2*J71","v":88.485804413820006},{"$f":"110.8*K71","v":89.067524115719991},{"$f":"111.2*L71","v":87.0109546212},{"$f":"111.2*M71","v":87.284144431679991},{"$f":"111.4*N71","v":86.423584266260008},{"$f":"111.4*O71","v":86.42358417714},{"$f":"113*P71","v":88.9763779524},{"$f":"110.3*Q71","v":87.95853269877},null,{"$f":"215.4/S71","v":94.806338028169023},null,null,{"$f":"304.4/V71","v":73.367076403952751},{"$f":"187.6/W71","v":98.271346254583548},null,null,{"$f":"309.8/Z71","v":73.066037735849051},{"$f":"306.7/AA71","v":72.936979785969086}]
[6,2010,{"$f":"112*C71","v":88.677751388800004},{"$f":"111.7*D71","v":87.814465407399993},{"$f":"111.4*E71","v":87.785657996440008},{"$f":"111.1*F71","v":86.124031002240002},{"$f":"110.9*G71","v":87.117046342959995},{"$f":"110.7*H71","v":88.63090472268},null,{"$f":"112.5*J71","v":88.722397473750007},{"$f":"111*K71","v":89.228295819899998},{"$f":"110.9*L71","v":86.776212837149998},{"$f":"111.1*M71","v":87.205651496039991},{"$f":"111.5*N71","v":86.501163785350002},{"$f":"111.5*O71","v":86.501163696150002},{"$f":"113.2*P71","v":89.133858267359997},{"$f":"110.4*Q71","v":88.038277515360008},null,{"$f":"216.7/S71","v":95.37852112676056},null,null,{"$f":"300.5/V71","v":72.427090865268738},{"$f":"187.4/W71","v":98.166579360921943},null,null,{"$f":"303.9/Z71","v":71.674528301886781},{"$f":"301.1/AA71","v":71.605231866825207}]
[7,2010,{"$f":"112.5*C71","v":89.073634207500007},{"$f":"112.5*D71","v":88.443396225000001},{"$f":"112*E71","v":88.258471235200005},{"$f":"112.7*F71","v":87.364341079680003},{"$f":"111.9*G71","v":87.902592297360002},{"$f":"110.9*H71","v":88.791032825160002},null,{"$f":"113.2*J71","v":89.274447946920006},{"$f":"111.5*K71","v":89.630225080350002},{"$f":"112.2*L71","v":87.793427234700005},{"$f":"111.6*M71","v":87.598116174239991},{"$f":"112.5*N71","v":87.27695897625},{"$f":"112.5*O71","v":87.27695888625},{"$f":"113.2*P71","v":89.133858267359997},{"$f":"110.9*Q71","v":88.437001598310005},null,{"$f":"214.1/S71","v":94.234154929577471},null,null,{"$f":"296/V71","v":71.342492166787181},{"$f":"187.2/W71","v":98.061812467260339},null,null,{"$f":"297.9/Z71","v":70.25943396226414},{"$f":"295.1/AA71","v":70.178359096313912}]
[8,2010,{"$f":"112.5*C71","v":89.073634207500007},{"$f":"112.4*D71","v":88.3647798728},{"$f":"112*E71","v":88.258471235200005},{"$f":"112.8*F71","v":87.441860459520001},{"$f":"112.1*G71","v":88.059701488239995},{"$f":"110.9*H71","v":88.791032825160002},null,{"$f":"113.1*J71","v":89.195583593609996},{"$f":"111.7*K71","v":89.790996784529995},{"$f":"112.1*L71","v":87.71517997334999},{"$f":"111.7*M71","v":87.67660910987999},{"$f":"112.7*N71","v":87.432118014430003},{"$f":"112.7*O71","v":87.432117924270003},{"$f":"114*P71","v":89.763779527200001},{"$f":"111*Q71","v":88.516746414899998},null,{"$f":"212.6/S71","v":93.573943661971839},null,null,{"$f":"293.1/V71","v":70.64352856109906},{"$f":"186.7/W71","v":97.799895233106326},null,null,{"$f":"292.7/Z71","v":69.033018867924525},{"$f":"289.9/AA71","v":68.941736028537449}]
[9,2010,{"$f":"112.6*C71","v":89.152810771239999},{"$f":"112.7*D71","v":88.600628929400003},{"$f":"112*E71","v":88.258471235200005},{"$f":"113*F71","v":87.596899219199997},{"$f":"112.7*G71","v":88.531029060880002},{"$f":"110.7*H71","v":88.63090472268},null,{"$f":"113.5*J71","v":89.511041006850007},{"$f":"111.7*K71","v":89.790996784529995},{"$f":"112*L71","v":87.636932712000004},{"$f":"111.8*M71","v":87.75510204551999},{"$f":"113.3*N71","v":87.897595128969996},{"$f":"113.3*O71","v":87.897595038329996},{"$f":"114.2*P71","v":89.921259842159998},{"$f":"111.4*Q71","v":88.835725681260001},null,{"$f":"212.6/S71","v":93.573943661971839},null,null,{"$f":"290.6/V71","v":70.040973728609302},{"$f":"186.7/W71","v":97.799895233106326},null,null,{"$f":"292.7/Z71","v":69.033018867924525},{"$f":"289.9/AA71","v":68.941736028537449}]
[10,2010,{"$f":"112.8*C71","v":89.311163898720011},{"$f":"112.8*D71","v":88.679245281599989},{"$f":"112.3*E71","v":88.494877854579997},{"$f":"113.3*F71","v":87.829457358720006},{"$f":"112.6*G71","v":88.452474465439991},{"$f":"110.9*H71","v":88.791032825160002},null,{"$f":"113.6*J71","v":89.589905360160003},{"$f":"111.9*K71","v":89.951768488710002},{"$f":"112.3*L71","v":87.871674496049991},{"$f":"111.9*M71","v":87.833594981160005},{"$f":"113.5*N71","v":88.052754167149999},{"$f":"113.5*O71","v":88.052754076349999},{"$f":"114.8*P71","v":90.39370078703999},{"$f":"111.9*Q71","v":89.234449764209998},null,{"$f":"213.7/S71","v":94.058098591549296},{"$f":"248.8/T71","v":86.089965397923876},{"$f":"264.6/U71","v":82.173913043478265},{"$f":"291.3/V71","v":70.209689081706443},{"$f":"186.8/W71","v":97.852278679937143},{"$f":"205.1/X71","v":93.397085610200349},{"$f":"189.4/Y71","v":95.08032128514057},{"$f":"291.6/Z71","v":68.773584905660385},{"$f":"288.7/AA71","v":68.656361474435187}]
[11,2010,{"$f":"112.9*C71","v":89.390340462460017},{"$f":"113.1*D71","v":88.915094338199992},{"$f":"112.3*E71","v":88.494877854579997},{"$f":"113.3*F71","v":87.829457358720006},{"$f":"112.8*G71","v":88.609583656319998},{"$f":"111*H71","v":88.871096876400003},null,{"$f":"113.9*J71","v":89.826498420090005},{"$f":"112.1*K71","v":90.112540192889995},{"$f":"112.5*L71","v":88.028169018749992},{"$f":"112.2*M71","v":88.06907378807999},{"$f":"113.6*N71","v":88.130333686240007},{"$f":"113.6*O71","v":88.13033359536},{"$f":"114.6*P71","v":90.236220472079992},{"$f":"112.1*Q71","v":89.39393939739},null,{"$f":"212.9/S71","v":93.705985915492974},{"$f":"248.7/T71","v":86.055363321799305},{"$f":"264.7/U71","v":82.204968944099377},{"$f":"299/V71","v":72.065557965774886},{"$f":"187.5/W71","v":98.218962807752746},{"$f":"205.4/X71","v":93.533697632058278},{"$f":"190.1/Y71","v":95.431726907630519},{"$f":"301.5/Z71","v":71.10849056603773},{"$f":"298.7/AA71","v":71.034482758620683}]
[12,2010,{"$f":"113.2*C71","v":89.627870153680007},{"$f":"113.2*D71","v":88.993710690399993},{"$f":"112.5*E71","v":88.652482267500005},{"$f":"113.3*F71","v":87.829457358720006},{"$f":"113.1*G71","v":88.845247442639987},{"$f":"111.2*H71","v":89.031224978880005},null,{"$f":"114*J71","v":89.9053627734},{"$f":"112.3*K71","v":90.273311897070002},{"$f":"113*L71","v":88.419405325499994},{"$f":"112.2*M71","v":88.06907378807999},{"$f":"113.8*N71","v":88.285492724419996},{"$f":"113.8*O71","v":88.285492633379988},{"$f":"114.6*P71","v":90.236220472079992},{"$f":"112.1*Q71","v":89.39393939739},null,{"$f":"213.1/S71","v":93.794014084507054},{"$f":"248.5/T71","v":85.986159169550163},{"$f":"266.2/U71","v":82.670807453416145},{"$f":"309.4/V71","v":74.572186068932268},{"$f":"185.8/W71","v":97.328444211629133},{"$f":"201.5/X71","v":91.757741347905281},{"$f":"189.2/Y71","v":94.97991967871485},{"$f":"301.5/Z71","v":71.10849056603773},{"$f":"298.7/AA71","v":71.034482758620683}]
[1,2011,{"$f":"113.7*C71","v":90.023752972380009},{"$f":"113.8*D71","v":89.465408803599985},{"$f":"112.9*E71","v":88.967691093340008},{"$f":"114.2*F71","v":88.527131777280005},{"$f":"113.7*G71","v":89.316575015279994},{"$f":"111.7*H71","v":89.431545235080009},null,{"$f":"114.1*J71","v":89.984227126709996},{"$f":"112.7*K71","v":90.594855305430002},{"$f":"113.6*L71","v":88.888888893599997},{"$f":"113*M71","v":88.69701727319999},{"$f":"114.6*N71","v":88.906128877140006},{"$f":"114.6*O71","v":88.906128785459998},{"$f":"115.3*P71","v":90.787401574439997},{"$f":"113*Q71","v":90.111642746699999},null,{"$f":"215.4/S71","v":94.806338028169023},{"$f":"250.3/T71","v":86.608996539792386},{"$f":"266.7/U71","v":82.826086956521735},{"$f":"321/V71","v":77.368040491684738},{"$f":"184.2/W71","v":96.490309062336294},{"$f":"201.9/X71","v":91.939890710382514},{"$f":"189/Y71","v":94.879518072289159},{"$f":"311/Z71","v":73.349056603773576},{"$f":"307.9/AA71","v":73.222354340071334}]
[2,2011,{"$f":"114.5*C71","v":90.657165482300002},{"$f":"114.7*D71","v":90.172955973399993},{"$f":"113.8*E71","v":89.676910951479996},{"$f":"114.9*F71","v":89.069767436160006},{"$f":"114.5*G71","v":89.945011778799994},{"$f":"112.4*H71","v":89.99199359376},null,{"$f":"114.8*J71","v":90.536277599879995},{"$f":"113.4*K71","v":91.157556270059999},{"$f":"114.3*L71","v":89.436619723050001},{"$f":"113.9*M71","v":89.403453693960003},{"$f":"115.4*N71","v":89.526765029860016},{"$f":"115.4*O71","v":89.526764937540008},{"$f":"116.1*P71","v":91.417322834279986},{"$f":"113.8*Q71","v":90.749601279419991},null,{"$f":"215.9/S71","v":95.026408450704238},{"$f":"257.9/T71","v":89.238754325259507},{"$f":"272.2/U71","v":84.534161490683218},{"$f":"350.9/V71","v":84.574596288262228},{"$f":"186.6/W71","v":97.747511786275538},{"$f":"202.7/X71","v":92.304189435336966},{"$f":"190.4/Y71","v":95.582329317269085},{"$f":"322.9/Z71","v":76.155660377358487},{"$f":"319.9/AA71","v":76.076099881093924}]
[3,2011,{"$f":"116*C71","v":91.844813938400009},{"$f":"116.1*D71","v":91.273584904199993},{"$f":"115*E71","v":90.622537429000005},{"$f":"116.4*F71","v":90.232558133760008},{"$f":"115.5*G71","v":90.730557733200001},{"$f":"113.5*H71","v":90.872698157399995},null,{"$f":"116.1*J71","v":91.561514192909996},{"$f":"114.6*K71","v":92.122186495139999},{"$f":"115.9*L71","v":90.688575904649994},{"$f":"115.2*M71","v":90.423861857280002},{"$f":"116.9*N71","v":90.690457816210014},{"$f":"116.9*O71","v":90.690457722689999},{"$f":"116.9*P71","v":92.047244094120003},{"$f":"115.4*Q71","v":92.025518344860004},null,{"$f":"217.4/S71","v":95.686619718309871},{"$f":"261.5/T71","v":90.484429065743939},{"$f":"283.1/U71","v":87.9192546583851},{"$f":"374.2/V71","v":90.190407327066765},{"$f":"187.3/W71","v":98.114195914091155},{"$f":"204/X71","v":92.896174863387969},{"$f":"191.3/Y71","v":96.03413654618474},{"$f":"348.3/Z71","v":82.146226415094333},{"$f":"345.5/AA71","v":82.164090368608797}]
[4,2011,{"$f":"116.3*C71","v":92.082343629619999},{"$f":"116.4*D71","v":91.509433960799996},{"$f":"115.3*E71","v":90.858944048379996},{"$f":"116.7*F71","v":90.465116273280003},{"$f":"116.1*G71","v":91.201885305839994},{"$f":"114*H71","v":91.273018413599999},null,{"$f":"116.6*J71","v":91.955835959460003},{"$f":"114.8*K71","v":92.282958199319992},{"$f":"116.4*L71","v":91.079812211399997},{"$f":"115.6*M71","v":90.737833599839988},{"$f":"117.4*N71","v":91.078355411660013},{"$f":"117.4*O71","v":91.078355317740005},{"$f":"117.1*P71","v":92.204724409079986},{"$f":"115.6*Q71","v":92.185007978039991},null,{"$f":"216/S71","v":95.070422535211279},{"$f":"261.6/T71","v":90.51903114186851},{"$f":"292.7/U71","v":90.90062111801241},{"$f":"396.8/V71","v":95.637503012774161},{"$f":"187.5/W71","v":98.218962807752746},{"$f":"204/X71","v":92.896174863387969},{"$f":"191.8/Y71","v":96.285140562248998},{"$f":"376.1/Z71","v":88.702830188679243},{"$f":"371.1/AA71","v":88.252080856123669}]
[5,2011,{"$f":"116.9*C71","v":92.557403012060007},{"$f":"116.9*D71","v":91.9025157218},{"$f":"115.9*E71","v":91.331757287140007},{"$f":"117.1*F71","v":90.775193792639996},{"$f":"116.5*G71","v":91.516103687599994},{"$f":"114.7*H71","v":91.833466772280005},null,{"$f":"117.2*J71","v":92.429022079320006},{"$f":"115.4*K71","v":92.76527331186},{"$f":"117*L71","v":91.5492957795},{"$f":"116.1*M71","v":91.130298278039987},{"$f":"117.8*N71","v":91.388673488020004},{"$f":"117.8*O71","v":91.388673393779996},{"$f":"117.7*P71","v":92.677165353959992},{"$f":"116.3*Q71","v":92.743221694170003},null,{"$f":"215.7/S71","v":94.938380281690144},{"$f":"261.3/T71","v":90.415224913494811},{"$f":"294/U71","v":91.304347826086953},{"$f":"392.3/V71","v":94.552904314292604},{"$f":"187.5/W71","v":98.218962807752746},{"$f":"205.5/X71","v":93.579234972677583},{"$f":"193.3/Y71","v":97.03815261044177},{"$f":"382.4/Z71","v":90.188679245283012},{"$f":"377.5/AA71","v":89.77407847800238}]
[6,2011,{"$f":"117.3*C71","v":92.874109267020003},{"$f":"117.1*D71","v":92.059748426199988},{"$f":"116.6*E71","v":91.883372732360002},{"$f":"117.4*F71","v":91.007751932160005},{"$f":"117.2*G71","v":92.065985855679997},{"$f":"115.3*H71","v":92.313851079719996},null,{"$f":"117.5*J71","v":92.665615139250008},{"$f":"116*K71","v":93.247588424399993},{"$f":"117.8*L71","v":92.175273870299989},{"$f":"116.9*M71","v":91.758241763160001},{"$f":"118.2*N71","v":91.698991564380009},{"$f":"118.2*O71","v":91.698991469820001},{"$f":"117.8*P71","v":92.755905511439991},{"$f":"116.6*Q71","v":92.982456143939999},null,{"$f":"216.1/S71","v":95.114436619718319},{"$f":"265.2/T71","v":91.764705882352928},{"$f":"294.4/U71","v":91.428571428571416},{"$f":"380.9/V71","v":91.805254278139302},{"$f":"188.8/W71","v":98.899947616553177},{"$f":"205.5/X71","v":93.579234972677583},{"$f":"194/Y71","v":97.389558232931734},{"$f":"367.3/Z71","v":86.627358490566039},{"$f":"362.3/AA71","v":86.159334126040434}]
[7,2011,{"$f":"118.1*C71","v":93.507521776939996},{"$f":"118.4*D71","v":93.081761004800001},{"$f":"117.5*E71","v":92.592592590500004},{"$f":"119.9*F71","v":92.945736428160004},{"$f":"118.2*G71","v":92.851531810080004},{"$f":"116.2*H71","v":93.034427540880003},null,{"$f":"118.4*J71","v":93.375394319040012},{"$f":"116.9*K71","v":93.971061093209997},{"$f":"118.9*L71","v":93.035993745149995},{"$f":"117.8*M71","v":92.464678183919986},{"$f":"119.9*N71","v":93.017843388910009},{"$f":"119.9*O71","v":93.017843292990008},{"$f":"119*P71","v":93.700787401199989},{"$f":"117.1*Q71","v":93.381180226889995},null,{"$f":"219/S71","v":96.390845070422543},{"$f":"267.7/T71","v":92.62975778546712},{"$f":"296.2/U71","v":91.987577639751549},{"$f":"378.3/V71","v":91.178597252349959},{"$f":"189.2/W71","v":99.109481403876373},{"$f":"210.1/X71","v":95.673952641165741},{"$f":"193.9/Y71","v":97.339357429718874},{"$f":"363/Z71","v":85.613207547169807},{"$f":"357.9/AA71","v":85.112960760998803}]
[8,2011,{"$f":"118.4*C71","v":93.745051468160014},{"$f":"118.6*D71","v":93.238993709199988},{"$f":"117.7*E71","v":92.750197003419999},{"$f":"120.3*F71","v":93.255813947519997},{"$f":"118.4*G71","v":93.008641000959997},{"$f":"116.5*H71","v":93.274619694600005},null,{"$f":"118.7*J71","v":93.611987378969999},{"$f":"117*K71","v":94.0514469453},{"$f":"119.1*L71","v":93.192488267849996},{"$f":"118.2*M71","v":92.77864992648},{"$f":"120.2*N71","v":93.250581946180006},{"$f":"120.2*O71","v":93.250581850019998},{"$f":"119.1*P71","v":93.779527558679987},{"$f":"117.6*Q71","v":93.779904309839992},null,{"$f":"219.7/S71","v":96.698943661971839},{"$f":"268.8/T71","v":93.010380622837374},{"$f":"296.9/U71","v":92.204968944099363},{"$f":"377.7/V71","v":91.033984092552416},{"$f":"189.3/W71","v":99.161864850707175},{"$f":"214.1/X71","v":97.495446265938057},{"$f":"194.3/Y71","v":97.540160642570285},{"$f":"368.9/Z71","v":87.004716981132063},{"$f":"363.9/AA71","v":86.539833531510098}]
[9,2011,{"$f":"118.9*C71","v":94.140934286860016},{"$f":"119.1*D71","v":93.632075470199993},{"$f":"118.1*E71","v":93.065405829260001},{"$f":"120.8*F71","v":93.643410846720002},{"$f":"118.7*G71","v":93.244304787280001},{"$f":"116.8*H71","v":93.514811848319994},null,{"$f":"119.1*J71","v":93.927444792209997},{"$f":"117.1*K71","v":94.13183279738999},{"$f":"119.5*L71","v":93.505477313249997},{"$f":"118.4*M71","v":92.93563579776},{"$f":"120.8*N71","v":93.716059060719999},{"$f":"120.8*O71","v":93.716058964079991},{"$f":"119.7*P71","v":94.251968503559993},{"$f":"118*Q71","v":94.098883576199995},null,{"$f":"220.2/S71","v":96.91901408450704},{"$f":"272.6/T71","v":94.325259515570934},{"$f":"294.9/U71","v":91.583850931677006},{"$f":"377.7/V71","v":91.033984092552416},{"$f":"189.1/W71","v":99.057097957045571},{"$f":"213.8/X71","v":97.358834244080143},{"$f":"194.3/Y71","v":97.540160642570285},{"$f":"368.9/Z71","v":87.004716981132063},{"$f":"363.9/AA71","v":86.539833531510098}]
[10,2011,{"$f":"119.4*C71","v":94.536817105560004},{"$f":"119.7*D71","v":94.103773583399999},{"$f":"118.9*E71","v":93.695823480940007},{"$f":"121.7*F71","v":94.34108526528},{"$f":"119.4*G71","v":93.794186955360004},{"$f":"117.7*H71","v":94.235388309480001},null,{"$f":"119.7*J71","v":94.40063091207},{"$f":"117.8*K71","v":94.694533762020001},{"$f":"120.2*L71","v":94.053208142700001},{"$f":"119.3*M71","v":93.642072218519985},{"$f":"121.5*N71","v":94.259115694350001},{"$f":"121.5*O71","v":94.25911559715},{"$f":"120.4*P71","v":94.803149605919998},{"$f":"118.8*Q71","v":94.736842108920001},null,{"$f":"221.6/S71","v":97.535211267605646},{"$f":"276.9/T71","v":95.813148788927322},{"$f":"296.3/U71","v":92.018633540372676},{"$f":"392.4/V71","v":94.577006507592188},{"$f":"187.6/W71","v":98.271346254583548},{"$f":"213.2/X71","v":97.085610200364286},{"$f":"193.9/Y71","v":97.339357429718874},{"$f":"382.8/Z71","v":90.283018867924525},{"$f":"377.9/AA71","v":89.869203329369796}]
[11,2011,{"$f":"119.5*C71","v":94.615993669300011},{"$f":"120.1*D71","v":94.418238992199989},{"$f":"119.2*E71","v":93.932230100319998},{"$f":"122.1*F71","v":94.651162784639993},{"$f":"119.9*G71","v":94.186959932560001},{"$f":"118.1*H71","v":94.55564451443999},null,{"$f":"120.1*J71","v":94.716088325309997},{"$f":"117.9*K71","v":94.774919614110004},{"$f":"120.6*L71","v":94.366197188099989},{"$f":"119.4*M71","v":93.720565154159999},{"$f":"121.8*N71","v":94.491854251619998},{"$f":"121.8*O71","v":94.49185415417999},{"$f":"120.5*P71","v":94.881889763399997},{"$f":"118.9*Q71","v":94.816586925510009},null,{"$f":"223.2/S71","v":98.239436619718319},{"$f":"286.2/T71","v":99.031141868512108},{"$f":"303.7/U71","v":94.31677018633539},{"$f":"413.1/V71","v":99.566160520607383},{"$f":"187.7/W71","v":98.323729701414351},{"$f":"213.4/X71","v":97.17668488160291},{"$f":"194.3/Y71","v":97.540160642570285},{"$f":"397.1/Z71","v":93.655660377358487},{"$f":"392.3/AA71","v":93.29369797859691}]
[12,2011,{"$f":"119.7*C71","v":94.774346796780009},{"$f":"120.3*D71","v":94.57547169659999},{"$f":"119.4*E71","v":94.089834513240007},{"$f":"122.4*F71","v":94.883720924160002},{"$f":"120.1*G71","v":94.344069123439994},{"$f":"118.4*H71","v":94.795836668160007},null,{"$f":"120.3*J71","v":94.873817031930002},{"$f":"118*K71","v":94.855305466199994},{"$f":"120.8*L71","v":94.52269171079999},{"$f":"119.7*M71","v":93.956043961079999},{"$f":"122.3*N71","v":94.879751847069997},{"$f":"122.3*O71","v":94.879751749229996},{"$f":"120.9*P71","v":95.196850393319991},{"$f":"119.2*Q71","v":95.055821375280004},null,{"$f":"223.6/S71","v":98.41549295774648},{"$f":"286.5/T71","v":99.134948096885807},{"$f":"311.1/U71","v":96.614906832298132},{"$f":"419.9/V71","v":101.2051096649795},{"$f":"188.4/W71","v":98.690413829229968},{"$f":"213.7/X71","v":97.313296903460824},{"$f":"195.1/Y71","v":97.941767068273094},{"$f":"409.4/Z71","v":96.556603773584897},{"$f":"411.1/AA71","v":97.764565992865641}]
[1,2012,{"$f":"120.2*C71","v":95.170229615480011},{"$f":"120.8*D71","v":94.968553457599995},{"$f":"119.6*E71","v":94.247438926160001},{"$f":"123.3*F71","v":95.58139534272},{"$f":"120.8*G71","v":94.893951291519997},{"$f":"118.6*H71","v":94.955964770639994},null,{"$f":"121.2*J71","v":95.583596211720007},{"$f":"118.8*K71","v":95.498392282919994},{"$f":"121.5*L71","v":95.070422540249993},{"$f":"119.5*M71","v":93.799058089799999},{"$f":"123*N71","v":95.422808480699999},{"$f":"123*O71","v":95.422808382299991},{"$f":"121.8*P71","v":95.905511810639993},{"$f":"119.7*Q71","v":95.454545458230001},null,{"$f":"224.5/S71","v":98.811619718309871},{"$f":"287.7/T71","v":99.550173010380618},{"$f":"312/U71","v":96.894409937888199},{"$f":"409.3/V71","v":98.650277175222953},{"$f":"188.6/W71","v":98.795180722891558},{"$f":"213.7/X71","v":97.313296903460824},{"$f":"194.9/Y71","v":97.841365461847388},{"$f":"407.4/Z71","v":96.084905660377345},{"$f":"402.7/AA71","v":95.766944114149823}]
[2,2012,{"$f":"120.8*C71","v":95.645288997920005},{"$f":"121.4*D71","v":95.440251570800001},{"$f":"120.6*E71","v":95.035460990760001},{"$f":"124*F71","v":96.124031001600002},{"$f":"121.6*G71","v":95.522388055039997},{"$f":"119.3*H71","v":95.51641312932},null,{"$f":"121.8*J71","v":96.056782331579996},{"$f":"119.5*K71","v":96.061093247550005},{"$f":"122.3*L71","v":95.696400631049997},{"$f":"121.2*M71","v":95.133437995679998},{"$f":"123.9*N71","v":96.121024152510003},{"$f":"123.9*O71","v":96.121024053390002},{"$f":"122.5*P71","v":96.456692912999998},{"$f":"120.5*Q71","v":96.092503990950007},null,{"$f":"226.6/S71","v":99.735915492957758},{"$f":"290.5/T71","v":100.51903114186851},{"$f":"318/U71","v":98.757763975155271},{"$f":"409/V71","v":98.577970595324174},{"$f":"189.4/W71","v":99.214248297537978},{"$f":"214.7/X71","v":97.768670309653899},{"$f":"195.3/Y71","v":98.0421686746988},{"$f":"407.4/Z71","v":96.084905660377345},{"$f":"402.3/AA71","v":95.671819262782407}]
[3,2012,{"$f":"122.1*C71","v":96.67458432654},{"$f":"122.8*D71","v":96.540880501599986},{"$f":"122.7*E71","v":96.690307326419997},{"$f":"125*F71","v":96.899224799999999},{"$f":"122.6*G71","v":96.30793400943999},{"$f":"120.7*H71","v":96.637309846679997},null,{"$f":"123.3*J71","v":97.239747631230003},{"$f":"120.7*K71","v":97.025723472630006},{"$f":"123.3*L71","v":96.478873244549987},{"$f":"122.7*M71","v":96.310832030279997},{"$f":"125.1*N71","v":97.051978381590004},{"$f":"125.1*O71","v":97.051978281509989},{"$f":"123.4*P71","v":97.16535433032},{"$f":"121.6*Q71","v":96.969696973439994},null,{"$f":"228.2/S71","v":100.44014084507043},{"$f":"290.5/T71","v":100.51903114186851},{"$f":"317.3/U71","v":98.540372670807457},{"$f":"414.2/V71","v":99.831284646902859},{"$f":"188.2/W71","v":98.585646935568349},{"$f":"214.4/X71","v":97.632058287795985},{"$f":"194.8/Y71","v":97.791164658634543},{"$f":"411.4/Z71","v":97.028301886792448},{"$f":"406.7/AA71","v":96.71819262782401}]
[4,2012,{"$f":"122.7*C71","v":97.149643708980008},{"$f":"123.3*D71","v":96.933962262599991},{"$f":"123.3*E71","v":97.163120565179995},{"$f":"125.2*F71","v":97.05426355968001},{"$f":"123*G71","v":96.62215239119999},{"$f":"121.3*H71","v":97.117694154120002},null,{"$f":"123.8*J71","v":97.634069397779996},{"$f":"121.2*K71","v":97.427652733079995},{"$f":"123.8*L71","v":96.87010955129999},{"$f":"123.1*M71","v":96.624803772839982},{"$f":"125.7*N71","v":97.517455496130012},{"$f":"125.7*O71","v":97.517455395569996},{"$f":"124.1*P71","v":97.71653543267999},{"$f":"122.1*Q71","v":97.368421056389991},null,{"$f":"227.9/S71","v":100.30809859154931},{"$f":"290.4/T71","v":100.48442906574394},{"$f":"317.1/U71","v":98.478260869565219},{"$f":"422.2/V71","v":101.75946011087008},{"$f":"188.6/W71","v":98.795180722891558},{"$f":"218/X71","v":99.271402550091068},{"$f":"198.6/Y71","v":99.698795180722882},{"$f":"431.6/Z71","v":101.79245283018868},{"$f":"425.5/AA71","v":101.18906064209274}]
[5,2012,{"$f":"122.9*C71","v":97.307996836460006},{"$f":"123.5*D71","v":97.091194966999993},{"$f":"123.6*E71","v":97.39952718456},{"$f":"125.3*F71","v":97.131782939519994},{"$f":"123.3*G71","v":96.857816177519993},{"$f":"121.4*H71","v":97.197758205360003},null,{"$f":"123.9*J71","v":97.712933751090006},{"$f":"121.2*K71","v":97.427652733079995},{"$f":"124*L71","v":97.026604073999991},{"$f":"123*M71","v":96.546310837199997},{"$f":"125.6*N71","v":97.439875977040003},{"$f":"125.6*O71","v":97.439875876559995},{"$f":"124*P71","v":97.637795275199991},{"$f":"122.1*Q71","v":97.368421056389991},null,{"$f":"226.9/S71","v":99.867957746478879},{"$f":"288.9/T71","v":99.965397923875415},{"$f":"323/U71","v":100.31055900621118},{"$f":"426.6/V71","v":102.81995661605207},{"$f":"190.3/W71","v":99.6856993190152},{"$f":"218.8/X71","v":99.635701275045534},{"$f":"199.4/Y71","v":100.10040160642571},{"$f":"435.6/Z71","v":102.73584905660377},{"$f":"429.5/AA71","v":102.14030915576694}]
[6,2012,{"$f":"123.2*C71","v":97.545526527680011},{"$f":"124*D71","v":97.484276727999998},{"$f":"123.8*E71","v":97.557131597479994},{"$f":"125.2*F71","v":97.05426355968001},{"$f":"124.2*G71","v":97.564807536480004},{"$f":"121.7*H71","v":97.437950359080006},null,{"$f":"123.7*J71","v":97.55520504447},{"$f":"121.8*K71","v":97.909967845620002},{"$f":"124.5*L71","v":97.417840380749993},{"$f":"123.8*M71","v":97.174254322319996},{"$f":"125.6*N71","v":97.439875977040003},{"$f":"125.6*O71","v":97.439875876559995},{"$f":"124.2*P71","v":97.795275590160003},{"$f":"121.9*Q71","v":97.208931423210004},null,{"$f":"226.8/S71","v":99.823943661971839},{"$f":"289.1/T71","v":100.03460207612457},{"$f":"324/U71","v":100.62111801242236},{"$f":"410.3/V71","v":98.891299108218846},{"$f":"190.8/W71","v":99.947616553169198},{"$f":"219.1/X71","v":99.772313296903448},{"$f":"199.9/Y71","v":100.35140562248996},{"$f":"425.7/Z71","v":100.40094339622641},{"$f":"421.1/AA71","v":100.14268727705114}]
[7,2012,{"$f":"123.6*C71","v":97.862232782640007},{"$f":"124.7*D71","v":98.03459119339999},{"$f":"124.2*E71","v":97.872340423319997},{"$f":"126.5*F71","v":98.062015497600001},{"$f":"124.6*G71","v":97.879025918239989},{"$f":"121.9*H71","v":97.598078461560007},null,{"$f":"124.3*J71","v":98.028391164330003},{"$f":"122.2*K71","v":98.231511253980003},{"$f":"124.8*L71","v":97.652582164799995},{"$f":"123.9*M71","v":97.252747257959996},{"$f":"125.9*N71","v":97.672614534310014},{"$f":"125.9*O71","v":97.672614433589999},{"$f":"124.8*P71","v":98.267716535039995},{"$f":"122.5*Q71","v":97.687400322749994},null,{"$f":"227.1/S71","v":99.95598591549296},{"$f":"289.9/T71","v":100.3114186851211},{"$f":"325.3/U71","v":101.02484472049689},{"$f":"378.6/V71","v":91.250903832248738},{"$f":"191/W71","v":100.0523834468308},{"$f":"220.2/X71","v":100.27322404371583},{"$f":"200/Y71","v":100.40160642570281},{"$f":"401.1/Z71","v":94.59905660377359},{"$f":"394.3/AA71","v":93.769322235434004}]
[8,2012,{"$f":"123.8*C71","v":98.020585910120005},{"$f":"124.9*D71","v":98.191823897799992},{"$f":"124.4*E71","v":98.029944836240006},{"$f":"126.8*F71","v":98.294573637119996},{"$f":"124.7*G71","v":97.95758051368},{"$f":"122.1*H71","v":97.758206564039995},null,{"$f":"124.5*J71","v":98.186119870950009},{"$f":"122.4*K71","v":98.392282958159996},{"$f":"125.3*L71","v":98.043818471549997},{"$f":"124.5*M71","v":97.723704871799995},{"$f":"126.3*N71","v":97.982932610670005},{"$f":"126.3*O71","v":97.98293250962999},{"$f":"124.9*P71","v":98.346456692519993},{"$f":"122.8*Q71","v":97.926634772520003},null,{"$f":"227.9/S71","v":100.30809859154931},{"$f":"290/T71","v":100.34602076124567},{"$f":"324.2/U71","v":100.68322981366458},{"$f":"388/V71","v":93.516510002410214},{"$f":"191.5/W71","v":100.3143006809848},{"$f":"219.1/X71","v":99.772313296903448},{"$f":"200.5/Y71","v":100.65261044176707},{"$f":"406.6/Z71","v":95.896226415094347},{"$f":"399.9/AA71","v":95.101070154577883}]
[9,2012,{"$f":"124.9*C71","v":98.891528111260016},{"$f":"125.7*D71","v":98.8207547154},{"$f":"125.4*E71","v":98.817966900840005},{"$f":"128*F71","v":99.224806195200003},{"$f":"125.9*G71","v":98.90023565896},{"$f":"123.3*H71","v":98.718975178920005},null,{"$f":"125.5*J71","v":98.974763404050009},{"$f":"123.3*K71","v":99.11575562697},{"$f":"126.3*L71","v":98.826291085049988},{"$f":"126.2*M71","v":99.058084777679994},{"$f":"127.3*N71","v":98.758727801570004},{"$f":"127.3*O71","v":98.758727699729988},{"$f":"126*P71","v":99.212598424799992},{"$f":"124.1*Q71","v":98.963317388189992},null,{"$f":"227.5/S71","v":100.13204225352113},{"$f":"289.8/T71","v":100.27681660899654},{"$f":"323.5/U71","v":100.46583850931677},{"$f":"412.7/V71","v":99.469751747409006},{"$f":"192.5/W71","v":100.83813514929282},{"$f":"223.2/X71","v":101.63934426229507},{"$f":"200.6/Y71","v":100.70281124497991},{"$f":"434/Z71","v":102.35849056603773},{"$f":"427.5/AA71","v":101.66468489892985}]
[10,2012,{"$f":"125.5*C71","v":99.36658749370001},{"$f":"126.5*D71","v":99.449685532999993},{"$f":"126.1*E71","v":99.36958234606},{"$f":"128.6*F71","v":99.689922474239992},{"$f":"126.7*G71","v":99.52867242248},{"$f":"124.1*H71","v":99.359487588839997},null,{"$f":"126.3*J71","v":99.605678230530003},{"$f":"124*K71","v":99.678456591599996},{"$f":"127.3*L71","v":99.608763698549993},{"$f":"127.1*M71","v":99.764521198439994},{"$f":"128.2*N71","v":99.456943473379994},{"$f":"128.2*O71","v":99.456943370819985},{"$f":"126.5*P71","v":99.6062992122},{"$f":"124.9*Q71","v":99.601275920909998},null,{"$f":"226.8/S71","v":99.823943661971839},{"$f":"285.9/T71","v":98.927335640138395},{"$f":"324/U71","v":100.62111801242236},{"$f":"433/V71","v":104.36249698722584},{"$f":"192.5/W71","v":100.83813514929282},{"$f":"224.1/X71","v":102.04918032786884},{"$f":"201.4/Y71","v":101.10441767068274},{"$f":"436.4/Z71","v":102.92452830188678},{"$f":"443.5/AA71","v":105.46967895362663}]
[11,2012,{"$f":"125.8*C71","v":99.60411718492},{"$f":"126.9*D71","v":99.764150941799997},{"$f":"126.4*E71","v":99.605988965440005},{"$f":"129*F71","v":99.999999993599999},{"$f":"126.9*G71","v":99.685781613360007},{"$f":"124.4*H71","v":99.599679742559999},null,{"$f":"126.6*J71","v":99.84227129045999},{"$f":"124.3*K71","v":99.919614147869993},{"$f":"127.5*L71","v":99.765258221249994},{"$f":"127.3*M71","v":99.921507069719993},{"$f":"128.6*N71","v":99.767261549739999},{"$f":"128.6*O71","v":99.76726144685999},{"$f":"126.8*P71","v":99.842519684639996},{"$f":"125.1*Q71","v":99.76076555409},null,{"$f":"227.5/S71","v":100.13204225352113},{"$f":"285.9/T71","v":98.927335640138395},{"$f":"326.4/U71","v":101.36645962732918},{"$f":"439.3/V71","v":105.88093516510003},{"$f":"193.2/W71","v":101.20481927710843},{"$f":"225.1/X71","v":102.50455373406191},{"$f":"202.1/Y71","v":101.45582329317268},{"$f":"446.3/Z71","v":105.25943396226415},{"$f":"447.5/AA71","v":106.42092746730083}]
[12,2012,{"$f":"126.3*C71","v":100.00000000362},{"$f":"127.2*D71","v":99.9999999984},{"$f":"126.9*E71","v":99.999999997740005},{"$f":"129*F71","v":99.999999993599999},{"$f":"127.3*G71","v":99.999999995119992},{"$f":"124.9*H71","v":99.999999998760003},null,{"$f":"126.8*J71","v":99.999999997079996},{"$f":"124.4*K71","v":99.999999999959996},{"$f":"127.8*L71","v":100.0000000053},{"$f":"127.4*M71","v":100.00000000535999},{"$f":"128.9*N71","v":100.00000010701001},{"$f":"128.9*O71","v":100.00000000389001},{"$f":"127*P71","v":99.999999999599993},{"$f":"125.4*Q71","v":100.00000000386001},null,{"$f":"228.2/S71","v":100.44014084507043},{"$f":"289/T71","v":100},{"$f":"329.3/U71","v":102.26708074534162},{"$f":"435.9/V71","v":105.06146059291395},{"$f":"193.7/W71","v":101.46673651126244},{"$f":"225.3/X71","v":102.59562841530054},{"$f":"202.6/Y71","v":101.70682730923694},{"$f":"444.4/Z71","v":104.81132075471697},{"$f":"445.5/AA71","v":105.94530321046373}]
[]
[null,null,0.79176563740000006,0.78616352199999995,0.78802206460000002,0.77519379840000002,0.78554595439999997,0.8006405124,null,0.78864353310000002,0.80385852089999998,0.78247261349999997,0.78492935639999994,0.77579519090000004,0.77579519009999998,0.78740157479999995,0.79744816590000001,null,2.2719999999999998,2.89,3.22,4.149,1.909,2.1960000000000002,1.992,4.24,4.2050000000000001]